| Back to Multiple platform build/check report for BioC 3.6 |
|
This page was generated on 2018-04-03 14:54:29 -0400 (Tue, 03 Apr 2018).
| Package 319/1472 | Hostname | OS / Arch | INSTALL | BUILD | CHECK | BUILD BIN | ||||||
| customProDB 1.18.0 xiaojing wang
| malbec1 | Linux (Ubuntu 16.04.1 LTS) / x86_64 | OK | ERROR | skipped | |||||||
| tokay1 | Windows Server 2012 R2 Standard / x64 | OK | ERROR | skipped | skipped | |||||||
| veracruz1 | OS X 10.11.6 El Capitan / x86_64 | OK | OK | [ OK ] | OK |
| Package: customProDB |
| Version: 1.18.0 |
| Command: /Library/Frameworks/R.framework/Versions/Current/Resources/bin/R CMD check --no-vignettes --timings customProDB_1.18.0.tar.gz |
| StartedAt: 2018-04-03 02:27:07 -0400 (Tue, 03 Apr 2018) |
| EndedAt: 2018-04-03 02:33:15 -0400 (Tue, 03 Apr 2018) |
| EllapsedTime: 367.8 seconds |
| RetCode: 0 |
| Status: OK |
| CheckDir: customProDB.Rcheck |
| Warnings: 0 |
##############################################################################
##############################################################################
###
### Running command:
###
### /Library/Frameworks/R.framework/Versions/Current/Resources/bin/R CMD check --no-vignettes --timings customProDB_1.18.0.tar.gz
###
##############################################################################
##############################################################################
* using log directory ‘/Users/biocbuild/bbs-3.6-bioc/meat/customProDB.Rcheck’
* using R version 3.4.4 (2018-03-15)
* using platform: x86_64-apple-darwin15.6.0 (64-bit)
* using session charset: UTF-8
* using option ‘--no-vignettes’
* checking for file ‘customProDB/DESCRIPTION’ ... OK
* checking extension type ... Package
* this is package ‘customProDB’ version ‘1.18.0’
* checking package namespace information ... OK
* checking package dependencies ... OK
* checking if this is a source package ... OK
* checking if there is a namespace ... OK
* checking for hidden files and directories ... OK
* checking for portable file names ... OK
* checking for sufficient/correct file permissions ... OK
* checking whether package ‘customProDB’ can be installed ... OK
* checking installed package size ... OK
* checking package directory ... OK
* checking ‘build’ directory ... OK
* checking DESCRIPTION meta-information ... NOTE
Packages listed in more than one of Depends, Imports, Suggests, Enhances:
‘IRanges’ ‘biomaRt’ ‘AnnotationDbi’
A package should be listed in only one of these fields.
* checking top-level files ... OK
* checking for left-over files ... OK
* checking index information ... OK
* checking package subdirectories ... OK
* checking R files for non-ASCII characters ... OK
* checking R files for syntax errors ... OK
* checking whether the package can be loaded ... OK
* checking whether the package can be loaded with stated dependencies ... OK
* checking whether the package can be unloaded cleanly ... OK
* checking whether the namespace can be loaded with stated dependencies ... OK
* checking whether the namespace can be unloaded cleanly ... OK
* checking dependencies in R code ... NOTE
Unexported objects imported by ':::' calls:
‘biomaRt:::martBM’ ‘biomaRt:::martDataset’ ‘biomaRt:::martHost’
See the note in ?`:::` about the use of this operator.
* checking S3 generic/method consistency ... OK
* checking replacement functions ... OK
* checking foreign function calls ... OK
* checking R code for possible problems ... NOTE
Bed2Range: no visible binding for global variable ‘V5’
OutputNovelJun: no visible binding for global variable ‘jun_type’
OutputVarproseq: no visible binding for global variable ‘genename’
OutputVarproseq: no visible binding for global variable ‘txname’
OutputVarproseq: no visible binding for global variable ‘proname’
OutputVarproseq: no visible binding for global variable ‘aaref’
OutputVarproseq: no visible binding for global variable ‘aapos’
OutputVarproseq: no visible binding for global variable ‘aavar’
OutputVarproseq: no visible binding for global variable ‘rsid’
OutputVarproseq_single: no visible binding for global variable
‘genename’
OutputVarproseq_single: no visible binding for global variable ‘txname’
OutputVarproseq_single: no visible binding for global variable
‘proname’
OutputVarproseq_single: no visible binding for global variable ‘aaref’
OutputVarproseq_single: no visible binding for global variable ‘aapos’
OutputVarproseq_single: no visible binding for global variable ‘aavar’
OutputVarproseq_single: no visible binding for global variable ‘rsid’
Outputaberrant: no visible binding for global variable ‘pro_name’
Positionincoding: no visible binding for global variable ‘cds_start’
Positionincoding: no visible binding for global variable ‘cds_end’
PrepareAnnotationEnsembl: no visible binding for global variable
‘ensembl_gene_id’
PrepareAnnotationEnsembl: no visible binding for global variable
‘pro_name’
PrepareAnnotationEnsembl: no visible global function definition for
‘saveDb’
PrepareAnnotationEnsembl: no visible binding for global variable
‘chrom’
PrepareAnnotationEnsembl: no visible binding for global variable ‘name’
PrepareAnnotationEnsembl: no visible binding for global variable
‘alleleCount’
PrepareAnnotationEnsembl: no visible binding for global variable
‘alleles’
PrepareAnnotationRefseq: no visible global function definition for
‘saveDb’
PrepareAnnotationRefseq: no visible binding for global variable
‘mrnaAcc’
PrepareAnnotationRefseq: no visible binding for global variable ‘name’
PrepareAnnotationRefseq: no visible binding for global variable
‘protAcc’
PrepareAnnotationRefseq: no visible binding for global variable
‘transcript’
PrepareAnnotationRefseq: no visible binding for global variable ‘chrom’
PrepareAnnotationRefseq: no visible binding for global variable
‘alleleCount’
PrepareAnnotationRefseq: no visible binding for global variable
‘alleles’
Varlocation: no visible binding for global variable ‘pro_name’
Undefined global functions or variables:
V5 aapos aaref aavar alleleCount alleles cds_end cds_start chrom
ensembl_gene_id genename jun_type mrnaAcc name pro_name proname
protAcc rsid saveDb transcript txname
* checking Rd files ... OK
* checking Rd metadata ... OK
* checking Rd cross-references ... OK
* checking for missing documentation entries ... OK
* checking for code/documentation mismatches ... OK
* checking Rd \usage sections ... OK
* checking Rd contents ... OK
* checking for unstated dependencies in examples ... OK
* checking sizes of PDF files under ‘inst/doc’ ... OK
* checking installed files from ‘inst/doc’ ... OK
* checking files in ‘vignettes’ ... OK
* checking examples ... OK
Examples with CPU or elapsed time > 5s
user system elapsed
PrepareAnnotationRefseq 35.796 1.088 106.501
PrepareAnnotationEnsembl 5.557 0.095 27.539
* checking for unstated dependencies in vignettes ... OK
* checking package vignettes in ‘inst/doc’ ... OK
* checking running R code from vignettes ... SKIPPED
* checking re-building of vignette outputs ... SKIPPED
* checking PDF version of manual ... OK
* DONE
Status: 3 NOTEs
See
‘/Users/biocbuild/bbs-3.6-bioc/meat/customProDB.Rcheck/00check.log’
for details.
customProDB.Rcheck/00install.out
* installing *source* package ‘customProDB’ ... ** R ** inst ** preparing package for lazy loading ** help *** installing help indices ** building package indices ** installing vignettes ** testing if installed package can be loaded * DONE (customProDB)
customProDB.Rcheck/customProDB-Ex.timings
| name | user | system | elapsed | |
| Bed2Range | 0.509 | 0.001 | 0.517 | |
| InputVcf | 1.311 | 0.054 | 1.403 | |
| JunctionType | 1.661 | 0.012 | 1.699 | |
| Multiple_VCF | 0.515 | 0.027 | 0.548 | |
| OutputNovelJun | 2.245 | 0.028 | 2.306 | |
| OutputVarprocodingseq | 0.745 | 0.011 | 0.763 | |
| OutputVarproseq | 0.747 | 0.013 | 0.768 | |
| OutputVarproseq_single | 0.547 | 0.012 | 0.564 | |
| Outputaberrant | 0.237 | 0.009 | 0.249 | |
| Outputproseq | 0.962 | 0.008 | 0.986 | |
| OutputsharedPro | 1.806 | 0.015 | 1.861 | |
| Positionincoding | 0.383 | 0.015 | 0.407 | |
| PrepareAnnotationEnsembl | 5.557 | 0.095 | 27.539 | |
| PrepareAnnotationRefseq | 35.796 | 1.088 | 106.501 | |
| SharedJunc | 0.586 | 0.003 | 0.606 | |
| Varlocation | 0.001 | 0.000 | 0.001 | |
| aaVariation | 0.592 | 0.066 | 0.659 | |
| calculateRPKM | 0.799 | 0.012 | 0.818 | |
| easyRun | 1.815 | 0.024 | 1.868 | |
| easyRun_mul | 3.538 | 0.048 | 3.639 | |