| Back to Multiple platform build/check report for BioC 3.6 |
|
This page was generated on 2018-04-03 14:54:29 -0400 (Tue, 03 Apr 2018).
| Package 319/1472 | Hostname | OS / Arch | INSTALL | BUILD | CHECK | BUILD BIN | ||||||
| customProDB 1.18.0 xiaojing wang
| malbec1 | Linux (Ubuntu 16.04.1 LTS) / x86_64 | OK | ERROR | skipped | |||||||
| tokay1 | Windows Server 2012 R2 Standard / x64 | OK | ERROR | skipped | skipped | |||||||
| veracruz1 | OS X 10.11.6 El Capitan / x86_64 | OK | OK | OK | [ OK ] |
| Package: customProDB |
| Version: 1.18.0 |
| Command: rm -rf customProDB.buildbin-libdir && mkdir customProDB.buildbin-libdir && /Users/biocbuild/BBS/utils/build-universal.sh customProDB_1.18.0.tar.gz /Library/Frameworks/R.framework/Versions/Current/Resources/bin/R customProDB.buildbin-libdir |
| StartedAt: 2018-04-03 11:20:21 -0400 (Tue, 03 Apr 2018) |
| EndedAt: 2018-04-03 11:20:41 -0400 (Tue, 03 Apr 2018) |
| EllapsedTime: 19.8 seconds |
| RetCode: 0 |
| Status: OK |
| PackageFile: customProDB_1.18.0.tgz |
| PackageFileSize: 719.4 KiB |
############################################################################## ############################################################################## ### ### Running command: ### ### rm -rf customProDB.buildbin-libdir && mkdir customProDB.buildbin-libdir && /Users/biocbuild/BBS/utils/build-universal.sh customProDB_1.18.0.tar.gz /Library/Frameworks/R.framework/Versions/Current/Resources/bin/R customProDB.buildbin-libdir ### ############################################################################## ############################################################################## >>>>>>> >>>>>>> INSTALLATION WITH 'R CMD INSTALL --preclean --no-multiarch --library=customProDB.buildbin-libdir customProDB_1.18.0.tar.gz' >>>>>>> * installing *source* package ‘customProDB’ ... ** R ** inst ** preparing package for lazy loading ** help *** installing help indices ** building package indices ** installing vignettes ** testing if installed package can be loaded * DONE (customProDB)