| Back to Multiple platform build/check report for BioC 3.6 |
|
This page was generated on 2018-04-12 13:20:41 -0400 (Thu, 12 Apr 2018).
| Package 245/1472 | Hostname | OS / Arch | INSTALL | BUILD | CHECK | BUILD BIN | ||||||
| clst 1.26.0 Noah Hoffman
| malbec1 | Linux (Ubuntu 16.04.1 LTS) / x86_64 | OK | OK | WARNINGS | |||||||
| tokay1 | Windows Server 2012 R2 Standard / x64 | [ OK ] | OK | WARNINGS | OK | |||||||
| veracruz1 | OS X 10.11.6 El Capitan / x86_64 | OK | OK | WARNINGS | OK |
| Package: clst |
| Version: 1.26.0 |
| Command: rm -rf clst.buildbin-libdir && mkdir clst.buildbin-libdir && C:\cygwin\bin\curl.exe -O https://malbec1.bioconductor.org/BBS/3.6/bioc/src/contrib/clst_1.26.0.tar.gz && C:\Users\biocbuild\bbs-3.6-bioc\R\bin\R.exe CMD INSTALL --build --library=clst.buildbin-libdir --merge-multiarch clst_1.26.0.tar.gz && C:\Users\biocbuild\bbs-3.6-bioc\R\bin\R.exe CMD INSTALL clst_1.26.0.zip && rm clst_1.26.0.tar.gz clst_1.26.0.zip |
| StartedAt: 2018-04-11 18:22:33 -0400 (Wed, 11 Apr 2018) |
| EndedAt: 2018-04-11 18:23:14 -0400 (Wed, 11 Apr 2018) |
| EllapsedTime: 41.4 seconds |
| RetCode: 0 |
| Status: OK |
##############################################################################
##############################################################################
###
### Running command:
###
### rm -rf clst.buildbin-libdir && mkdir clst.buildbin-libdir && C:\cygwin\bin\curl.exe -O https://malbec1.bioconductor.org/BBS/3.6/bioc/src/contrib/clst_1.26.0.tar.gz && C:\Users\biocbuild\bbs-3.6-bioc\R\bin\R.exe CMD INSTALL --build --library=clst.buildbin-libdir --merge-multiarch clst_1.26.0.tar.gz && C:\Users\biocbuild\bbs-3.6-bioc\R\bin\R.exe CMD INSTALL clst_1.26.0.zip && rm clst_1.26.0.tar.gz clst_1.26.0.zip
###
##############################################################################
##############################################################################
% Total % Received % Xferd Average Speed Time Time Time Current
Dload Upload Total Spent Left Speed
0 0 0 0 0 0 0 0 --:--:-- --:--:-- --:--:-- 0
100 743k 100 743k 0 0 1656k 0 --:--:-- --:--:-- --:--:-- 1670k
install for i386
* installing *source* package 'clst' ...
** R
** data
*** moving datasets to lazyload DB
** preparing package for lazy loading
** help
*** installing help indices
converting help for package 'clst'
finding HTML links ... done
actino html
bvseqs html
classify html
clst-package html
findThreshold html
plotDistances html
Rd warning: C:/Users/biocbuild/bbs-3.6-bioc/tmpdir/RtmpmATcrN/R.INSTALLdec333d3b7c/clst/man/plotDistances.Rd:41: missing file link 'bwplot'
printClst html
scaleDistPlot html
strep html
** building package indices
** installing vignettes
** testing if installed package can be loaded
In R CMD INSTALL
install for x64
* installing *source* package 'clst' ...
** testing if installed package can be loaded
* MD5 sums
packaged installation of 'clst' as clst_1.26.0.zip
* DONE (clst)
In R CMD INSTALL
In R CMD INSTALL
* installing to library 'C:/Users/biocbuild/bbs-3.6-bioc/R/library'
package 'clst' successfully unpacked and MD5 sums checked
In R CMD INSTALL