| Back to Multiple platform build/check report for BioC 3.6 | 
  | 
This page was generated on 2018-04-12 13:20:41 -0400 (Thu, 12 Apr 2018).
| Package 245/1472 | Hostname | OS / Arch | INSTALL | BUILD | CHECK | BUILD BIN | ||||||
| clst 1.26.0 Noah Hoffman 
  | malbec1 | Linux (Ubuntu 16.04.1 LTS) / x86_64 | OK | OK | WARNINGS | |||||||
| tokay1 | Windows Server 2012 R2 Standard / x64 | OK | OK | WARNINGS | [ OK ] | |||||||
| veracruz1 | OS X 10.11.6 El Capitan / x86_64 | OK | OK | WARNINGS | OK | 
| Package: clst | 
| Version: 1.26.0 | 
| Command: cd clst.buildbin-libdir/clst && zip -r ../../clst_1.26.0.zip . & cd ../.. | 
| StartedAt: 2018-04-12 04:30:48 -0400 (Thu, 12 Apr 2018) | 
| EndedAt: 2018-04-12 04:31:25 -0400 (Thu, 12 Apr 2018) | 
| EllapsedTime: 36.7 seconds | 
| RetCode: 0 | 
| Status: OK | 
| PackageFile: clst_1.26.0.zip | 
| PackageFileSize: 3.15 MiB | 
############################################################################## ############################################################################## ### ### Running command: ### ### cd clst.buildbin-libdir/clst && zip -r ../../clst_1.26.0.zip . & cd ../.. ### ############################################################################## ############################################################################## adding: data/ (372 bytes security) (stored 0%) adding: data/Rdata.rdb (332 bytes security) (deflated 0%) adding: data/Rdata.rds (332 bytes security) (stored 0%) adding: data/Rdata.rdx (332 bytes security) (stored 0%) adding: DESCRIPTION (332 bytes security) (deflated 36%) adding: doc/ (372 bytes security) (stored 0%) adding: doc/clstDemo.pdf (332 bytes security) (deflated 14%) adding: doc/clstDemo.R (332 bytes security) (deflated 78%) adding: doc/clstDemo.Rnw (332 bytes security) (deflated 62%) adding: doc/index.html (332 bytes security) (deflated 58%) adding: help/ (372 bytes security) (stored 0%) adding: help/aliases.rds (332 bytes security) (stored 0%) adding: help/AnIndex (332 bytes security) (deflated 56%) adding: help/clst.rdb (332 bytes security) (deflated 1%) adding: help/clst.rdx (332 bytes security) (stored 0%) adding: help/paths.rds (332 bytes security) (stored 0%) adding: html/ (372 bytes security) (stored 0%) adding: html/00Index.html (332 bytes security) (deflated 70%) adding: html/actino.html (332 bytes security) (deflated 56%) adding: html/bvseqs.html (332 bytes security) (deflated 56%) adding: html/classify.html (332 bytes security) (deflated 66%) adding: html/clst-package.html (332 bytes security) (deflated 59%) adding: html/findThreshold.html (332 bytes security) (deflated 67%) adding: html/plotDistances.html (332 bytes security) (deflated 63%) adding: html/printClst.html (332 bytes security) (deflated 57%) adding: html/R.css (332 bytes security) (deflated 75%) adding: html/scaleDistPlot.html (332 bytes security) (deflated 63%) adding: html/strep.html (332 bytes security) (deflated 56%) adding: INDEX (332 bytes security) (deflated 50%) adding: MD5 (332 bytes security) (deflated 44%) adding: Meta/ (372 bytes security) (stored 0%) adding: Meta/data.rds (332 bytes security) (stored 0%) adding: Meta/features.rds (332 bytes security) (stored 0%) adding: Meta/hsearch.rds (332 bytes security) (stored 0%) adding: Meta/links.rds (332 bytes security) (stored 0%) adding: Meta/nsInfo.rds (332 bytes security) (stored 0%) adding: Meta/package.rds (332 bytes security) (stored 0%) adding: Meta/Rd.rds (332 bytes security) (stored 0%) adding: Meta/vignette.rds (332 bytes security) (stored 0%) adding: NAMESPACE (332 bytes security) (deflated 59%) adding: R/ (372 bytes security) (stored 0%) adding: R/clst (332 bytes security) (deflated 41%) adding: R/clst.rdb (332 bytes security) (deflated 1%) adding: R/clst.rdx (332 bytes security) (stored 0%)