| Back to Multiple platform build/check report for BioC 3.6 |
|
This page was generated on 2018-04-12 13:20:49 -0400 (Thu, 12 Apr 2018).
| Package 5/1472 | Hostname | OS / Arch | INSTALL | BUILD | CHECK | BUILD BIN | ||||||
| a4Preproc 1.26.0 Tobias Verbeke
| malbec1 | Linux (Ubuntu 16.04.1 LTS) / x86_64 | OK | OK | OK | |||||||
| tokay1 | Windows Server 2012 R2 Standard / x64 | [ OK ] | OK | OK | OK | |||||||
| veracruz1 | OS X 10.11.6 El Capitan / x86_64 | OK | OK | OK | OK |
| Package: a4Preproc |
| Version: 1.26.0 |
| Command: rm -rf a4Preproc.buildbin-libdir && mkdir a4Preproc.buildbin-libdir && C:\cygwin\bin\curl.exe -O https://malbec1.bioconductor.org/BBS/3.6/bioc/src/contrib/a4Preproc_1.26.0.tar.gz && C:\Users\biocbuild\bbs-3.6-bioc\R\bin\R.exe CMD INSTALL --build --library=a4Preproc.buildbin-libdir --merge-multiarch a4Preproc_1.26.0.tar.gz && C:\Users\biocbuild\bbs-3.6-bioc\R\bin\R.exe CMD INSTALL a4Preproc_1.26.0.zip && rm a4Preproc_1.26.0.tar.gz a4Preproc_1.26.0.zip |
| StartedAt: 2018-04-11 18:45:31 -0400 (Wed, 11 Apr 2018) |
| EndedAt: 2018-04-11 18:45:56 -0400 (Wed, 11 Apr 2018) |
| EllapsedTime: 25.5 seconds |
| RetCode: 0 |
| Status: OK |
##############################################################################
##############################################################################
###
### Running command:
###
### rm -rf a4Preproc.buildbin-libdir && mkdir a4Preproc.buildbin-libdir && C:\cygwin\bin\curl.exe -O https://malbec1.bioconductor.org/BBS/3.6/bioc/src/contrib/a4Preproc_1.26.0.tar.gz && C:\Users\biocbuild\bbs-3.6-bioc\R\bin\R.exe CMD INSTALL --build --library=a4Preproc.buildbin-libdir --merge-multiarch a4Preproc_1.26.0.tar.gz && C:\Users\biocbuild\bbs-3.6-bioc\R\bin\R.exe CMD INSTALL a4Preproc_1.26.0.zip && rm a4Preproc_1.26.0.tar.gz a4Preproc_1.26.0.zip
###
##############################################################################
##############################################################################
% Total % Received % Xferd Average Speed Time Time Time Current
Dload Upload Total Spent Left Speed
0 0 0 0 0 0 0 0 --:--:-- --:--:-- --:--:-- 0
100 1857 100 1857 0 0 31044 0 --:--:-- --:--:-- --:--:-- 33160
install for i386
* installing *source* package 'a4Preproc' ...
** R
** inst
** preparing package for lazy loading
** help
*** installing help indices
converting help for package 'a4Preproc'
finding HTML links ... done
addGeneInfo html
** building package indices
** testing if installed package can be loaded
In R CMD INSTALL
install for x64
* installing *source* package 'a4Preproc' ...
** testing if installed package can be loaded
* MD5 sums
packaged installation of 'a4Preproc' as a4Preproc_1.26.0.zip
* DONE (a4Preproc)
In R CMD INSTALL
In R CMD INSTALL
* installing to library 'C:/Users/biocbuild/bbs-3.6-bioc/R/library'
package 'a4Preproc' successfully unpacked and MD5 sums checked
In R CMD INSTALL