| Back to Multiple platform build/check report for BioC 3.6 |
|
This page was generated on 2018-04-12 13:20:49 -0400 (Thu, 12 Apr 2018).
| Package 5/1472 | Hostname | OS / Arch | INSTALL | BUILD | CHECK | BUILD BIN | ||||||
| a4Preproc 1.26.0 Tobias Verbeke
| malbec1 | Linux (Ubuntu 16.04.1 LTS) / x86_64 | OK | OK | OK | |||||||
| tokay1 | Windows Server 2012 R2 Standard / x64 | OK | OK | [ OK ] | OK | |||||||
| veracruz1 | OS X 10.11.6 El Capitan / x86_64 | OK | OK | OK | OK |
| Package: a4Preproc |
| Version: 1.26.0 |
| Command: rm -rf a4Preproc.buildbin-libdir a4Preproc.Rcheck && mkdir a4Preproc.buildbin-libdir a4Preproc.Rcheck && C:\Users\biocbuild\bbs-3.6-bioc\R\bin\R.exe CMD INSTALL --build --merge-multiarch --library=a4Preproc.buildbin-libdir a4Preproc_1.26.0.tar.gz >a4Preproc.Rcheck\00install.out 2>&1 && cp a4Preproc.Rcheck\00install.out a4Preproc-install.out && C:\Users\biocbuild\bbs-3.6-bioc\R\bin\R.exe CMD check --library=a4Preproc.buildbin-libdir --install="check:a4Preproc-install.out" --force-multiarch --no-vignettes --timings a4Preproc_1.26.0.tar.gz |
| StartedAt: 2018-04-11 22:04:49 -0400 (Wed, 11 Apr 2018) |
| EndedAt: 2018-04-11 22:08:11 -0400 (Wed, 11 Apr 2018) |
| EllapsedTime: 202.5 seconds |
| RetCode: 0 |
| Status: OK |
| CheckDir: a4Preproc.Rcheck |
| Warnings: 0 |
############################################################################## ############################################################################## ### ### Running command: ### ### rm -rf a4Preproc.buildbin-libdir a4Preproc.Rcheck && mkdir a4Preproc.buildbin-libdir a4Preproc.Rcheck && C:\Users\biocbuild\bbs-3.6-bioc\R\bin\R.exe CMD INSTALL --build --merge-multiarch --library=a4Preproc.buildbin-libdir a4Preproc_1.26.0.tar.gz >a4Preproc.Rcheck\00install.out 2>&1 && cp a4Preproc.Rcheck\00install.out a4Preproc-install.out && C:\Users\biocbuild\bbs-3.6-bioc\R\bin\R.exe CMD check --library=a4Preproc.buildbin-libdir --install="check:a4Preproc-install.out" --force-multiarch --no-vignettes --timings a4Preproc_1.26.0.tar.gz ### ############################################################################## ############################################################################## * using log directory 'C:/Users/biocbuild/bbs-3.6-bioc/meat/a4Preproc.Rcheck' * using R version 3.4.4 (2018-03-15) * using platform: x86_64-w64-mingw32 (64-bit) * using session charset: ISO8859-1 * using option '--no-vignettes' * checking for file 'a4Preproc/DESCRIPTION' ... OK * checking extension type ... Package * this is package 'a4Preproc' version '1.26.0' * checking package namespace information ... OK * checking package dependencies ... OK * checking if this is a source package ... OK * checking if there is a namespace ... OK * checking for hidden files and directories ... OK * checking for portable file names ... OK * checking whether package 'a4Preproc' can be installed ... OK * checking installed package size ... OK * checking package directory ... OK * checking DESCRIPTION meta-information ... NOTE Malformed Description field: should contain one or more complete sentences. * checking top-level files ... OK * checking for left-over files ... OK * checking index information ... OK * checking package subdirectories ... OK * checking R files for non-ASCII characters ... OK * checking R files for syntax errors ... OK * loading checks for arch 'i386' ** checking whether the package can be loaded ... OK ** checking whether the package can be loaded with stated dependencies ... OK ** checking whether the package can be unloaded cleanly ... OK ** checking whether the namespace can be loaded with stated dependencies ... OK ** checking whether the namespace can be unloaded cleanly ... OK * loading checks for arch 'x64' ** checking whether the package can be loaded ... OK ** checking whether the package can be loaded with stated dependencies ... OK ** checking whether the package can be unloaded cleanly ... OK ** checking whether the namespace can be loaded with stated dependencies ... OK ** checking whether the namespace can be unloaded cleanly ... OK * checking dependencies in R code ... NOTE Package in Depends field not imported from: 'methods' These packages need to be imported from (in the NAMESPACE file) for when this namespace is loaded but not attached. * checking S3 generic/method consistency ... OK * checking replacement functions ... OK * checking foreign function calls ... OK * checking R code for possible problems ... NOTE addGeneInfo: no visible global function definition for 'annotation' addGeneInfo: no visible global function definition for 'featureNames' addGeneInfo: no visible global function definition for 'featureData' addGeneInfo: no visible global function definition for 'pData' addGeneInfo: no visible global function definition for 'pData<-' addGeneInfo: no visible global function definition for 'featureData<-' addGeneInfo: no visible global function definition for 'fvarMetadata' addGeneInfo: no visible global function definition for 'fvarMetadata<-' Undefined global functions or variables: annotation featureData featureData<- featureNames fvarMetadata fvarMetadata<- pData pData<- * checking Rd files ... OK * checking Rd metadata ... OK * checking Rd cross-references ... OK * checking for missing documentation entries ... OK * checking for code/documentation mismatches ... OK * checking Rd \usage sections ... OK * checking Rd contents ... OK * checking for unstated dependencies in examples ... OK * checking examples ... ** running examples for arch 'i386' ... OK ** running examples for arch 'x64' ... OK * checking PDF version of manual ... OK * DONE Status: 3 NOTEs See 'C:/Users/biocbuild/bbs-3.6-bioc/meat/a4Preproc.Rcheck/00check.log' for details.
a4Preproc.Rcheck/00install.out
install for i386
* installing *source* package 'a4Preproc' ...
** R
** inst
** preparing package for lazy loading
** help
*** installing help indices
converting help for package 'a4Preproc'
finding HTML links ... done
addGeneInfo html
** building package indices
** testing if installed package can be loaded
In R CMD INSTALL
install for x64
* installing *source* package 'a4Preproc' ...
** testing if installed package can be loaded
* MD5 sums
packaged installation of 'a4Preproc' as a4Preproc_1.26.0.zip
* DONE (a4Preproc)
In R CMD INSTALL
In R CMD INSTALL
|
a4Preproc.Rcheck/examples_i386/a4Preproc-Ex.timings
|
a4Preproc.Rcheck/examples_x64/a4Preproc-Ex.timings
|