| Back to Multiple platform build/check report for BioC 3.6 |
|
This page was generated on 2018-04-12 13:24:31 -0400 (Thu, 12 Apr 2018).
| Package 1091/1472 | Hostname | OS / Arch | INSTALL | BUILD | CHECK | BUILD BIN | ||||||
| Pviz 1.12.0 Renan Sauteraud
| malbec1 | Linux (Ubuntu 16.04.1 LTS) / x86_64 | OK | OK | OK | |||||||
| tokay1 | Windows Server 2012 R2 Standard / x64 | [ OK ] | OK | OK | OK | |||||||
| veracruz1 | OS X 10.11.6 El Capitan / x86_64 | OK | OK | OK | OK |
| Package: Pviz |
| Version: 1.12.0 |
| Command: rm -rf Pviz.buildbin-libdir && mkdir Pviz.buildbin-libdir && C:\cygwin\bin\curl.exe -O https://malbec1.bioconductor.org/BBS/3.6/bioc/src/contrib/Pviz_1.12.0.tar.gz && C:\Users\biocbuild\bbs-3.6-bioc\R\bin\R.exe CMD INSTALL --build --library=Pviz.buildbin-libdir --merge-multiarch Pviz_1.12.0.tar.gz && C:\Users\biocbuild\bbs-3.6-bioc\R\bin\R.exe CMD INSTALL Pviz_1.12.0.zip && rm Pviz_1.12.0.tar.gz Pviz_1.12.0.zip |
| StartedAt: 2018-04-11 18:56:28 -0400 (Wed, 11 Apr 2018) |
| EndedAt: 2018-04-11 18:57:54 -0400 (Wed, 11 Apr 2018) |
| EllapsedTime: 86.0 seconds |
| RetCode: 0 |
| Status: OK |
##############################################################################
##############################################################################
###
### Running command:
###
### rm -rf Pviz.buildbin-libdir && mkdir Pviz.buildbin-libdir && C:\cygwin\bin\curl.exe -O https://malbec1.bioconductor.org/BBS/3.6/bioc/src/contrib/Pviz_1.12.0.tar.gz && C:\Users\biocbuild\bbs-3.6-bioc\R\bin\R.exe CMD INSTALL --build --library=Pviz.buildbin-libdir --merge-multiarch Pviz_1.12.0.tar.gz && C:\Users\biocbuild\bbs-3.6-bioc\R\bin\R.exe CMD INSTALL Pviz_1.12.0.zip && rm Pviz_1.12.0.tar.gz Pviz_1.12.0.zip
###
##############################################################################
##############################################################################
% Total % Received % Xferd Average Speed Time Time Time Current
Dload Upload Total Spent Left Speed
0 0 0 0 0 0 0 0 --:--:-- --:--:-- --:--:-- 0
100 200k 100 200k 0 0 1309k 0 --:--:-- --:--:-- --:--:-- 1335k
install for i386
* installing *source* package 'Pviz' ...
** R
** inst
** preparing package for lazy loading
** help
*** installing help indices
converting help for package 'Pviz'
finding HTML links ... done
ATrack html
finding level-2 HTML links ... done
CladeTrack html
DTrack html
ProbeTrack html
ProteinAxisTrack html
ProteinSequenceTrack html
plot_clade html
plot_inter html
** building package indices
** installing vignettes
'Pviz.Rnw'
** testing if installed package can be loaded
In R CMD INSTALL
install for x64
* installing *source* package 'Pviz' ...
** testing if installed package can be loaded
* MD5 sums
packaged installation of 'Pviz' as Pviz_1.12.0.zip
* DONE (Pviz)
In R CMD INSTALL
In R CMD INSTALL
* installing to library 'C:/Users/biocbuild/bbs-3.6-bioc/R/library'
package 'Pviz' successfully unpacked and MD5 sums checked
In R CMD INSTALL