| Back to Multiple platform build/check report for BioC 3.6 |
|
This page was generated on 2018-04-12 13:12:23 -0400 (Thu, 12 Apr 2018).
| Package 1091/1472 | Hostname | OS / Arch | INSTALL | BUILD | CHECK | BUILD BIN | ||||||
| Pviz 1.12.0 Renan Sauteraud
| malbec1 | Linux (Ubuntu 16.04.1 LTS) / x86_64 | OK | OK | [ OK ] | |||||||
| tokay1 | Windows Server 2012 R2 Standard / x64 | OK | OK | OK | OK | |||||||
| veracruz1 | OS X 10.11.6 El Capitan / x86_64 | OK | OK | OK | OK |
| Package: Pviz |
| Version: 1.12.0 |
| Command: /home/biocbuild/bbs-3.6-bioc/R/bin/R CMD check --no-vignettes --timings Pviz_1.12.0.tar.gz |
| StartedAt: 2018-04-12 02:01:39 -0400 (Thu, 12 Apr 2018) |
| EndedAt: 2018-04-12 02:05:29 -0400 (Thu, 12 Apr 2018) |
| EllapsedTime: 229.9 seconds |
| RetCode: 0 |
| Status: OK |
| CheckDir: Pviz.Rcheck |
| Warnings: 0 |
##############################################################################
##############################################################################
###
### Running command:
###
### /home/biocbuild/bbs-3.6-bioc/R/bin/R CMD check --no-vignettes --timings Pviz_1.12.0.tar.gz
###
##############################################################################
##############################################################################
* using log directory ‘/home/biocbuild/bbs-3.6-bioc/meat/Pviz.Rcheck’
* using R version 3.4.4 (2018-03-15)
* using platform: x86_64-pc-linux-gnu (64-bit)
* using session charset: UTF-8
* using option ‘--no-vignettes’
* checking for file ‘Pviz/DESCRIPTION’ ... OK
* checking extension type ... Package
* this is package ‘Pviz’ version ‘1.12.0’
* checking package namespace information ... OK
* checking package dependencies ... OK
* checking if this is a source package ... OK
* checking if there is a namespace ... OK
* checking for hidden files and directories ... OK
* checking for portable file names ... OK
* checking for sufficient/correct file permissions ... OK
* checking whether package ‘Pviz’ can be installed ... OK
* checking installed package size ... OK
* checking package directory ... OK
* checking ‘build’ directory ... OK
* checking DESCRIPTION meta-information ... OK
* checking top-level files ... OK
* checking for left-over files ... OK
* checking index information ... OK
* checking package subdirectories ... OK
* checking R files for non-ASCII characters ... OK
* checking R files for syntax errors ... OK
* checking whether the package can be loaded ... OK
* checking whether the package can be loaded with stated dependencies ... OK
* checking whether the package can be unloaded cleanly ... OK
* checking whether the namespace can be loaded with stated dependencies ... OK
* checking whether the namespace can be unloaded cleanly ... OK
* checking dependencies in R code ... OK
* checking S3 generic/method consistency ... OK
* checking replacement functions ... OK
* checking foreign function calls ... OK
* checking R code for possible problems ... NOTE
.makeParMapping: no visible global function definition for
'assignInNamespace'
drawGD,ProbeTrack: no visible global function definition for
'pushViewport'
drawGD,ProbeTrack: no visible global function definition for 'viewport'
drawGD,ProbeTrack: no visible global function definition for
'popViewport'
drawGD,ProbeTrack: no visible global function definition for 'unit'
drawGD,ProbeTrack: no visible global function definition for 'gpar'
drawGD,ProbeTrack: no visible global function definition for
'convertWidth'
drawGD,ProbeTrack: no visible global function definition for
'stringWidth'
drawGD,ProbeTrack: no visible global function definition for
'stringHeight'
drawGD,ProbeTrack: no visible global function definition for
'grid.text'
drawGD,ProbeTrack: no visible global function definition for
'grid.rect'
drawGD,ProbeTrack: no visible global function definition for
'dataViewport'
drawGD,ProbeTrack : <anonymous>: no visible global function definition
for 'grid.rect'
drawGD,ProbeTrack : <anonymous>: no visible global function definition
for 'gpar'
drawGD,ProbeTrack : <anonymous>: no visible global function definition
for 'grid.text'
drawGD,ProteinAxisTrack: no visible global function definition for
'pushViewport'
drawGD,ProteinAxisTrack: no visible global function definition for
'dataViewport'
drawGD,ProteinAxisTrack: no visible global function definition for
'convertHeight'
drawGD,ProteinAxisTrack: no visible global function definition for
'stringHeight'
drawGD,ProteinAxisTrack: no visible global function definition for
'popViewport'
drawGD,ProteinAxisTrack: no visible global function definition for
'.getGapPos'
drawGD,ProteinAxisTrack: no visible global function definition for
'gaps'
drawGD,ProteinAxisTrack: no visible global function definition for
'viewport'
drawGD,ProteinAxisTrack: no visible global function definition for
'grid.segments'
drawGD,ProteinAxisTrack: no visible global function definition for
'gpar'
drawGD,ProteinAxisTrack: no visible global function definition for
'coord2ext'
drawGD,ProteinAxisTrack: no visible global function definition for
'grid.text'
drawGD,ProteinAxisTrack: no visible global function definition for
'convertWidth'
drawGD,ProteinAxisTrack: no visible global function definition for
'stringWidth'
drawGD,ProteinSequenceTrack: no visible global function definition for
'pushViewport'
drawGD,ProteinSequenceTrack: no visible global function definition for
'dataViewport'
drawGD,ProteinSequenceTrack: no visible global function definition for
'gpar'
drawGD,ProteinSequenceTrack: no visible global function definition for
'popViewport'
drawGD,ProteinSequenceTrack: no visible global function definition for
'convertUnit'
drawGD,ProteinSequenceTrack: no visible global function definition for
'stringWidth'
drawGD,ProteinSequenceTrack: no visible global function definition for
'grid.lines'
drawGD,ProteinSequenceTrack: no visible global function definition for
'unit'
drawGD,ProteinSequenceTrack: no visible global function definition for
'grid.text'
drawGD,ProteinSequenceTrack: no visible global function definition for
'grid.rect'
Undefined global functions or variables:
.getGapPos assignInNamespace convertHeight convertUnit convertWidth
coord2ext dataViewport gaps gpar grid.lines grid.rect grid.segments
grid.text popViewport pushViewport stringHeight stringWidth unit
viewport
Consider adding
importFrom("utils", "assignInNamespace")
to your NAMESPACE file.
* checking Rd files ... OK
* checking Rd metadata ... OK
* checking Rd cross-references ... OK
* checking for missing documentation entries ... OK
* checking for code/documentation mismatches ... OK
* checking Rd \usage sections ... OK
* checking Rd contents ... OK
* checking for unstated dependencies in examples ... OK
* checking installed files from ‘inst/doc’ ... OK
* checking files in ‘vignettes’ ... OK
* checking examples ... OK
* checking for unstated dependencies in vignettes ... OK
* checking package vignettes in ‘inst/doc’ ... OK
* checking running R code from vignettes ... SKIPPED
* checking re-building of vignette outputs ... SKIPPED
* checking PDF version of manual ... OK
* DONE
Status: 1 NOTE
See
‘/home/biocbuild/bbs-3.6-bioc/meat/Pviz.Rcheck/00check.log’
for details.
Pviz.Rcheck/00install.out
* installing *source* package ‘Pviz’ ... ** R ** inst ** preparing package for lazy loading ** help *** installing help indices ** building package indices ** installing vignettes ** testing if installed package can be loaded * DONE (Pviz)
Pviz.Rcheck/Pviz-Ex.timings
| name | user | system | elapsed | |
| ATrack | 3.888 | 0.048 | 3.940 | |
| CladeTrack | 0.652 | 0.004 | 0.664 | |
| DTrack | 0.160 | 0.004 | 0.164 | |
| ProbeTrack | 3.716 | 0.004 | 3.722 | |
| ProteinAxisTrack | 0.448 | 0.000 | 0.447 | |
| ProteinSequenceTrack | 0.248 | 0.000 | 0.250 | |
| plot_clade | 1.752 | 0.024 | 1.778 | |
| plot_inter | 0.604 | 0.012 | 0.620 | |