| Back to Multiple platform build/check report for BioC 3.6 |
|
This page was generated on 2018-04-12 13:42:09 -0400 (Thu, 12 Apr 2018).
| Package 728/1472 | Hostname | OS / Arch | INSTALL | BUILD | CHECK | BUILD BIN | ||||||
| JunctionSeq 1.8.0 Stephen Hartley
| malbec1 | Linux (Ubuntu 16.04.1 LTS) / x86_64 | OK | OK | OK | |||||||
| tokay1 | Windows Server 2012 R2 Standard / x64 | OK | OK | OK | OK | |||||||
| veracruz1 | OS X 10.11.6 El Capitan / x86_64 | OK | OK | [ OK ] | OK |
| Package: JunctionSeq |
| Version: 1.8.0 |
| Command: /Library/Frameworks/R.framework/Versions/Current/Resources/bin/R CMD check --no-vignettes --timings JunctionSeq_1.8.0.tar.gz |
| StartedAt: 2018-04-12 05:30:05 -0400 (Thu, 12 Apr 2018) |
| EndedAt: 2018-04-12 05:34:21 -0400 (Thu, 12 Apr 2018) |
| EllapsedTime: 255.5 seconds |
| RetCode: 0 |
| Status: OK |
| CheckDir: JunctionSeq.Rcheck |
| Warnings: 0 |
##############################################################################
##############################################################################
###
### Running command:
###
### /Library/Frameworks/R.framework/Versions/Current/Resources/bin/R CMD check --no-vignettes --timings JunctionSeq_1.8.0.tar.gz
###
##############################################################################
##############################################################################
* using log directory ‘/Users/biocbuild/bbs-3.6-bioc/meat/JunctionSeq.Rcheck’
* using R version 3.4.4 (2018-03-15)
* using platform: x86_64-apple-darwin15.6.0 (64-bit)
* using session charset: UTF-8
* using option ‘--no-vignettes’
* checking for file ‘JunctionSeq/DESCRIPTION’ ... OK
* this is package ‘JunctionSeq’ version ‘1.8.0’
* checking package namespace information ... OK
* checking package dependencies ... OK
* checking if this is a source package ... OK
* checking if there is a namespace ... OK
* checking for hidden files and directories ... OK
* checking for portable file names ... OK
* checking for sufficient/correct file permissions ... OK
* checking whether package ‘JunctionSeq’ can be installed ... OK
* checking installed package size ... OK
* checking package directory ... OK
* checking ‘build’ directory ... OK
* checking DESCRIPTION meta-information ... OK
* checking top-level files ... OK
* checking for left-over files ... OK
* checking index information ... OK
* checking package subdirectories ... OK
* checking R files for non-ASCII characters ... OK
* checking R files for syntax errors ... OK
* checking whether the package can be loaded ... OK
* checking whether the package can be loaded with stated dependencies ... OK
* checking whether the package can be unloaded cleanly ... OK
* checking whether the namespace can be loaded with stated dependencies ... OK
* checking whether the namespace can be unloaded cleanly ... OK
* checking dependencies in R code ... NOTE
Packages in Depends field not imported from:
‘Rcpp’ ‘RcppArmadillo’
These packages need to be imported from (in the NAMESPACE file)
for when this namespace is loaded but not attached.
* checking S3 generic/method consistency ... OK
* checking replacement functions ... OK
* checking foreign function calls ... OK
* checking R code for possible problems ... OK
* checking Rd files ... NOTE
prepare_Rd: setJunctionSeqCompiledSourcePackage.Rd:23-25: Dropping empty section \examples
* checking Rd metadata ... OK
* checking Rd cross-references ... OK
* checking for missing documentation entries ... OK
* checking for code/documentation mismatches ... OK
* checking Rd \usage sections ... OK
* checking Rd contents ... OK
* checking for unstated dependencies in examples ... OK
* checking line endings in C/C++/Fortran sources/headers ... OK
* checking line endings in Makefiles ... OK
* checking compilation flags in Makevars ... OK
* checking for GNU extensions in Makefiles ... OK
* checking for portable use of $(BLAS_LIBS) and $(LAPACK_LIBS) ... OK
* checking compiled code ... OK
* checking sizes of PDF files under ‘inst/doc’ ... OK
* checking installed files from ‘inst/doc’ ... OK
* checking files in ‘vignettes’ ... OK
* checking examples ... OK
Examples with CPU or elapsed time > 5s
user system elapsed
buildAllPlots 19.184 1.02 20.698
* checking for unstated dependencies in vignettes ... OK
* checking package vignettes in ‘inst/doc’ ... OK
* checking running R code from vignettes ... SKIPPED
* checking re-building of vignette outputs ... SKIPPED
* checking PDF version of manual ... OK
* DONE
Status: 2 NOTEs
See
‘/Users/biocbuild/bbs-3.6-bioc/meat/JunctionSeq.Rcheck/00check.log’
for details.
JunctionSeq.Rcheck/00install.out
* installing *source* package ‘JunctionSeq’ ... ** libs clang++ -I/Library/Frameworks/R.framework/Resources/include -DNDEBUG -I"/Library/Frameworks/R.framework/Versions/3.4/Resources/library/Rcpp/include" -I"/Library/Frameworks/R.framework/Versions/3.4/Resources/library/RcppArmadillo/include" -I/usr/local/include -fPIC -Wall -g -O2 -c DESeq2.cpp -o DESeq2.o clang++ -I/Library/Frameworks/R.framework/Resources/include -DNDEBUG -I"/Library/Frameworks/R.framework/Versions/3.4/Resources/library/Rcpp/include" -I"/Library/Frameworks/R.framework/Versions/3.4/Resources/library/RcppArmadillo/include" -I/usr/local/include -fPIC -Wall -g -O2 -c RcppExports.cpp -o RcppExports.o clang++ -dynamiclib -Wl,-headerpad_max_install_names -undefined dynamic_lookup -single_module -multiply_defined suppress -L/Library/Frameworks/R.framework/Resources/lib -L/usr/local/lib -o JunctionSeq.so DESeq2.o RcppExports.o -L/Library/Frameworks/R.framework/Resources/lib -lRlapack -L/Library/Frameworks/R.framework/Resources/lib -lRblas -L/usr/local/gfortran/lib/gcc/x86_64-apple-darwin15/6.1.0 -L/usr/local/gfortran/lib -lgfortran -lquadmath -lm -F/Library/Frameworks/R.framework/.. -framework R -Wl,-framework -Wl,CoreFoundation installing to /Users/biocbuild/bbs-3.6-bioc/meat/JunctionSeq.Rcheck/JunctionSeq/libs ** R ** inst ** preparing package for lazy loading ** help *** installing help indices ** building package indices ** installing vignettes ** testing if installed package can be loaded * DONE (JunctionSeq)
JunctionSeq.Rcheck/JunctionSeq-Ex.timings
| name | user | system | elapsed | |
| JunctionSeqCountSet-class | 0.004 | 0.001 | 0.005 | |
| buildAllPlots | 19.184 | 1.020 | 20.698 | |
| buildAllPlotsForGene | 2.140 | 0.147 | 2.336 | |
| defaultColorList | 2.556 | 0.164 | 2.793 | |
| estimateEffectSizes | 4.170 | 0.022 | 4.228 | |
| estimateJunctionSeqDispersions | 0.002 | 0.000 | 0.002 | |
| estimateJunctionSeqSizeFactors | 0.229 | 0.006 | 0.236 | |
| fitJunctionSeqDispersionFunction | 0.945 | 0.012 | 0.963 | |
| plotDispEsts | 0.168 | 0.004 | 0.182 | |
| plotJunctionSeqResultsForGene | 0.111 | 0.005 | 0.123 | |
| plotMA | 0.724 | 0.026 | 0.767 | |
| readAnnotationData | 0.676 | 0.004 | 0.694 | |
| readJunctionSeqCounts | 0.862 | 0.008 | 0.890 | |
| runJunctionSeqAnalyses | 0.001 | 0.001 | 0.001 | |
| testForDiffUsage | 1.354 | 0.014 | 1.391 | |
| writeBedTrack | 0.077 | 0.005 | 0.083 | |
| writeCompleteResults | 0.885 | 0.010 | 0.896 | |