| Back to Multiple platform build/check report for BioC 3.6 |
|
This page was generated on 2018-04-12 13:14:27 -0400 (Thu, 12 Apr 2018).
| Package 728/1472 | Hostname | OS / Arch | INSTALL | BUILD | CHECK | BUILD BIN | ||||||
| JunctionSeq 1.8.0 Stephen Hartley
| malbec1 | Linux (Ubuntu 16.04.1 LTS) / x86_64 | OK | OK | [ OK ] | |||||||
| tokay1 | Windows Server 2012 R2 Standard / x64 | OK | OK | OK | OK | |||||||
| veracruz1 | OS X 10.11.6 El Capitan / x86_64 | OK | OK | OK | OK |
| Package: JunctionSeq |
| Version: 1.8.0 |
| Command: /home/biocbuild/bbs-3.6-bioc/R/bin/R CMD check --no-vignettes --timings JunctionSeq_1.8.0.tar.gz |
| StartedAt: 2018-04-12 00:33:36 -0400 (Thu, 12 Apr 2018) |
| EndedAt: 2018-04-12 00:37:02 -0400 (Thu, 12 Apr 2018) |
| EllapsedTime: 206.6 seconds |
| RetCode: 0 |
| Status: OK |
| CheckDir: JunctionSeq.Rcheck |
| Warnings: 0 |
##############################################################################
##############################################################################
###
### Running command:
###
### /home/biocbuild/bbs-3.6-bioc/R/bin/R CMD check --no-vignettes --timings JunctionSeq_1.8.0.tar.gz
###
##############################################################################
##############################################################################
* using log directory ‘/home/biocbuild/bbs-3.6-bioc/meat/JunctionSeq.Rcheck’
* using R version 3.4.4 (2018-03-15)
* using platform: x86_64-pc-linux-gnu (64-bit)
* using session charset: UTF-8
* using option ‘--no-vignettes’
* checking for file ‘JunctionSeq/DESCRIPTION’ ... OK
* this is package ‘JunctionSeq’ version ‘1.8.0’
* checking package namespace information ... OK
* checking package dependencies ... OK
* checking if this is a source package ... OK
* checking if there is a namespace ... OK
* checking for hidden files and directories ... OK
* checking for portable file names ... OK
* checking for sufficient/correct file permissions ... OK
* checking whether package ‘JunctionSeq’ can be installed ... OK
* checking installed package size ... OK
* checking package directory ... OK
* checking ‘build’ directory ... OK
* checking DESCRIPTION meta-information ... OK
* checking top-level files ... OK
* checking for left-over files ... OK
* checking index information ... OK
* checking package subdirectories ... OK
* checking R files for non-ASCII characters ... OK
* checking R files for syntax errors ... OK
* checking whether the package can be loaded ... OK
* checking whether the package can be loaded with stated dependencies ... OK
* checking whether the package can be unloaded cleanly ... OK
* checking whether the namespace can be loaded with stated dependencies ... OK
* checking whether the namespace can be unloaded cleanly ... OK
* checking dependencies in R code ... NOTE
Packages in Depends field not imported from:
‘Rcpp’ ‘RcppArmadillo’
These packages need to be imported from (in the NAMESPACE file)
for when this namespace is loaded but not attached.
* checking S3 generic/method consistency ... OK
* checking replacement functions ... OK
* checking foreign function calls ... OK
* checking R code for possible problems ... OK
* checking Rd files ... NOTE
prepare_Rd: setJunctionSeqCompiledSourcePackage.Rd:23-25: Dropping empty section \examples
* checking Rd metadata ... OK
* checking Rd cross-references ... OK
* checking for missing documentation entries ... OK
* checking for code/documentation mismatches ... OK
* checking Rd \usage sections ... OK
* checking Rd contents ... OK
* checking for unstated dependencies in examples ... OK
* checking line endings in C/C++/Fortran sources/headers ... OK
* checking line endings in Makefiles ... OK
* checking compilation flags in Makevars ... OK
* checking for GNU extensions in Makefiles ... OK
* checking for portable use of $(BLAS_LIBS) and $(LAPACK_LIBS) ... OK
* checking compiled code ... OK
* checking installed files from ‘inst/doc’ ... OK
* checking files in ‘vignettes’ ... OK
* checking examples ... OK
Examples with CPU or elapsed time > 5s
user system elapsed
buildAllPlots 14.076 0.104 14.272
* checking for unstated dependencies in vignettes ... OK
* checking package vignettes in ‘inst/doc’ ... OK
* checking running R code from vignettes ... SKIPPED
* checking re-building of vignette outputs ... SKIPPED
* checking PDF version of manual ... OK
* DONE
Status: 2 NOTEs
See
‘/home/biocbuild/bbs-3.6-bioc/meat/JunctionSeq.Rcheck/00check.log’
for details.
JunctionSeq.Rcheck/00install.out
* installing *source* package ‘JunctionSeq’ ... ** libs g++ -I/home/biocbuild/bbs-3.6-bioc/R/include -DNDEBUG -I"/home/biocbuild/bbs-3.6-bioc/R/library/Rcpp/include" -I"/home/biocbuild/bbs-3.6-bioc/R/library/RcppArmadillo/include" -I/usr/local/include -fpic -g -O2 -Wall -c DESeq2.cpp -o DESeq2.o g++ -I/home/biocbuild/bbs-3.6-bioc/R/include -DNDEBUG -I"/home/biocbuild/bbs-3.6-bioc/R/library/Rcpp/include" -I"/home/biocbuild/bbs-3.6-bioc/R/library/RcppArmadillo/include" -I/usr/local/include -fpic -g -O2 -Wall -c RcppExports.cpp -o RcppExports.o g++ -shared -L/home/biocbuild/bbs-3.6-bioc/R/lib -L/usr/local/lib -o JunctionSeq.so DESeq2.o RcppExports.o -L/home/biocbuild/bbs-3.6-bioc/R/lib -lRlapack -L/home/biocbuild/bbs-3.6-bioc/R/lib -lRblas -lgfortran -lm -lquadmath -L/home/biocbuild/bbs-3.6-bioc/R/lib -lR installing to /home/biocbuild/bbs-3.6-bioc/meat/JunctionSeq.Rcheck/JunctionSeq/libs ** R ** inst ** preparing package for lazy loading ** help *** installing help indices ** building package indices ** installing vignettes ** testing if installed package can be loaded * DONE (JunctionSeq)
JunctionSeq.Rcheck/JunctionSeq-Ex.timings
| name | user | system | elapsed | |
| JunctionSeqCountSet-class | 0.000 | 0.000 | 0.002 | |
| buildAllPlots | 14.076 | 0.104 | 14.272 | |
| buildAllPlotsForGene | 1.480 | 0.004 | 1.484 | |
| defaultColorList | 1.620 | 0.004 | 1.624 | |
| estimateEffectSizes | 3.308 | 0.000 | 3.310 | |
| estimateJunctionSeqDispersions | 0.004 | 0.000 | 0.001 | |
| estimateJunctionSeqSizeFactors | 0.224 | 0.004 | 0.230 | |
| fitJunctionSeqDispersionFunction | 0.604 | 0.000 | 0.608 | |
| plotDispEsts | 0.172 | 0.000 | 0.173 | |
| plotJunctionSeqResultsForGene | 0.1 | 0.0 | 0.1 | |
| plotMA | 0.840 | 0.008 | 0.854 | |
| readAnnotationData | 0.668 | 0.000 | 0.688 | |
| readJunctionSeqCounts | 0.924 | 0.004 | 1.040 | |
| runJunctionSeqAnalyses | 0 | 0 | 0 | |
| testForDiffUsage | 1.240 | 0.012 | 1.253 | |
| writeBedTrack | 0.092 | 0.000 | 0.091 | |
| writeCompleteResults | 0.512 | 0.000 | 0.512 | |