| Back to Multiple platform build/check report for BioC 3.6 |
|
This page was generated on 2018-04-12 13:42:13 -0400 (Thu, 12 Apr 2018).
| Package 685/1472 | Hostname | OS / Arch | INSTALL | BUILD | CHECK | BUILD BIN | ||||||
| IHW 1.6.0 Nikos Ignatiadis
| malbec1 | Linux (Ubuntu 16.04.1 LTS) / x86_64 | OK | OK | OK | |||||||
| tokay1 | Windows Server 2012 R2 Standard / x64 | OK | OK | OK | OK | |||||||
| veracruz1 | OS X 10.11.6 El Capitan / x86_64 | OK | OK | OK | [ OK ] |
| Package: IHW |
| Version: 1.6.0 |
| Command: rm -rf IHW.buildbin-libdir && mkdir IHW.buildbin-libdir && /Users/biocbuild/BBS/utils/build-universal.sh IHW_1.6.0.tar.gz /Library/Frameworks/R.framework/Versions/Current/Resources/bin/R IHW.buildbin-libdir |
| StartedAt: 2018-04-12 11:40:44 -0400 (Thu, 12 Apr 2018) |
| EndedAt: 2018-04-12 11:41:27 -0400 (Thu, 12 Apr 2018) |
| EllapsedTime: 43.1 seconds |
| RetCode: 0 |
| Status: OK |
| PackageFile: IHW_1.6.0.tgz |
| PackageFileSize: 5.875 MiB |
############################################################################## ############################################################################## ### ### Running command: ### ### rm -rf IHW.buildbin-libdir && mkdir IHW.buildbin-libdir && /Users/biocbuild/BBS/utils/build-universal.sh IHW_1.6.0.tar.gz /Library/Frameworks/R.framework/Versions/Current/Resources/bin/R IHW.buildbin-libdir ### ############################################################################## ############################################################################## >>>>>>> >>>>>>> INSTALLATION WITH 'R CMD INSTALL --preclean --no-multiarch --library=IHW.buildbin-libdir IHW_1.6.0.tar.gz' >>>>>>> * installing *source* package ‘IHW’ ... ** R ** inst ** preparing package for lazy loading Creating a generic function for ‘nrow’ from package ‘base’ in package ‘IHW’ ** help *** installing help indices ** building package indices ** installing vignettes ** testing if installed package can be loaded * DONE (IHW)