| Back to Multiple platform build/check report for BioC 3.6 | 
 | 
This page was generated on 2018-04-12 13:14:29 -0400 (Thu, 12 Apr 2018).
| Package 685/1472 | Hostname | OS / Arch | INSTALL | BUILD | CHECK | BUILD BIN | ||||||
| IHW 1.6.0 Nikos Ignatiadis 
 | malbec1 | Linux (Ubuntu 16.04.1 LTS) / x86_64 | OK | [ OK ] | OK |  | ||||||
| tokay1 | Windows Server 2012 R2 Standard / x64 | OK | OK | OK | OK |  | ||||||
| veracruz1 | OS X 10.11.6 El Capitan / x86_64 | OK | OK | OK | OK |  | 
| Package: IHW | 
| Version: 1.6.0 | 
| Command: /home/biocbuild/bbs-3.6-bioc/R/bin/R CMD build --keep-empty-dirs --no-resave-data IHW | 
| StartedAt: 2018-04-11 20:13:36 -0400 (Wed, 11 Apr 2018) | 
| EndedAt: 2018-04-11 20:16:58 -0400 (Wed, 11 Apr 2018) | 
| EllapsedTime: 201.8 seconds | 
| RetCode: 0 | 
| Status: OK | 
| PackageFile: IHW_1.6.0.tar.gz | 
| PackageFileSize: 3.461 MiB | 
############################################################################## ############################################################################## ### ### Running command: ### ### /home/biocbuild/bbs-3.6-bioc/R/bin/R CMD build --keep-empty-dirs --no-resave-data IHW ### ############################################################################## ############################################################################## * checking for file ‘IHW/DESCRIPTION’ ... OK * preparing ‘IHW’: * checking DESCRIPTION meta-information ... OK * installing the package to build vignettes * creating vignettes ... OK * checking for LF line-endings in source and make files and shell scripts * checking for empty or unneeded directories * building ‘IHW_1.6.0.tar.gz’