| Back to Multiple platform build/check report for BioC 3.6 |
|
This page was generated on 2018-04-12 13:38:34 -0400 (Thu, 12 Apr 2018).
| Package 565/1472 | Hostname | OS / Arch | INSTALL | BUILD | CHECK | BUILD BIN | ||||||
| GenomicFiles 1.14.0 Bioconductor Package Maintainer
| malbec1 | Linux (Ubuntu 16.04.1 LTS) / x86_64 | OK | OK | OK | |||||||
| tokay1 | Windows Server 2012 R2 Standard / x64 | OK | OK | WARNINGS | OK | |||||||
| veracruz1 | OS X 10.11.6 El Capitan / x86_64 | OK | OK | OK | [ OK ] |
| Package: GenomicFiles |
| Version: 1.14.0 |
| Command: rm -rf GenomicFiles.buildbin-libdir && mkdir GenomicFiles.buildbin-libdir && /Users/biocbuild/BBS/utils/build-universal.sh GenomicFiles_1.14.0.tar.gz /Library/Frameworks/R.framework/Versions/Current/Resources/bin/R GenomicFiles.buildbin-libdir |
| StartedAt: 2018-04-12 11:33:03 -0400 (Thu, 12 Apr 2018) |
| EndedAt: 2018-04-12 11:33:25 -0400 (Thu, 12 Apr 2018) |
| EllapsedTime: 22.1 seconds |
| RetCode: 0 |
| Status: OK |
| PackageFile: GenomicFiles_1.14.0.tgz |
| PackageFileSize: 687.8 KiB |
############################################################################## ############################################################################## ### ### Running command: ### ### rm -rf GenomicFiles.buildbin-libdir && mkdir GenomicFiles.buildbin-libdir && /Users/biocbuild/BBS/utils/build-universal.sh GenomicFiles_1.14.0.tar.gz /Library/Frameworks/R.framework/Versions/Current/Resources/bin/R GenomicFiles.buildbin-libdir ### ############################################################################## ############################################################################## >>>>>>> >>>>>>> INSTALLATION WITH 'R CMD INSTALL --preclean --no-multiarch --library=GenomicFiles.buildbin-libdir GenomicFiles_1.14.0.tar.gz' >>>>>>> * installing *source* package ‘GenomicFiles’ ... ** R ** inst ** preparing package for lazy loading ** help *** installing help indices ** building package indices ** installing vignettes ** testing if installed package can be loaded * DONE (GenomicFiles)