| Back to Multiple platform build/check report for BioC 3.6 |
|
This page was generated on 2018-04-12 13:29:37 -0400 (Thu, 12 Apr 2018).
| Package 510/1472 | Hostname | OS / Arch | INSTALL | BUILD | CHECK | BUILD BIN | ||||||
| GA4GHclient 1.2.0 Welliton Souza
| malbec1 | Linux (Ubuntu 16.04.1 LTS) / x86_64 | OK | OK | OK | |||||||
| tokay1 | Windows Server 2012 R2 Standard / x64 | [ OK ] | OK | OK | OK | |||||||
| veracruz1 | OS X 10.11.6 El Capitan / x86_64 | OK | OK | OK | OK |
| Package: GA4GHclient |
| Version: 1.2.0 |
| Command: rm -rf GA4GHclient.buildbin-libdir && mkdir GA4GHclient.buildbin-libdir && C:\cygwin\bin\curl.exe -O https://malbec1.bioconductor.org/BBS/3.6/bioc/src/contrib/GA4GHclient_1.2.0.tar.gz && C:\Users\biocbuild\bbs-3.6-bioc\R\bin\R.exe CMD INSTALL --build --library=GA4GHclient.buildbin-libdir --merge-multiarch GA4GHclient_1.2.0.tar.gz && C:\Users\biocbuild\bbs-3.6-bioc\R\bin\R.exe CMD INSTALL GA4GHclient_1.2.0.zip && rm GA4GHclient_1.2.0.tar.gz GA4GHclient_1.2.0.zip |
| StartedAt: 2018-04-11 18:53:11 -0400 (Wed, 11 Apr 2018) |
| EndedAt: 2018-04-11 18:53:46 -0400 (Wed, 11 Apr 2018) |
| EllapsedTime: 35.1 seconds |
| RetCode: 0 |
| Status: OK |
##############################################################################
##############################################################################
###
### Running command:
###
### rm -rf GA4GHclient.buildbin-libdir && mkdir GA4GHclient.buildbin-libdir && C:\cygwin\bin\curl.exe -O https://malbec1.bioconductor.org/BBS/3.6/bioc/src/contrib/GA4GHclient_1.2.0.tar.gz && C:\Users\biocbuild\bbs-3.6-bioc\R\bin\R.exe CMD INSTALL --build --library=GA4GHclient.buildbin-libdir --merge-multiarch GA4GHclient_1.2.0.tar.gz && C:\Users\biocbuild\bbs-3.6-bioc\R\bin\R.exe CMD INSTALL GA4GHclient_1.2.0.zip && rm GA4GHclient_1.2.0.tar.gz GA4GHclient_1.2.0.zip
###
##############################################################################
##############################################################################
% Total % Received % Xferd Average Speed Time Time Time Current
Dload Upload Total Spent Left Speed
0 0 0 0 0 0 0 0 --:--:-- --:--:-- --:--:-- 0
100 189k 100 189k 0 0 4383k 0 --:--:-- --:--:-- --:--:-- 4740k
install for i386
* installing *source* package 'GA4GHclient' ...
** R
** inst
** preparing package for lazy loading
** help
*** installing help indices
converting help for package 'GA4GHclient'
finding HTML links ... done
GA4GHclient-package html
HGVSnames html
getBiosample html
finding level-2 HTML links ... done
getCallSet html
getDataset html
getExpressionLevel html
getFeature html
getFeatureSet html
getIndividual html
getReadGroupSet html
getReference html
getReferenceSet html
getRnaQuantification html
getRnaQuantificationSet html
getVariant html
getVariantAnnotationSet html
getVariantSet html
listReferenceBases html
makeVCFFromGA4GHResponse html
makeVCFHeaderFromGA4GHResponse html
searchBiosamples html
searchCallSets html
searchDatasets html
searchExpressionLevels html
searchFeatureSets html
searchFeatures html
searchIndividuals html
searchPhenotypeAssociationSets html
searchPhenotypeAssociations html
searchReadGroupSets html
searchReads html
searchReferenceSets html
searchReferences html
searchRnaQuantificationSets html
searchRnaQuantifications html
searchVariantAnnotationSets html
searchVariantAnnotations html
searchVariantSets html
searchVariants html
searchVariantsByGRanges html
** building package indices
** installing vignettes
** testing if installed package can be loaded
In R CMD INSTALL
install for x64
* installing *source* package 'GA4GHclient' ...
** testing if installed package can be loaded
* MD5 sums
packaged installation of 'GA4GHclient' as GA4GHclient_1.2.0.zip
* DONE (GA4GHclient)
In R CMD INSTALL
In R CMD INSTALL
* installing to library 'C:/Users/biocbuild/bbs-3.6-bioc/R/library'
package 'GA4GHclient' successfully unpacked and MD5 sums checked
In R CMD INSTALL