| Back to Multiple platform build/check report for BioC 3.6 |
|
This page was generated on 2018-04-12 13:29:37 -0400 (Thu, 12 Apr 2018).
| Package 510/1472 | Hostname | OS / Arch | INSTALL | BUILD | CHECK | BUILD BIN | ||||||
| GA4GHclient 1.2.0 Welliton Souza
| malbec1 | Linux (Ubuntu 16.04.1 LTS) / x86_64 | OK | OK | OK | |||||||
| tokay1 | Windows Server 2012 R2 Standard / x64 | OK | [ OK ] | OK | OK | |||||||
| veracruz1 | OS X 10.11.6 El Capitan / x86_64 | OK | OK | OK | OK |
| Package: GA4GHclient |
| Version: 1.2.0 |
| Command: chmod a+r GA4GHclient -R && C:\Users\biocbuild\bbs-3.6-bioc\R\bin\R.exe CMD build --keep-empty-dirs --no-resave-data GA4GHclient |
| StartedAt: 2018-04-11 21:33:37 -0400 (Wed, 11 Apr 2018) |
| EndedAt: 2018-04-11 21:34:57 -0400 (Wed, 11 Apr 2018) |
| EllapsedTime: 79.6 seconds |
| RetCode: 0 |
| Status: OK |
| PackageFile: GA4GHclient_1.2.0.tar.gz |
| PackageFileSize: 679 KiB |
############################################################################## ############################################################################## ### ### Running command: ### ### chmod a+r GA4GHclient -R && C:\Users\biocbuild\bbs-3.6-bioc\R\bin\R.exe CMD build --keep-empty-dirs --no-resave-data GA4GHclient ### ############################################################################## ############################################################################## * checking for file 'GA4GHclient/DESCRIPTION' ... OK * preparing 'GA4GHclient': * checking DESCRIPTION meta-information ... OK * installing the package to build vignettes * creating vignettes ... OK * checking for LF line-endings in source and make files and shell scripts * checking for empty or unneeded directories * building 'GA4GHclient_1.2.0.tar.gz'