| Back to Multiple platform build/check report for BioC 3.6 |
|
This page was generated on 2018-04-12 13:42:38 -0400 (Thu, 12 Apr 2018).
| Package 344/1472 | Hostname | OS / Arch | INSTALL | BUILD | CHECK | BUILD BIN | ||||||
| DEFormats 1.6.1 Andrzej OleÅ›
| malbec1 | Linux (Ubuntu 16.04.1 LTS) / x86_64 | OK | OK | OK | |||||||
| tokay1 | Windows Server 2012 R2 Standard / x64 | OK | OK | OK | OK | |||||||
| veracruz1 | OS X 10.11.6 El Capitan / x86_64 | OK | [ OK ] | OK | OK |
| Package: DEFormats |
| Version: 1.6.1 |
| Command: /Library/Frameworks/R.framework/Versions/Current/Resources/bin/R CMD build --keep-empty-dirs --no-resave-data DEFormats |
| StartedAt: 2018-04-11 22:23:29 -0400 (Wed, 11 Apr 2018) |
| EndedAt: 2018-04-11 22:24:05 -0400 (Wed, 11 Apr 2018) |
| EllapsedTime: 35.5 seconds |
| RetCode: 0 |
| Status: OK |
| PackageFile: DEFormats_1.6.1.tar.gz |
| PackageFileSize: 227 KiB |
############################################################################## ############################################################################## ### ### Running command: ### ### /Library/Frameworks/R.framework/Versions/Current/Resources/bin/R CMD build --keep-empty-dirs --no-resave-data DEFormats ### ############################################################################## ############################################################################## * checking for file ‘DEFormats/DESCRIPTION’ ... OK * preparing ‘DEFormats’: * checking DESCRIPTION meta-information ... OK * installing the package to build vignettes * creating vignettes ... OK * checking for LF line-endings in source and make files and shell scripts * checking for empty or unneeded directories * building ‘DEFormats_1.6.1.tar.gz’