| Back to Multiple platform build/check report for BioC 3.6 | 
 | 
This page was generated on 2018-04-12 13:14:46 -0400 (Thu, 12 Apr 2018).
| Package 344/1472 | Hostname | OS / Arch | INSTALL | BUILD | CHECK | BUILD BIN | ||||||
| DEFormats 1.6.1 Andrzej OleÅ› 
 | malbec1 | Linux (Ubuntu 16.04.1 LTS) / x86_64 | [ OK ] | OK | OK |  | ||||||
| tokay1 | Windows Server 2012 R2 Standard / x64 | OK | OK | OK | OK |  | ||||||
| veracruz1 | OS X 10.11.6 El Capitan / x86_64 | OK | OK | OK | OK |  | 
| Package: DEFormats | 
| Version: 1.6.1 | 
| Command: /home/biocbuild/bbs-3.6-bioc/R/bin/R CMD INSTALL DEFormats | 
| StartedAt: 2018-04-11 18:07:21 -0400 (Wed, 11 Apr 2018) | 
| EndedAt: 2018-04-11 18:07:35 -0400 (Wed, 11 Apr 2018) | 
| EllapsedTime: 14.2 seconds | 
| RetCode: 0 | 
| Status: OK | 
##############################################################################
##############################################################################
###
### Running command:
###
###   /home/biocbuild/bbs-3.6-bioc/R/bin/R CMD INSTALL DEFormats
###
##############################################################################
##############################################################################
* installing to library ‘/home/biocbuild/bbs-3.6-bioc/R/library’
* installing *source* package ‘DEFormats’ ...
** R
** inst
** preparing package for lazy loading
Creating a generic function for ‘DGEList’ from ‘edgeR’ in package ‘DEFormats’
    (from the saved implicit definition)
** help
*** installing help indices
** building package indices
** installing vignettes
** testing if installed package can be loaded
* DONE (DEFormats)