| Back to Multiple platform build/check report for BioC 3.6 |
|
This page was generated on 2018-04-12 13:10:04 -0400 (Thu, 12 Apr 2018).
| Package 123/1472 | Hostname | OS / Arch | INSTALL | BUILD | CHECK | BUILD BIN | ||||||
| BiocGenerics 0.24.0 Bioconductor Package Maintainer
| malbec1 | Linux (Ubuntu 16.04.1 LTS) / x86_64 | OK | OK | [ OK ] | |||||||
| tokay1 | Windows Server 2012 R2 Standard / x64 | OK | OK | WARNINGS | OK | |||||||
| veracruz1 | OS X 10.11.6 El Capitan / x86_64 | OK | OK | OK | OK |
| Package: BiocGenerics |
| Version: 0.24.0 |
| Command: /home/biocbuild/bbs-3.6-bioc/R/bin/R CMD check --no-vignettes --timings BiocGenerics_0.24.0.tar.gz |
| StartedAt: 2018-04-11 21:47:31 -0400 (Wed, 11 Apr 2018) |
| EndedAt: 2018-04-11 21:48:25 -0400 (Wed, 11 Apr 2018) |
| EllapsedTime: 54.3 seconds |
| RetCode: 0 |
| Status: OK |
| CheckDir: BiocGenerics.Rcheck |
| Warnings: 0 |
##############################################################################
##############################################################################
###
### Running command:
###
### /home/biocbuild/bbs-3.6-bioc/R/bin/R CMD check --no-vignettes --timings BiocGenerics_0.24.0.tar.gz
###
##############################################################################
##############################################################################
* using log directory ‘/home/biocbuild/bbs-3.6-bioc/meat/BiocGenerics.Rcheck’
* using R version 3.4.4 (2018-03-15)
* using platform: x86_64-pc-linux-gnu (64-bit)
* using session charset: UTF-8
* using option ‘--no-vignettes’
* checking for file ‘BiocGenerics/DESCRIPTION’ ... OK
* this is package ‘BiocGenerics’ version ‘0.24.0’
* checking package namespace information ... OK
* checking package dependencies ... OK
* checking if this is a source package ... OK
* checking if there is a namespace ... OK
* checking for hidden files and directories ... OK
* checking for portable file names ... OK
* checking for sufficient/correct file permissions ... OK
* checking whether package ‘BiocGenerics’ can be installed ... OK
* checking installed package size ... OK
* checking package directory ... OK
* checking DESCRIPTION meta-information ... NOTE
Packages listed in more than one of Depends, Imports, Suggests, Enhances:
‘methods’ ‘utils’ ‘graphics’ ‘stats’ ‘parallel’
A package should be listed in only one of these fields.
* checking top-level files ... OK
* checking for left-over files ... OK
* checking index information ... OK
* checking package subdirectories ... OK
* checking R files for non-ASCII characters ... OK
* checking R files for syntax errors ... OK
* checking whether the package can be loaded ... OK
* checking whether the package can be loaded with stated dependencies ... OK
* checking whether the package can be unloaded cleanly ... OK
* checking whether the namespace can be loaded with stated dependencies ... OK
* checking whether the namespace can be unloaded cleanly ... OK
* checking dependencies in R code ... NOTE
'library' or 'require' call to ‘RUnit’ in package code.
Please use :: or requireNamespace() instead.
See section 'Suggested packages' in the 'Writing R Extensions' manual.
* checking S3 generic/method consistency ... OK
* checking replacement functions ... OK
* checking foreign function calls ... OK
* checking R code for possible problems ... OK
* checking Rd files ... OK
* checking Rd metadata ... OK
* checking Rd cross-references ... OK
* checking for missing documentation entries ... OK
* checking for code/documentation mismatches ... OK
* checking Rd \usage sections ... NOTE
S3 methods shown with full name in documentation object 'rep':
‘rep.int’
The \usage entries for S3 methods should use the \method markup and not
their full name.
See chapter ‘Writing R documentation files’ in the ‘Writing R
Extensions’ manual.
* checking Rd contents ... OK
* checking for unstated dependencies in examples ... OK
* checking examples ... OK
Examples with CPU or elapsed time > 5s
user system elapsed
testPackage 9.840 0.000 9.846
plotMA 5.264 0.052 5.354
* checking for unstated dependencies in ‘tests’ ... OK
* checking tests ...
Running ‘run_unitTests.R’
OK
* checking PDF version of manual ... OK
* DONE
Status: 3 NOTEs
See
‘/home/biocbuild/bbs-3.6-bioc/meat/BiocGenerics.Rcheck/00check.log’
for details.
BiocGenerics.Rcheck/00install.out
* installing *source* package ‘BiocGenerics’ ... ** R ** inst ** preparing package for lazy loading Creating a new generic function for ‘append’ in package ‘BiocGenerics’ Creating a new generic function for ‘as.data.frame’ in package ‘BiocGenerics’ Creating a new generic function for ‘cbind’ in package ‘BiocGenerics’ Creating a new generic function for ‘rbind’ in package ‘BiocGenerics’ Creating a new generic function for ‘do.call’ in package ‘BiocGenerics’ Creating a new generic function for ‘duplicated’ in package ‘BiocGenerics’ Creating a new generic function for ‘anyDuplicated’ in package ‘BiocGenerics’ Creating a new generic function for ‘eval’ in package ‘BiocGenerics’ Creating a new generic function for ‘pmax’ in package ‘BiocGenerics’ Creating a new generic function for ‘pmin’ in package ‘BiocGenerics’ Creating a new generic function for ‘pmax.int’ in package ‘BiocGenerics’ Creating a new generic function for ‘pmin.int’ in package ‘BiocGenerics’ Creating a new generic function for ‘Reduce’ in package ‘BiocGenerics’ Creating a new generic function for ‘Filter’ in package ‘BiocGenerics’ Creating a new generic function for ‘Find’ in package ‘BiocGenerics’ Creating a new generic function for ‘Map’ in package ‘BiocGenerics’ Creating a new generic function for ‘Position’ in package ‘BiocGenerics’ Creating a new generic function for ‘get’ in package ‘BiocGenerics’ Creating a new generic function for ‘mget’ in package ‘BiocGenerics’ Creating a new generic function for ‘grep’ in package ‘BiocGenerics’ Creating a new generic function for ‘grepl’ in package ‘BiocGenerics’ Creating a new generic function for ‘is.unsorted’ in package ‘BiocGenerics’ Creating a new generic function for ‘lapply’ in package ‘BiocGenerics’ Creating a new generic function for ‘sapply’ in package ‘BiocGenerics’ Creating a new generic function for ‘lengths’ in package ‘BiocGenerics’ Creating a new generic function for ‘mapply’ in package ‘BiocGenerics’ Creating a new generic function for ‘match’ in package ‘BiocGenerics’ Creating a new generic function for ‘rowSums’ in package ‘BiocGenerics’ Creating a new generic function for ‘colSums’ in package ‘BiocGenerics’ Creating a new generic function for ‘rowMeans’ in package ‘BiocGenerics’ Creating a new generic function for ‘colMeans’ in package ‘BiocGenerics’ Creating a new generic function for ‘order’ in package ‘BiocGenerics’ Creating a new generic function for ‘paste’ in package ‘BiocGenerics’ Creating a new generic function for ‘rank’ in package ‘BiocGenerics’ Creating a new generic function for ‘rownames’ in package ‘BiocGenerics’ Creating a new generic function for ‘colnames’ in package ‘BiocGenerics’ Creating a new generic function for ‘union’ in package ‘BiocGenerics’ Creating a new generic function for ‘intersect’ in package ‘BiocGenerics’ Creating a new generic function for ‘setdiff’ in package ‘BiocGenerics’ Creating a new generic function for ‘sort’ in package ‘BiocGenerics’ Creating a new generic function for ‘table’ in package ‘BiocGenerics’ Creating a new generic function for ‘tapply’ in package ‘BiocGenerics’ Creating a new generic function for ‘unique’ in package ‘BiocGenerics’ Creating a new generic function for ‘unsplit’ in package ‘BiocGenerics’ Creating a new generic function for ‘var’ in package ‘BiocGenerics’ Creating a new generic function for ‘sd’ in package ‘BiocGenerics’ Creating a new generic function for ‘which’ in package ‘BiocGenerics’ Creating a new generic function for ‘which.max’ in package ‘BiocGenerics’ Creating a new generic function for ‘which.min’ in package ‘BiocGenerics’ Creating a new generic function for ‘IQR’ in package ‘BiocGenerics’ Creating a new generic function for ‘mad’ in package ‘BiocGenerics’ Creating a new generic function for ‘xtabs’ in package ‘BiocGenerics’ Creating a new generic function for ‘clusterCall’ in package ‘BiocGenerics’ Creating a new generic function for ‘clusterApply’ in package ‘BiocGenerics’ Creating a new generic function for ‘clusterApplyLB’ in package ‘BiocGenerics’ Creating a new generic function for ‘clusterEvalQ’ in package ‘BiocGenerics’ Creating a new generic function for ‘clusterExport’ in package ‘BiocGenerics’ Creating a new generic function for ‘clusterMap’ in package ‘BiocGenerics’ Creating a new generic function for ‘parLapply’ in package ‘BiocGenerics’ Creating a new generic function for ‘parSapply’ in package ‘BiocGenerics’ Creating a new generic function for ‘parApply’ in package ‘BiocGenerics’ Creating a new generic function for ‘parRapply’ in package ‘BiocGenerics’ Creating a new generic function for ‘parCapply’ in package ‘BiocGenerics’ Creating a new generic function for ‘parLapplyLB’ in package ‘BiocGenerics’ Creating a new generic function for ‘parSapplyLB’ in package ‘BiocGenerics’ ** help *** installing help indices ** building package indices ** testing if installed package can be loaded * DONE (BiocGenerics)
BiocGenerics.Rcheck/tests/run_unitTests.Rout
R version 3.4.4 (2018-03-15) -- "Someone to Lean On"
Copyright (C) 2018 The R Foundation for Statistical Computing
Platform: x86_64-pc-linux-gnu (64-bit)
R is free software and comes with ABSOLUTELY NO WARRANTY.
You are welcome to redistribute it under certain conditions.
Type 'license()' or 'licence()' for distribution details.
R is a collaborative project with many contributors.
Type 'contributors()' for more information and
'citation()' on how to cite R or R packages in publications.
Type 'demo()' for some demos, 'help()' for on-line help, or
'help.start()' for an HTML browser interface to help.
Type 'q()' to quit R.
> require("BiocGenerics") || stop("unable to load BiocGenerics package")
Loading required package: BiocGenerics
Loading required package: parallel
Attaching package: 'BiocGenerics'
The following objects are masked from 'package:parallel':
clusterApply, clusterApplyLB, clusterCall, clusterEvalQ,
clusterExport, clusterMap, parApply, parCapply, parLapply,
parLapplyLB, parRapply, parSapply, parSapplyLB
The following objects are masked from 'package:stats':
IQR, mad, sd, var, xtabs
The following objects are masked from 'package:base':
Filter, Find, Map, Position, Reduce, anyDuplicated, append,
as.data.frame, cbind, colMeans, colSums, colnames, do.call,
duplicated, eval, evalq, get, grep, grepl, intersect, is.unsorted,
lapply, lengths, mapply, match, mget, order, paste, pmax, pmax.int,
pmin, pmin.int, rank, rbind, rowMeans, rowSums, rownames, sapply,
setdiff, sort, table, tapply, union, unique, unsplit, which,
which.max, which.min
[1] TRUE
> BiocGenerics:::.test()
RUNIT TEST PROTOCOL -- Wed Apr 11 21:48:20 2018
***********************************************
Number of test functions: 24
Number of errors: 0
Number of failures: 0
1 Test Suite :
BiocGenerics RUnit Tests - 24 test functions, 0 errors, 0 failures
Number of test functions: 24
Number of errors: 0
Number of failures: 0
>
> proc.time()
user system elapsed
2.080 0.028 2.103
BiocGenerics.Rcheck/BiocGenerics-Ex.timings
| name | user | system | elapsed | |
| BiocGenerics-package | 0.000 | 0.000 | 0.001 | |
| Extremes | 0.008 | 0.000 | 0.007 | |
| IQR | 0.000 | 0.000 | 0.001 | |
| Ontology | 1.816 | 0.028 | 1.847 | |
| annotation | 0.012 | 0.000 | 0.010 | |
| append | 0.004 | 0.000 | 0.002 | |
| as.data.frame | 0.004 | 0.000 | 0.006 | |
| as.vector | 0.000 | 0.000 | 0.001 | |
| boxplot | 0.000 | 0.000 | 0.001 | |
| cbind | 0.000 | 0.000 | 0.003 | |
| clusterApply | 0.012 | 0.000 | 0.015 | |
| combine | 0.296 | 0.000 | 0.299 | |
| dbconn | 0.040 | 0.000 | 0.043 | |
| density | 0.000 | 0.000 | 0.001 | |
| do.call | 0.004 | 0.000 | 0.002 | |
| duplicated | 0.004 | 0.000 | 0.003 | |
| eval | 0.000 | 0.000 | 0.002 | |
| evalq | 0 | 0 | 0 | |
| fileName | 2.236 | 0.048 | 2.908 | |
| funprog | 0.004 | 0.000 | 0.007 | |
| get | 0.004 | 0.000 | 0.002 | |
| grep | 0.004 | 0.000 | 0.002 | |
| image | 0.000 | 0.000 | 0.002 | |
| is.unsorted | 0.004 | 0.000 | 0.002 | |
| lapply | 0.004 | 0.000 | 0.003 | |
| lengths | 0.088 | 0.004 | 0.091 | |
| mad | 0.004 | 0.000 | 0.002 | |
| mapply | 0.000 | 0.000 | 0.001 | |
| match | 0.000 | 0.000 | 0.002 | |
| matrix-summary | 0.004 | 0.000 | 0.002 | |
| mean | 0.004 | 0.000 | 0.002 | |
| normalize | 0.024 | 0.000 | 0.024 | |
| nrow | 0.008 | 0.000 | 0.006 | |
| order | 0.004 | 0.000 | 0.002 | |
| organism_species | 0.292 | 0.004 | 0.298 | |
| paste | 0.004 | 0.000 | 0.003 | |
| plotMA | 5.264 | 0.052 | 5.354 | |
| plotPCA | 4.232 | 0.028 | 4.263 | |
| rank | 0.000 | 0.000 | 0.004 | |
| relist | 0.000 | 0.000 | 0.002 | |
| rep | 0.004 | 0.000 | 0.002 | |
| residuals | 0.000 | 0.000 | 0.002 | |
| row_colnames | 0.008 | 0.000 | 0.008 | |
| score | 0.072 | 0.000 | 0.073 | |
| sets | 0.004 | 0.000 | 0.007 | |
| sort | 0.000 | 0.000 | 0.002 | |
| start | 0.048 | 0.004 | 0.053 | |
| strand | 0.080 | 0.012 | 0.091 | |
| subset | 0.024 | 0.000 | 0.023 | |
| t | 0.000 | 0.004 | 0.005 | |
| table | 0.000 | 0.000 | 0.002 | |
| tapply | 0.004 | 0.000 | 0.002 | |
| testPackage | 9.840 | 0.000 | 9.846 | |
| unique | 0.004 | 0.000 | 0.002 | |
| unlist | 0.000 | 0.004 | 0.003 | |
| unsplit | 0.000 | 0.000 | 0.001 | |
| updateObject | 0.248 | 0.004 | 0.251 | |
| var | 0.004 | 0.000 | 0.002 | |
| weights | 0.000 | 0.000 | 0.002 | |
| which | 0.004 | 0.000 | 0.007 | |
| xtabs | 0.004 | 0.000 | 0.002 | |