| Back to Multiple platform build/check report for BioC 3.6 |
|
This page was generated on 2018-04-12 13:07:57 -0400 (Thu, 12 Apr 2018).
| Package 12/1472 | Hostname | OS / Arch | INSTALL | BUILD | CHECK | BUILD BIN | ||||||
| ACME 2.34.0 Sean Davis
| malbec1 | Linux (Ubuntu 16.04.1 LTS) / x86_64 | [ OK ] | OK | OK | |||||||
| tokay1 | Windows Server 2012 R2 Standard / x64 | OK | OK | OK | OK | |||||||
| veracruz1 | OS X 10.11.6 El Capitan / x86_64 | OK | OK | OK | OK |
| Package: ACME |
| Version: 2.34.0 |
| Command: /home/biocbuild/bbs-3.6-bioc/R/bin/R CMD INSTALL ACME |
| StartedAt: 2018-04-11 17:57:09 -0400 (Wed, 11 Apr 2018) |
| EndedAt: 2018-04-11 17:57:12 -0400 (Wed, 11 Apr 2018) |
| EllapsedTime: 2.9 seconds |
| RetCode: 0 |
| Status: OK |
##############################################################################
##############################################################################
###
### Running command:
###
### /home/biocbuild/bbs-3.6-bioc/R/bin/R CMD INSTALL ACME
###
##############################################################################
##############################################################################
* installing to library ‘/home/biocbuild/bbs-3.6-bioc/R/library’
* installing *source* package ‘ACME’ ...
** libs
gcc -I/home/biocbuild/bbs-3.6-bioc/R/include -DNDEBUG -I/usr/local/include -fpic -g -O2 -Wall -c windowChisq.c -o windowChisq.o
windowChisq.c: In function ‘windowChisq’:
windowChisq.c:58:14: warning: suggest parentheses around comparison in operand of ‘&’ [-Wparentheses]
firstprobe>0) {
^
windowChisq.c:63:13: warning: suggest parentheses around comparison in operand of ‘&’ [-Wparentheses]
lastprobe<(na-1)) {
^
windowChisq.c:21:11: warning: unused variable ‘xa’ [-Wunused-variable]
double *xa,*xlocations,*xchivals;
^
windowChisq.c: At top level:
windowChisq.c:86:20: warning: initialization from incompatible pointer type [-Wincompatible-pointer-types]
{"windowChisq",&windowChisq,5},
^
windowChisq.c:86:20: note: (near initialization for ‘callMethods[0].fun’)
g++ -shared -L/home/biocbuild/bbs-3.6-bioc/R/lib -L/usr/local/lib -o ACME.so windowChisq.o -L/home/biocbuild/bbs-3.6-bioc/R/lib -lR
installing to /home/biocbuild/bbs-3.6-bioc/R/library/ACME/libs
** R
** data
** inst
** preparing package for lazy loading
** help
*** installing help indices
** building package indices
** installing vignettes
** testing if installed package can be loaded
* DONE (ACME)