| Back to Multiple platform build/check report for BioC 3.6 |
|
This page was generated on 2018-04-12 13:07:57 -0400 (Thu, 12 Apr 2018).
| Package 12/1472 | Hostname | OS / Arch | INSTALL | BUILD | CHECK | BUILD BIN | ||||||
| ACME 2.34.0 Sean Davis
| malbec1 | Linux (Ubuntu 16.04.1 LTS) / x86_64 | OK | OK | [ OK ] | |||||||
| tokay1 | Windows Server 2012 R2 Standard / x64 | OK | OK | OK | OK | |||||||
| veracruz1 | OS X 10.11.6 El Capitan / x86_64 | OK | OK | OK | OK |
| Package: ACME |
| Version: 2.34.0 |
| Command: /home/biocbuild/bbs-3.6-bioc/R/bin/R CMD check --no-vignettes --timings ACME_2.34.0.tar.gz |
| StartedAt: 2018-04-11 21:19:04 -0400 (Wed, 11 Apr 2018) |
| EndedAt: 2018-04-11 21:20:01 -0400 (Wed, 11 Apr 2018) |
| EllapsedTime: 57.0 seconds |
| RetCode: 0 |
| Status: OK |
| CheckDir: ACME.Rcheck |
| Warnings: 0 |
##############################################################################
##############################################################################
###
### Running command:
###
### /home/biocbuild/bbs-3.6-bioc/R/bin/R CMD check --no-vignettes --timings ACME_2.34.0.tar.gz
###
##############################################################################
##############################################################################
* using log directory ‘/home/biocbuild/bbs-3.6-bioc/meat/ACME.Rcheck’
* using R version 3.4.4 (2018-03-15)
* using platform: x86_64-pc-linux-gnu (64-bit)
* using session charset: UTF-8
* using option ‘--no-vignettes’
* checking for file ‘ACME/DESCRIPTION’ ... OK
* this is package ‘ACME’ version ‘2.34.0’
* checking package namespace information ... OK
* checking package dependencies ... OK
* checking if this is a source package ... OK
* checking if there is a namespace ... OK
* checking for hidden files and directories ... OK
* checking for portable file names ... OK
* checking for sufficient/correct file permissions ... OK
* checking whether package ‘ACME’ can be installed ... OK
* checking installed package size ... NOTE
installed size is 30.9Mb
sub-directories of 1Mb or more:
data 3.1Mb
extdata 27.3Mb
* checking package directory ... OK
* checking ‘build’ directory ... OK
* checking DESCRIPTION meta-information ... OK
* checking top-level files ... OK
* checking for left-over files ... OK
* checking index information ... OK
* checking package subdirectories ... OK
* checking R files for non-ASCII characters ... OK
* checking R files for syntax errors ... OK
* checking whether the package can be loaded ... OK
* checking whether the package can be loaded with stated dependencies ... OK
* checking whether the package can be unloaded cleanly ... OK
* checking whether the namespace can be loaded with stated dependencies ... OK
* checking whether the namespace can be unloaded cleanly ... OK
* checking dependencies in R code ... OK
* checking S3 generic/method consistency ... OK
* checking replacement functions ... OK
* checking foreign function calls ... OK
* checking R code for possible problems ... NOTE
.plotACMECalcSet: no visible global function definition for ‘par’
.plotACMECalcSet: no visible global function definition for ‘axis’
.plotACMECalcSet: no visible global function definition for ‘abline’
.plotACMESet: no visible global function definition for ‘par’
do.aGFF.calc: no visible global function definition for ‘quantile’
findClosestGene: no visible binding for global variable ‘refflat’
findClosestGene: no visible binding for '<<-' assignment to ‘refflat’
findRegions : <anonymous>: no visible global function definition for
‘median’
getRefflat: no visible global function definition for ‘download.file’
getRefflat: no visible global function definition for ‘read.delim’
plotgff: no visible global function definition for ‘par’
plotgffcalc: no visible global function definition for ‘par’
plotgffcalc: no visible global function definition for ‘axis’
plotgffcalc: no visible global function definition for ‘abline’
read.resultsGFF: no visible global function definition for ‘read.delim’
windowChisq: no visible global function definition for ‘pchisq’
write.bedGraph: no visible global function definition for ‘write.table’
write.sgr: no visible global function definition for ‘write.table’
plot,ACMECalcSet: no visible global function definition for ‘par’
plot,ACMECalcSet: no visible global function definition for ‘axis’
plot,ACMECalcSet: no visible global function definition for ‘abline’
plot,ACMESet: no visible global function definition for ‘par’
plot,aGFF: no visible global function definition for ‘par’
plot,aGFFCalc: no visible global function definition for ‘par’
plot,aGFFCalc: no visible global function definition for ‘axis’
plot,aGFFCalc: no visible global function definition for ‘abline’
Undefined global functions or variables:
abline axis download.file median par pchisq quantile read.delim
refflat write.table
Consider adding
importFrom("graphics", "abline", "axis", "par")
importFrom("stats", "median", "pchisq", "quantile")
importFrom("utils", "download.file", "read.delim", "write.table")
to your NAMESPACE file.
* checking Rd files ... OK
* checking Rd metadata ... OK
* checking Rd cross-references ... OK
* checking for missing documentation entries ... OK
* checking for code/documentation mismatches ... OK
* checking Rd \usage sections ... OK
* checking Rd contents ... OK
* checking for unstated dependencies in examples ... OK
* checking contents of ‘data’ directory ... OK
* checking data for non-ASCII characters ... OK
* checking data for ASCII and uncompressed saves ... OK
* checking line endings in C/C++/Fortran sources/headers ... OK
* checking compiled code ... OK
* checking installed files from ‘inst/doc’ ... OK
* checking files in ‘vignettes’ ... OK
* checking examples ... OK
* checking for unstated dependencies in vignettes ... OK
* checking package vignettes in ‘inst/doc’ ... OK
* checking running R code from vignettes ... SKIPPED
* checking re-building of vignette outputs ... SKIPPED
* checking PDF version of manual ... OK
* DONE
Status: 2 NOTEs
See
‘/home/biocbuild/bbs-3.6-bioc/meat/ACME.Rcheck/00check.log’
for details.
ACME.Rcheck/00install.out
* installing *source* package ‘ACME’ ...
** libs
gcc -I/home/biocbuild/bbs-3.6-bioc/R/include -DNDEBUG -I/usr/local/include -fpic -g -O2 -Wall -c windowChisq.c -o windowChisq.o
windowChisq.c: In function ‘windowChisq’:
windowChisq.c:58:14: warning: suggest parentheses around comparison in operand of ‘&’ [-Wparentheses]
firstprobe>0) {
^
windowChisq.c:63:13: warning: suggest parentheses around comparison in operand of ‘&’ [-Wparentheses]
lastprobe<(na-1)) {
^
windowChisq.c:21:11: warning: unused variable ‘xa’ [-Wunused-variable]
double *xa,*xlocations,*xchivals;
^
windowChisq.c: At top level:
windowChisq.c:86:20: warning: initialization from incompatible pointer type [-Wincompatible-pointer-types]
{"windowChisq",&windowChisq,5},
^
windowChisq.c:86:20: note: (near initialization for ‘callMethods[0].fun’)
g++ -shared -L/home/biocbuild/bbs-3.6-bioc/R/lib -L/usr/local/lib -o ACME.so windowChisq.o -L/home/biocbuild/bbs-3.6-bioc/R/lib -lR
installing to /home/biocbuild/bbs-3.6-bioc/meat/ACME.Rcheck/ACME/libs
** R
** data
** inst
** preparing package for lazy loading
** help
*** installing help indices
** building package indices
** installing vignettes
** testing if installed package can be loaded
* DONE (ACME)
ACME.Rcheck/ACME-Ex.timings
| name | user | system | elapsed | |
| ACMECalcSet-class | 2.308 | 0.060 | 2.369 | |
| ACMESet-class | 0.532 | 0.008 | 0.543 | |
| aGFF-class | 0.464 | 0.004 | 0.465 | |
| aGFFCalc-class | 1.740 | 0.004 | 1.747 | |
| do.aGFF.calc | 1.604 | 0.012 | 1.614 | |
| example.agff | 0.556 | 0.008 | 0.563 | |
| findClosestGene | 2.676 | 0.036 | 4.811 | |
| findRegions | 2.648 | 0.036 | 2.685 | |
| generics | 0.436 | 0.004 | 0.441 | |
| getRefflat | 2.304 | 0.024 | 4.210 | |
| read.resultsGFF | 4.768 | 0.032 | 4.805 | |
| write.bedGraph | 1.464 | 0.024 | 1.488 | |
| write.sgr | 1.308 | 0.008 | 1.317 | |