SeqVarTools 1.15.1 Stephanie M. Gogarten
 | Snapshot Date: 2017-08-15 17:18:21 -0400 (Tue, 15 Aug 2017) |  | URL: https://hedgehog.fhcrc.org/bioconductor/trunk/madman/Rpacks/SeqVarTools |  | Last Changed Rev: 129656 / Revision: 131943 |  | Last Changed Date: 2017-05-17 12:46:54 -0400 (Wed, 17 May 2017) |  
  | malbec1  | Linux (Ubuntu 16.04.1 LTS) / x86_64  |  OK  |  OK  |  OK  |  |   | 
| tokay1  | Windows Server 2012 R2 Standard / x64  |  OK  |  OK  |  OK  |  OK  |   | 
| veracruz1  | OS X 10.11.6 El Capitan / x86_64  |  OK  |  OK  |  OK  | [ OK ] |   | 
##############################################################################
##############################################################################
###
### Running command:
###
###   rm -rf SeqVarTools.buildbin-libdir && mkdir SeqVarTools.buildbin-libdir && /Users/biocbuild/BBS/utils/build-universal.sh SeqVarTools_1.15.1.tar.gz /Library/Frameworks/R.framework/Versions/Current/Resources/bin/R SeqVarTools.buildbin-libdir
###
##############################################################################
##############################################################################
>>>>>>> 
>>>>>>> INSTALLATION WITH 'R CMD INSTALL --preclean --no-multiarch --library=SeqVarTools.buildbin-libdir SeqVarTools_1.15.1.tar.gz'
>>>>>>> 
* installing *source* package ‘SeqVarTools’ ...
** R
** data
*** moving datasets to lazyload DB
** inst
** preparing package for lazy loading
** help
*** installing help indices
** building package indices
** installing vignettes
** testing if installed package can be loaded
* DONE (SeqVarTools)