SeqVarTools 1.15.1 Stephanie M. Gogarten
Snapshot Date: 2017-08-15 17:18:21 -0400 (Tue, 15 Aug 2017) | URL: https://hedgehog.fhcrc.org/bioconductor/trunk/madman/Rpacks/SeqVarTools | Last Changed Rev: 129656 / Revision: 131943 | Last Changed Date: 2017-05-17 12:46:54 -0400 (Wed, 17 May 2017) |
| malbec1 | Linux (Ubuntu 16.04.1 LTS) / x86_64 | OK | OK | OK | | ![UNNEEDED, same version exists in internal repository UNNEEDED, same version exists in internal repository](../120px-Blue_Light_Icon.svg.png) |
tokay1 | Windows Server 2012 R2 Standard / x64 | [ OK ] | OK | OK | OK | ![UNNEEDED, same version exists in internal repository UNNEEDED, same version exists in internal repository](../120px-Blue_Light_Icon.svg.png) |
veracruz1 | OS X 10.11.6 El Capitan / x86_64 | OK | OK | OK | OK | ![UNNEEDED, same version exists in internal repository UNNEEDED, same version exists in internal repository](../120px-Blue_Light_Icon.svg.png) |
##############################################################################
##############################################################################
###
### Running command:
###
### rm -rf SeqVarTools.buildbin-libdir && mkdir SeqVarTools.buildbin-libdir && C:\cygwin\bin\curl.exe -O https://malbec1.bioconductor.org/BBS/3.6/bioc/src/contrib/SeqVarTools_1.15.1.tar.gz && C:\Users\biocbuild\bbs-3.6-bioc\R\bin\R.exe CMD INSTALL --build --library=SeqVarTools.buildbin-libdir --merge-multiarch SeqVarTools_1.15.1.tar.gz && C:\Users\biocbuild\bbs-3.6-bioc\R\bin\R.exe CMD INSTALL SeqVarTools_1.15.1.zip && rm SeqVarTools_1.15.1.tar.gz SeqVarTools_1.15.1.zip
###
##############################################################################
##############################################################################
% Total % Received % Xferd Average Speed Time Time Time Current
Dload Upload Total Spent Left Speed
0 0 0 0 0 0 0 0 --:--:-- --:--:-- --:--:-- 0
100 375k 100 375k 0 0 10.8M 0 --:--:-- --:--:-- --:--:-- 12.2M
install for i386
* installing *source* package 'SeqVarTools' ...
** R
** data
*** moving datasets to lazyload DB
** inst
** preparing package for lazy loading
** help
*** installing help indices
** building package indices
** installing vignettes
'SeqVarTools.Rnw'
** testing if installed package can be loaded
install for x64
* installing *source* package 'SeqVarTools' ...
** testing if installed package can be loaded
* MD5 sums
packaged installation of 'SeqVarTools' as SeqVarTools_1.15.1.zip
* DONE (SeqVarTools)
* installing to library 'C:/Users/biocbuild/bbs-3.6-bioc/R/library'
package 'SeqVarTools' successfully unpacked and MD5 sums checked