| GSEABase 1.39.0 Bioconductor Package Maintainer
 
 | Snapshot Date: 2017-08-15 17:18:21 -0400 (Tue, 15 Aug 2017) |  | URL: https://hedgehog.fhcrc.org/bioconductor/trunk/madman/Rpacks/GSEABase |  | Last Changed Rev: 129129 / Revision: 131943 |  | Last Changed Date: 2017-04-24 15:50:57 -0400 (Mon, 24 Apr 2017) | 
 | malbec1 | Linux (Ubuntu 16.04.1 LTS) / x86_64 | OK | OK | OK |  |  | 
| tokay1 | Windows Server 2012 R2 Standard / x64 | OK | OK | OK | [ OK ] |  | 
| veracruz1 | OS X 10.11.6 El Capitan / x86_64 | OK | OK | OK | OK |  | 
##############################################################################
##############################################################################
###
### Running command:
###
###   cd GSEABase.buildbin-libdir/GSEABase && zip -r ../../GSEABase_1.39.0.zip . & cd ../..
###
##############################################################################
##############################################################################
  adding: DESCRIPTION (332 bytes security) (deflated 45%)
  adding: doc/ (372 bytes security) (stored 0%)
  adding: doc/GSEABase.pdf (332 bytes security) (deflated 8%)
  adding: doc/GSEABase.R (332 bytes security) (deflated 77%)
  adding: doc/GSEABase.Rnw (332 bytes security) (deflated 63%)
  adding: doc/index.html (332 bytes security) (deflated 58%)
  adding: extdata/ (372 bytes security) (stored 0%)
  adding: extdata/Broad.xml (332 bytes security) (deflated 62%)
  adding: extdata/Broad1.xml (332 bytes security) (deflated 64%)
  adding: extdata/goslim_plant.obo (332 bytes security) (deflated 78%)
  adding: help/ (372 bytes security) (stored 0%)
  adding: help/aliases.rds (332 bytes security) (stored 0%)
  adding: help/AnIndex (332 bytes security) (deflated 89%)
  adding: help/GSEABase.rdb (332 bytes security) (deflated 1%)
  adding: help/GSEABase.rdx (332 bytes security) (stored 0%)
  adding: help/paths.rds (332 bytes security) (stored 0%)
  adding: html/ (372 bytes security) (stored 0%)
  adding: html/00Index.html (332 bytes security) (deflated 92%)
  adding: html/R.css (332 bytes security) (deflated 75%)
  adding: INDEX (332 bytes security) (deflated 71%)
  adding: MD5 (332 bytes security) (deflated 45%)
  adding: Meta/ (372 bytes security) (stored 0%)
  adding: Meta/features.rds (332 bytes security) (stored 0%)
  adding: Meta/hsearch.rds (332 bytes security) (stored 0%)
  adding: Meta/links.rds (332 bytes security) (stored 0%)
  adding: Meta/nsInfo.rds (332 bytes security) (stored 0%)
  adding: Meta/package.rds (332 bytes security) (stored 0%)
  adding: Meta/Rd.rds (332 bytes security) (stored 0%)
  adding: Meta/vignette.rds (332 bytes security) (stored 0%)
  adding: NAMESPACE (332 bytes security) (deflated 71%)
  adding: NEWS (332 bytes security) (deflated 61%)
  adding: R/ (372 bytes security) (stored 0%)
  adding: R/GSEABase (332 bytes security) (deflated 41%)
  adding: R/GSEABase.rdb (332 bytes security) (deflated 35%)
  adding: R/GSEABase.rdx (332 bytes security) (deflated 4%)
  adding: unitTests/ (372 bytes security) (stored 0%)
  adding: unitTests/test_CollectionType.R (332 bytes security) (deflated 77%)
  adding: unitTests/test_ExpressionSet.R (332 bytes security) (deflated 49%)
  adding: unitTests/test_GeneColorSet.R (332 bytes security) (deflated 82%)
  adding: unitTests/test_GeneIdentifierType.R (332 bytes security) (deflated 79%)
  adding: unitTests/test_GeneSet.R (332 bytes security) (deflated 78%)
  adding: unitTests/test_GeneSetCollection.R (332 bytes security) (deflated 79%)
  adding: unitTests/test_getGeneSets.R (332 bytes security) (deflated 63%)
  adding: unitTests/test_OBOCollection.R (332 bytes security) (deflated 72%)
  adding: unitTests/test_utilities.R (332 bytes security) (deflated 64%)