| GenomicRanges 1.28.6 Bioconductor Package Maintainer
 
 | Snapshot Date: 2017-10-17 17:00:52 -0400 (Tue, 17 Oct 2017) |  | URL: https://git.bioconductor.org/packages/GenomicRanges |  | Branch: RELEASE_3_5 |  | Last Commit: 197472d |  | Last Changed Date: 2017-10-03 14:39:56 -0400 (Tue, 03 Oct 2017) | 
 | malbec2 | Linux (Ubuntu 16.04.1 LTS) / x86_64 | [ OK ] | OK | WARNINGS |  |  | 
| tokay2 | Windows Server 2012 R2 Standard / x64 | ERROR | TIMEOUT | skipped | skipped |  | 
| veracruz2 | OS X 10.11.6 El Capitan / x86_64 | ERROR | OK | WARNINGS | OK |  | 
##############################################################################
##############################################################################
###
### Running command:
###
###   /home/biocbuild/bbs-3.5-bioc/R/bin/R CMD INSTALL GenomicRanges
###
##############################################################################
##############################################################################
* installing to library ‘/home/biocbuild/bbs-3.5-bioc/R/library’
* installing *source* package ‘GenomicRanges’ ...
** libs
make: Nothing to be done for 'all'.
installing to /home/biocbuild/bbs-3.5-bioc/R/library/GenomicRanges/libs
** R
** inst
** preparing package for lazy loading
** help
*** installing help indices
** building package indices
** installing vignettes
** testing if installed package can be loaded
* DONE (GenomicRanges)