| Back to the "Multiple platform build/check report" | A B [C] D E F G H I J K L M N O P Q R S T U V W X Y Z |
This page was generated on 2016-09-21 03:39:46 -0700 (Wed, 21 Sep 2016).
| Package 245/1257 | Hostname | OS / Arch | INSTALL | BUILD | CHECK | BUILD BIN | |||||
| ComplexHeatmap 1.11.6 Zuguang Gu
| zin1 | Linux (Ubuntu 16.04 LTS) / x86_64 | OK | OK | [ OK ] | ||||||
| moscato1 | Windows Server 2008 R2 Standard (64-bit) / x64 | OK | OK | OK | OK | ||||||
| morelia | Mac OS X Mavericks (10.9.5) / x86_64 | OK | OK | OK | OK |
| Package: ComplexHeatmap |
| Version: 1.11.6 |
| Command: /home/biocbuild/bbs-3.4-bioc/R/bin/R CMD check --no-vignettes --timings ComplexHeatmap_1.11.6.tar.gz |
| StartedAt: 2016-09-20 04:58:55 -0700 (Tue, 20 Sep 2016) |
| EndedAt: 2016-09-20 05:00:27 -0700 (Tue, 20 Sep 2016) |
| EllapsedTime: 92.6 seconds |
| RetCode: 0 |
| Status: OK |
| CheckDir: ComplexHeatmap.Rcheck |
| Warnings: 0 |
##############################################################################
##############################################################################
###
### Running command:
###
### /home/biocbuild/bbs-3.4-bioc/R/bin/R CMD check --no-vignettes --timings ComplexHeatmap_1.11.6.tar.gz
###
##############################################################################
##############################################################################
* using log directory ‘/home/biocbuild/bbs-3.4-bioc/meat/ComplexHeatmap.Rcheck’
* using R version 3.3.1 (2016-06-21)
* using platform: x86_64-pc-linux-gnu (64-bit)
* using session charset: UTF-8
* using option ‘--no-vignettes’
* checking for file ‘ComplexHeatmap/DESCRIPTION’ ... OK
* checking extension type ... Package
* this is package ‘ComplexHeatmap’ version ‘1.11.6’
* checking package namespace information ... OK
* checking package dependencies ... OK
* checking if this is a source package ... OK
* checking if there is a namespace ... OK
* checking for hidden files and directories ... OK
* checking for portable file names ... OK
* checking for sufficient/correct file permissions ... OK
* checking whether package ‘ComplexHeatmap’ can be installed ... OK
* checking installed package size ... NOTE
installed size is 5.5Mb
sub-directories of 1Mb or more:
doc 4.1Mb
* checking package directory ... OK
* checking ‘build’ directory ... OK
* checking DESCRIPTION meta-information ... OK
* checking top-level files ... OK
* checking for left-over files ... OK
* checking index information ... OK
* checking package subdirectories ... OK
* checking R files for non-ASCII characters ... OK
* checking R files for syntax errors ... OK
* checking whether the package can be loaded ... OK
* checking whether the package can be loaded with stated dependencies ... OK
* checking whether the package can be unloaded cleanly ... OK
* checking whether the namespace can be loaded with stated dependencies ... OK
* checking whether the namespace can be unloaded cleanly ... OK
* checking dependencies in R code ... OK
* checking S3 generic/method consistency ... OK
* checking replacement functions ... OK
* checking foreign function calls ... OK
* checking R code for possible problems ... OK
* checking Rd files ... OK
* checking Rd metadata ... OK
* checking Rd cross-references ... OK
* checking for missing documentation entries ... OK
* checking for code/documentation mismatches ... OK
* checking Rd \usage sections ... OK
* checking Rd contents ... OK
* checking for unstated dependencies in examples ... OK
* checking installed files from ‘inst/doc’ ... OK
* checking files in ‘vignettes’ ... OK
* checking examples ... OK
Examples with CPU or elapsed time > 5s
user system elapsed
Heatmap 10.62 0.012 10.63
* checking for unstated dependencies in ‘tests’ ... OK
* checking tests ...
Running ‘test-all.R’
OK
* checking for unstated dependencies in vignettes ... OK
* checking package vignettes in ‘inst/doc’ ... OK
* checking running R code from vignettes ... SKIPPED
* checking re-building of vignette outputs ... SKIPPED
* checking PDF version of manual ... OK
* DONE
Status: 1 NOTE
See
‘/home/biocbuild/bbs-3.4-bioc/meat/ComplexHeatmap.Rcheck/00check.log’
for details.
ComplexHeatmap.Rcheck/00install.out:
* installing *source* package ‘ComplexHeatmap’ ... ** R ** inst ** preparing package for lazy loading ** help *** installing help indices ** building package indices ** installing vignettes ** testing if installed package can be loaded * DONE (ComplexHeatmap)
ComplexHeatmap.Rcheck/ComplexHeatmap-Ex.timings:
| name | user | system | elapsed | |
| AdditiveUnit-class | 0.000 | 0.000 | 0.001 | |
| AdditiveUnit | 0.000 | 0.000 | 0.001 | |
| ColorMapping-class | 0 | 0 | 0 | |
| ColorMapping | 0.016 | 0.000 | 0.016 | |
| ComplexHeatmap-package | 0 | 0 | 0 | |
| Heatmap-class | 0.000 | 0.000 | 0.001 | |
| Heatmap | 10.620 | 0.012 | 10.630 | |
| HeatmapAnnotation-class | 0.000 | 0.000 | 0.001 | |
| HeatmapAnnotation | 0.080 | 0.004 | 0.085 | |
| HeatmapList-class | 3.668 | 0.000 | 3.680 | |
| HeatmapList | 0 | 0 | 0 | |
| Legend | 0 | 0 | 0 | |
| SingleAnnotation-class | 0 | 0 | 0 | |
| SingleAnnotation | 0.064 | 0.004 | 0.068 | |
| add.AdditiveUnit | 3.880 | 0.000 | 3.881 | |
| add_heatmap-Heatmap-method | 1.052 | 0.000 | 1.051 | |
| add_heatmap-HeatmapAnnotation-method | 0.368 | 0.000 | 0.367 | |
| add_heatmap-HeatmapList-method | 1.616 | 0.004 | 1.620 | |
| add_heatmap-dispatch | 0.000 | 0.000 | 0.001 | |
| anno_barplot | 0.008 | 0.000 | 0.009 | |
| anno_boxplot | 0.028 | 0.000 | 0.027 | |
| anno_density | 0.180 | 0.000 | 0.178 | |
| anno_histogram | 0.048 | 0.000 | 0.047 | |
| anno_link | 1.552 | 0.004 | 1.569 | |
| anno_oncoprint_barplot | 0.000 | 0.000 | 0.001 | |
| anno_points | 0.020 | 0.000 | 0.021 | |
| anno_text | 0.292 | 0.000 | 0.292 | |
| annotation_legend_size-HeatmapList-method | 0.000 | 0.000 | 0.001 | |
| color_mapping_legend-ColorMapping-method | 0.168 | 0.000 | 0.169 | |
| columnAnnotation | 0.012 | 0.000 | 0.012 | |
| column_anno_barplot | 0.000 | 0.000 | 0.001 | |
| column_anno_boxplot | 0 | 0 | 0 | |
| column_anno_density | 0 | 0 | 0 | |
| column_anno_histogram | 0.004 | 0.000 | 0.000 | |
| column_anno_link | 0 | 0 | 0 | |
| column_anno_points | 0.000 | 0.000 | 0.001 | |
| column_anno_text | 0.000 | 0.000 | 0.001 | |
| column_dend-Heatmap-method | 0.080 | 0.000 | 0.082 | |
| column_dend-HeatmapList-method | 0.216 | 0.000 | 0.220 | |
| column_dend-dispatch | 0 | 0 | 0 | |
| column_order-Heatmap-method | 0.076 | 0.000 | 0.077 | |
| column_order-HeatmapList-method | 0.208 | 0.000 | 0.212 | |
| column_order-dispatch | 0 | 0 | 0 | |
| component_height-Heatmap-method | 0 | 0 | 0 | |
| component_height-HeatmapList-method | 0 | 0 | 0 | |
| component_height-dispatch | 0.004 | 0.000 | 0.001 | |
| component_width-Heatmap-method | 0.000 | 0.000 | 0.001 | |
| component_width-HeatmapList-method | 0.000 | 0.000 | 0.001 | |
| component_width-dispatch | 0 | 0 | 0 | |
| decorate_annotation | 0.580 | 0.000 | 0.582 | |
| decorate_column_dend | 0 | 0 | 0 | |
| decorate_column_names | 0 | 0 | 0 | |
| decorate_column_title | 0 | 0 | 0 | |
| decorate_dend | 0.312 | 0.000 | 0.310 | |
| decorate_dimnames | 0.344 | 0.000 | 0.345 | |
| decorate_heatmap_body | 0.284 | 0.000 | 0.284 | |
| decorate_row_dend | 0 | 0 | 0 | |
| decorate_row_names | 0 | 0 | 0 | |
| decorate_row_title | 0 | 0 | 0 | |
| decorate_title | 0.308 | 0.000 | 0.305 | |
| densityHeatmap | 3.04 | 0.02 | 3.06 | |
| dist2 | 0.004 | 0.000 | 0.006 | |
| draw-Heatmap-method | 0.360 | 0.000 | 0.359 | |
| draw-HeatmapAnnotation-method | 0.128 | 0.004 | 0.131 | |
| draw-HeatmapList-method | 1.316 | 0.004 | 1.322 | |
| draw-SingleAnnotation-method | 0.212 | 0.004 | 0.218 | |
| draw-dispatch | 0 | 0 | 0 | |
| draw_annotation-Heatmap-method | 0 | 0 | 0 | |
| draw_annotation_legend-HeatmapList-method | 0.000 | 0.000 | 0.001 | |
| draw_dend-Heatmap-method | 0.000 | 0.000 | 0.001 | |
| draw_dimnames-Heatmap-method | 0.004 | 0.000 | 0.000 | |
| draw_heatmap_body-Heatmap-method | 0 | 0 | 0 | |
| draw_heatmap_legend-HeatmapList-method | 0 | 0 | 0 | |
| draw_heatmap_list-HeatmapList-method | 0 | 0 | 0 | |
| draw_title-Heatmap-method | 0 | 0 | 0 | |
| draw_title-HeatmapList-method | 0.000 | 0.000 | 0.001 | |
| draw_title-dispatch | 0.000 | 0.000 | 0.001 | |
| enhanced_basicplot | 0.836 | 0.000 | 0.832 | |
| get_color_mapping_list-HeatmapAnnotation-method | 0 | 0 | 0 | |
| get_color_mapping_param_list-HeatmapAnnotation-method | 0 | 0 | 0 | |
| grid.dendrogram | 0.016 | 0.004 | 0.021 | |
| heatmap_legend_size-HeatmapList-method | 0.000 | 0.000 | 0.001 | |
| ht_global_opt | 0 | 0 | 0 | |
| is_abs_unit | 0.004 | 0.000 | 0.001 | |
| make_column_cluster-Heatmap-method | 0 | 0 | 0 | |
| make_layout-Heatmap-method | 0 | 0 | 0 | |
| make_layout-HeatmapList-method | 0.000 | 0.000 | 0.001 | |
| make_layout-dispatch | 0.000 | 0.000 | 0.001 | |
| make_row_cluster-Heatmap-method | 0 | 0 | 0 | |
| map_to_colors-ColorMapping-method | 0.020 | 0.000 | 0.017 | |
| max_text_height | 0.004 | 0.000 | 0.002 | |
| max_text_width | 0.000 | 0.000 | 0.001 | |
| oncoPrint | 0.004 | 0.000 | 0.001 | |
| plotDataFrame | 2.288 | 0.000 | 2.291 | |
| prepare-Heatmap-method | 0 | 0 | 0 | |
| rowAnnotation | 0.012 | 0.000 | 0.012 | |
| row_anno_barplot | 0 | 0 | 0 | |
| row_anno_boxplot | 0 | 0 | 0 | |
| row_anno_density | 0 | 0 | 0 | |
| row_anno_histogram | 0.000 | 0.000 | 0.001 | |
| row_anno_link | 0.000 | 0.000 | 0.001 | |
| row_anno_points | 0.000 | 0.004 | 0.001 | |
| row_anno_text | 0 | 0 | 0 | |
| row_dend-Heatmap-method | 0.080 | 0.000 | 0.079 | |
| row_dend-HeatmapList-method | 0.22 | 0.00 | 0.22 | |
| row_dend-dispatch | 0 | 0 | 0 | |
| row_order-Heatmap-method | 0.080 | 0.000 | 0.081 | |
| row_order-HeatmapList-method | 0.212 | 0.000 | 0.211 | |
| row_order-dispatch | 0 | 0 | 0 | |
| selectArea | 0 | 0 | 0 | |
| set_component_height-Heatmap-method | 0.000 | 0.000 | 0.001 | |
| show-ColorMapping-method | 0.000 | 0.000 | 0.001 | |
| show-Heatmap-method | 0.688 | 0.000 | 0.686 | |
| show-HeatmapAnnotation-method | 0.000 | 0.000 | 0.001 | |
| show-HeatmapList-method | 0.004 | 0.000 | 0.001 | |
| show-SingleAnnotation-method | 0 | 0 | 0 | |
| show-dispatch | 0 | 0 | 0 | |
| unify_mat_list | 0 | 0 | 0 | |