| Back to the "Multiple platform build/check report" | A B [C] D E F G H I J K L M N O P Q R S T U V W X Y Z |
This page was generated on 2016-09-21 03:46:58 -0700 (Wed, 21 Sep 2016).
| Package 245/1257 | Hostname | OS / Arch | INSTALL | BUILD | CHECK | BUILD BIN | |||||
| ComplexHeatmap 1.11.6 Zuguang Gu
| zin1 | Linux (Ubuntu 16.04 LTS) / x86_64 | OK | OK | OK | ||||||
| moscato1 | Windows Server 2008 R2 Standard (64-bit) / x64 | OK | OK | [ OK ] | OK | ||||||
| morelia | Mac OS X Mavericks (10.9.5) / x86_64 | OK | OK | OK | OK |
| Package: ComplexHeatmap |
| Version: 1.11.6 |
| Command: rm -rf ComplexHeatmap.buildbin-libdir ComplexHeatmap.Rcheck && mkdir ComplexHeatmap.buildbin-libdir ComplexHeatmap.Rcheck && D:\biocbld\bbs-3.4-bioc\R\bin\R.exe CMD INSTALL --build --merge-multiarch --library=ComplexHeatmap.buildbin-libdir ComplexHeatmap_1.11.6.tar.gz >ComplexHeatmap.Rcheck\00install.out 2>&1 && cp ComplexHeatmap.Rcheck\00install.out ComplexHeatmap-install.out && D:\biocbld\bbs-3.4-bioc\R\bin\R.exe CMD check --library=ComplexHeatmap.buildbin-libdir --install="check:ComplexHeatmap-install.out" --force-multiarch --no-vignettes --timings ComplexHeatmap_1.11.6.tar.gz |
| StartedAt: 2016-09-20 06:19:28 -0700 (Tue, 20 Sep 2016) |
| EndedAt: 2016-09-20 06:23:02 -0700 (Tue, 20 Sep 2016) |
| EllapsedTime: 214.0 seconds |
| RetCode: 0 |
| Status: OK |
| CheckDir: ComplexHeatmap.Rcheck |
| Warnings: 0 |
##############################################################################
##############################################################################
###
### Running command:
###
### rm -rf ComplexHeatmap.buildbin-libdir ComplexHeatmap.Rcheck && mkdir ComplexHeatmap.buildbin-libdir ComplexHeatmap.Rcheck && D:\biocbld\bbs-3.4-bioc\R\bin\R.exe CMD INSTALL --build --merge-multiarch --library=ComplexHeatmap.buildbin-libdir ComplexHeatmap_1.11.6.tar.gz >ComplexHeatmap.Rcheck\00install.out 2>&1 && cp ComplexHeatmap.Rcheck\00install.out ComplexHeatmap-install.out && D:\biocbld\bbs-3.4-bioc\R\bin\R.exe CMD check --library=ComplexHeatmap.buildbin-libdir --install="check:ComplexHeatmap-install.out" --force-multiarch --no-vignettes --timings ComplexHeatmap_1.11.6.tar.gz
###
##############################################################################
##############################################################################
* using log directory 'D:/biocbld/bbs-3.4-bioc/meat/ComplexHeatmap.Rcheck'
* using R version 3.3.1 (2016-06-21)
* using platform: x86_64-w64-mingw32 (64-bit)
* using session charset: ISO8859-1
* using option '--no-vignettes'
* checking for file 'ComplexHeatmap/DESCRIPTION' ... OK
* checking extension type ... Package
* this is package 'ComplexHeatmap' version '1.11.6'
* checking package namespace information ... OK
* checking package dependencies ... OK
* checking if this is a source package ... OK
* checking if there is a namespace ... OK
* checking for hidden files and directories ... OK
* checking for portable file names ... OK
* checking whether package 'ComplexHeatmap' can be installed ... OK
* checking installed package size ... OK
* checking package directory ... OK
* checking 'build' directory ... OK
* checking DESCRIPTION meta-information ... OK
* checking top-level files ... OK
* checking for left-over files ... OK
* checking index information ... OK
* checking package subdirectories ... OK
* checking R files for non-ASCII characters ... OK
* checking R files for syntax errors ... OK
* loading checks for arch 'i386'
** checking whether the package can be loaded ... OK
** checking whether the package can be loaded with stated dependencies ... OK
** checking whether the package can be unloaded cleanly ... OK
** checking whether the namespace can be loaded with stated dependencies ... OK
** checking whether the namespace can be unloaded cleanly ... OK
* loading checks for arch 'x64'
** checking whether the package can be loaded ... OK
** checking whether the package can be loaded with stated dependencies ... OK
** checking whether the package can be unloaded cleanly ... OK
** checking whether the namespace can be loaded with stated dependencies ... OK
** checking whether the namespace can be unloaded cleanly ... OK
* checking dependencies in R code ... OK
* checking S3 generic/method consistency ... OK
* checking replacement functions ... OK
* checking foreign function calls ... OK
* checking R code for possible problems ... OK
* checking Rd files ... OK
* checking Rd metadata ... OK
* checking Rd cross-references ... OK
* checking for missing documentation entries ... OK
* checking for code/documentation mismatches ... OK
* checking Rd \usage sections ... OK
* checking Rd contents ... OK
* checking for unstated dependencies in examples ... OK
* checking installed files from 'inst/doc' ... OK
* checking files in 'vignettes' ... OK
* checking examples ...
** running examples for arch 'i386' ... OK
Examples with CPU or elapsed time > 5s
user system elapsed
Heatmap 13.37 0.02 13.46
add.AdditiveUnit 5.31 0.00 6.28
** running examples for arch 'x64' ... OK
Examples with CPU or elapsed time > 5s
user system elapsed
Heatmap 15.33 0.1 15.47
add.AdditiveUnit 5.88 0.0 5.89
HeatmapList-class 5.34 0.0 5.35
* checking for unstated dependencies in 'tests' ... OK
* checking tests ...
** running tests for arch 'i386' ...
Running 'test-all.R'
OK
** running tests for arch 'x64' ...
Running 'test-all.R'
OK
* checking for unstated dependencies in vignettes ... OK
* checking package vignettes in 'inst/doc' ... OK
* checking running R code from vignettes ... SKIPPED
* checking re-building of vignette outputs ... SKIPPED
* checking PDF version of manual ... OK
* DONE
Status: OK
ComplexHeatmap.Rcheck/00install.out:
install for i386 * installing *source* package 'ComplexHeatmap' ... ** R ** inst ** preparing package for lazy loading ** help *** installing help indices ** building package indices ** installing vignettes ** testing if installed package can be loaded install for x64 * installing *source* package 'ComplexHeatmap' ... ** testing if installed package can be loaded * MD5 sums packaged installation of 'ComplexHeatmap' as ComplexHeatmap_1.11.6.zip * DONE (ComplexHeatmap)
ComplexHeatmap.Rcheck/examples_i386/ComplexHeatmap-Ex.timings:
| name | user | system | elapsed | |
| AdditiveUnit-class | 0 | 0 | 0 | |
| AdditiveUnit | 0 | 0 | 0 | |
| ColorMapping-class | 0.00 | 0.00 | 0.01 | |
| ColorMapping | 0.02 | 0.00 | 0.02 | |
| ComplexHeatmap-package | 0 | 0 | 0 | |
| Heatmap-class | 0 | 0 | 0 | |
| Heatmap | 13.37 | 0.02 | 13.46 | |
| HeatmapAnnotation-class | 0 | 0 | 0 | |
| HeatmapAnnotation | 0.11 | 0.00 | 0.11 | |
| HeatmapList-class | 4.34 | 0.01 | 4.35 | |
| HeatmapList | 0 | 0 | 0 | |
| Legend | 0 | 0 | 0 | |
| SingleAnnotation-class | 0 | 0 | 0 | |
| SingleAnnotation | 0.07 | 0.00 | 0.07 | |
| add.AdditiveUnit | 5.31 | 0.00 | 6.28 | |
| add_heatmap-Heatmap-method | 1.17 | 0.00 | 1.17 | |
| add_heatmap-HeatmapAnnotation-method | 0.45 | 0.00 | 0.45 | |
| add_heatmap-HeatmapList-method | 2.06 | 0.00 | 2.06 | |
| add_heatmap-dispatch | 0 | 0 | 0 | |
| anno_barplot | 0.01 | 0.00 | 0.01 | |
| anno_boxplot | 0.04 | 0.00 | 0.03 | |
| anno_density | 0.28 | 0.00 | 0.28 | |
| anno_histogram | 0.04 | 0.00 | 0.05 | |
| anno_link | 1.92 | 0.00 | 1.90 | |
| anno_oncoprint_barplot | 0 | 0 | 0 | |
| anno_points | 0.03 | 0.00 | 0.03 | |
| anno_text | 0.34 | 0.00 | 0.34 | |
| annotation_legend_size-HeatmapList-method | 0 | 0 | 0 | |
| color_mapping_legend-ColorMapping-method | 0.2 | 0.0 | 0.3 | |
| columnAnnotation | 0.02 | 0.00 | 0.01 | |
| column_anno_barplot | 0 | 0 | 0 | |
| column_anno_boxplot | 0 | 0 | 0 | |
| column_anno_density | 0 | 0 | 0 | |
| column_anno_histogram | 0 | 0 | 0 | |
| column_anno_link | 0 | 0 | 0 | |
| column_anno_points | 0 | 0 | 0 | |
| column_anno_text | 0 | 0 | 0 | |
| column_dend-Heatmap-method | 0.11 | 0.00 | 0.11 | |
| column_dend-HeatmapList-method | 0.26 | 0.00 | 0.27 | |
| column_dend-dispatch | 0 | 0 | 0 | |
| column_order-Heatmap-method | 0.16 | 0.00 | 0.15 | |
| column_order-HeatmapList-method | 0.25 | 0.00 | 0.25 | |
| column_order-dispatch | 0 | 0 | 0 | |
| component_height-Heatmap-method | 0 | 0 | 0 | |
| component_height-HeatmapList-method | 0 | 0 | 0 | |
| component_height-dispatch | 0 | 0 | 0 | |
| component_width-Heatmap-method | 0 | 0 | 0 | |
| component_width-HeatmapList-method | 0.02 | 0.00 | 0.02 | |
| component_width-dispatch | 0 | 0 | 0 | |
| decorate_annotation | 0.67 | 0.00 | 0.67 | |
| decorate_column_dend | 0 | 0 | 0 | |
| decorate_column_names | 0 | 0 | 0 | |
| decorate_column_title | 0.01 | 0.00 | 0.01 | |
| decorate_dend | 0.35 | 0.00 | 0.35 | |
| decorate_dimnames | 0.37 | 0.00 | 0.37 | |
| decorate_heatmap_body | 0.33 | 0.00 | 0.33 | |
| decorate_row_dend | 0 | 0 | 0 | |
| decorate_row_names | 0 | 0 | 0 | |
| decorate_row_title | 0 | 0 | 0 | |
| decorate_title | 0.36 | 0.00 | 0.36 | |
| densityHeatmap | 3.51 | 0.02 | 3.52 | |
| dist2 | 0.01 | 0.00 | 0.02 | |
| draw-Heatmap-method | 0.38 | 0.00 | 0.37 | |
| draw-HeatmapAnnotation-method | 0.15 | 0.00 | 0.16 | |
| draw-HeatmapList-method | 1.52 | 0.00 | 1.51 | |
| draw-SingleAnnotation-method | 0.14 | 0.00 | 0.14 | |
| draw-dispatch | 0 | 0 | 0 | |
| draw_annotation-Heatmap-method | 0 | 0 | 0 | |
| draw_annotation_legend-HeatmapList-method | 0 | 0 | 0 | |
| draw_dend-Heatmap-method | 0 | 0 | 0 | |
| draw_dimnames-Heatmap-method | 0 | 0 | 0 | |
| draw_heatmap_body-Heatmap-method | 0 | 0 | 0 | |
| draw_heatmap_legend-HeatmapList-method | 0 | 0 | 0 | |
| draw_heatmap_list-HeatmapList-method | 0 | 0 | 0 | |
| draw_title-Heatmap-method | 0 | 0 | 0 | |
| draw_title-HeatmapList-method | 0 | 0 | 0 | |
| draw_title-dispatch | 0 | 0 | 0 | |
| enhanced_basicplot | 1.08 | 0.00 | 1.08 | |
| get_color_mapping_list-HeatmapAnnotation-method | 0 | 0 | 0 | |
| get_color_mapping_param_list-HeatmapAnnotation-method | 0 | 0 | 0 | |
| grid.dendrogram | 0.03 | 0.00 | 0.03 | |
| heatmap_legend_size-HeatmapList-method | 0 | 0 | 0 | |
| ht_global_opt | 0 | 0 | 0 | |
| is_abs_unit | 0 | 0 | 0 | |
| make_column_cluster-Heatmap-method | 0 | 0 | 0 | |
| make_layout-Heatmap-method | 0 | 0 | 0 | |
| make_layout-HeatmapList-method | 0 | 0 | 0 | |
| make_layout-dispatch | 0 | 0 | 0 | |
| make_row_cluster-Heatmap-method | 0 | 0 | 0 | |
| map_to_colors-ColorMapping-method | 0.02 | 0.00 | 0.02 | |
| max_text_height | 0 | 0 | 0 | |
| max_text_width | 0 | 0 | 0 | |
| oncoPrint | 0 | 0 | 0 | |
| plotDataFrame | 2.94 | 0.01 | 2.97 | |
| prepare-Heatmap-method | 0 | 0 | 0 | |
| rowAnnotation | 0.02 | 0.00 | 0.01 | |
| row_anno_barplot | 0 | 0 | 0 | |
| row_anno_boxplot | 0 | 0 | 0 | |
| row_anno_density | 0 | 0 | 0 | |
| row_anno_histogram | 0 | 0 | 0 | |
| row_anno_link | 0 | 0 | 0 | |
| row_anno_points | 0 | 0 | 0 | |
| row_anno_text | 0 | 0 | 0 | |
| row_dend-Heatmap-method | 0.09 | 0.00 | 0.09 | |
| row_dend-HeatmapList-method | 0.25 | 0.00 | 0.25 | |
| row_dend-dispatch | 0 | 0 | 0 | |
| row_order-Heatmap-method | 0.09 | 0.00 | 0.10 | |
| row_order-HeatmapList-method | 0.25 | 0.00 | 0.24 | |
| row_order-dispatch | 0 | 0 | 0 | |
| selectArea | 0 | 0 | 0 | |
| set_component_height-Heatmap-method | 0 | 0 | 0 | |
| show-ColorMapping-method | 0 | 0 | 0 | |
| show-Heatmap-method | 0.75 | 0.02 | 0.77 | |
| show-HeatmapAnnotation-method | 0 | 0 | 0 | |
| show-HeatmapList-method | 0 | 0 | 0 | |
| show-SingleAnnotation-method | 0 | 0 | 0 | |
| show-dispatch | 0 | 0 | 0 | |
| unify_mat_list | 0 | 0 | 0 | |
ComplexHeatmap.Rcheck/examples_x64/ComplexHeatmap-Ex.timings:
| name | user | system | elapsed | |
| AdditiveUnit-class | 0 | 0 | 0 | |
| AdditiveUnit | 0 | 0 | 0 | |
| ColorMapping-class | 0 | 0 | 0 | |
| ColorMapping | 0.02 | 0.00 | 0.02 | |
| ComplexHeatmap-package | 0.02 | 0.00 | 0.02 | |
| Heatmap-class | 0 | 0 | 0 | |
| Heatmap | 15.33 | 0.10 | 15.47 | |
| HeatmapAnnotation-class | 0 | 0 | 0 | |
| HeatmapAnnotation | 0.12 | 0.00 | 0.12 | |
| HeatmapList-class | 5.34 | 0.00 | 5.35 | |
| HeatmapList | 0 | 0 | 0 | |
| Legend | 0 | 0 | 0 | |
| SingleAnnotation-class | 0 | 0 | 0 | |
| SingleAnnotation | 0.10 | 0.00 | 0.09 | |
| add.AdditiveUnit | 5.88 | 0.00 | 5.89 | |
| add_heatmap-Heatmap-method | 1.42 | 0.00 | 1.42 | |
| add_heatmap-HeatmapAnnotation-method | 0.53 | 0.00 | 0.53 | |
| add_heatmap-HeatmapList-method | 2.38 | 0.00 | 2.38 | |
| add_heatmap-dispatch | 0 | 0 | 0 | |
| anno_barplot | 0.00 | 0.01 | 0.01 | |
| anno_boxplot | 0.04 | 0.00 | 0.05 | |
| anno_density | 0.30 | 0.00 | 0.36 | |
| anno_histogram | 0.2 | 0.0 | 0.2 | |
| anno_link | 2.19 | 0.00 | 2.18 | |
| anno_oncoprint_barplot | 0 | 0 | 0 | |
| anno_points | 0.03 | 0.00 | 0.03 | |
| anno_text | 0.40 | 0.00 | 0.41 | |
| annotation_legend_size-HeatmapList-method | 0 | 0 | 0 | |
| color_mapping_legend-ColorMapping-method | 0.35 | 0.00 | 0.34 | |
| columnAnnotation | 0.01 | 0.00 | 0.02 | |
| column_anno_barplot | 0 | 0 | 0 | |
| column_anno_boxplot | 0 | 0 | 0 | |
| column_anno_density | 0 | 0 | 0 | |
| column_anno_histogram | 0 | 0 | 0 | |
| column_anno_link | 0 | 0 | 0 | |
| column_anno_points | 0 | 0 | 0 | |
| column_anno_text | 0 | 0 | 0 | |
| column_dend-Heatmap-method | 0.11 | 0.00 | 0.11 | |
| column_dend-HeatmapList-method | 0.31 | 0.00 | 0.32 | |
| column_dend-dispatch | 0 | 0 | 0 | |
| column_order-Heatmap-method | 0.11 | 0.00 | 0.11 | |
| column_order-HeatmapList-method | 0.28 | 0.00 | 0.28 | |
| column_order-dispatch | 0 | 0 | 0 | |
| component_height-Heatmap-method | 0 | 0 | 0 | |
| component_height-HeatmapList-method | 0 | 0 | 0 | |
| component_height-dispatch | 0 | 0 | 0 | |
| component_width-Heatmap-method | 0 | 0 | 0 | |
| component_width-HeatmapList-method | 0 | 0 | 0 | |
| component_width-dispatch | 0 | 0 | 0 | |
| decorate_annotation | 0.81 | 0.00 | 0.81 | |
| decorate_column_dend | 0 | 0 | 0 | |
| decorate_column_names | 0 | 0 | 0 | |
| decorate_column_title | 0 | 0 | 0 | |
| decorate_dend | 0.4 | 0.0 | 0.4 | |
| decorate_dimnames | 0.48 | 0.00 | 0.49 | |
| decorate_heatmap_body | 0.39 | 0.00 | 0.39 | |
| decorate_row_dend | 0 | 0 | 0 | |
| decorate_row_names | 0 | 0 | 0 | |
| decorate_row_title | 0 | 0 | 0 | |
| decorate_title | 0.44 | 0.00 | 0.43 | |
| densityHeatmap | 4.26 | 0.00 | 4.26 | |
| dist2 | 0 | 0 | 0 | |
| draw-Heatmap-method | 0.45 | 0.00 | 0.46 | |
| draw-HeatmapAnnotation-method | 0.17 | 0.00 | 0.17 | |
| draw-HeatmapList-method | 1.78 | 0.00 | 1.80 | |
| draw-SingleAnnotation-method | 0.15 | 0.00 | 0.15 | |
| draw-dispatch | 0.02 | 0.00 | 0.02 | |
| draw_annotation-Heatmap-method | 0 | 0 | 0 | |
| draw_annotation_legend-HeatmapList-method | 0 | 0 | 0 | |
| draw_dend-Heatmap-method | 0 | 0 | 0 | |
| draw_dimnames-Heatmap-method | 0 | 0 | 0 | |
| draw_heatmap_body-Heatmap-method | 0 | 0 | 0 | |
| draw_heatmap_legend-HeatmapList-method | 0 | 0 | 0 | |
| draw_heatmap_list-HeatmapList-method | 0 | 0 | 0 | |
| draw_title-Heatmap-method | 0 | 0 | 0 | |
| draw_title-HeatmapList-method | 0 | 0 | 0 | |
| draw_title-dispatch | 0.02 | 0.00 | 0.01 | |
| enhanced_basicplot | 1.24 | 0.00 | 1.25 | |
| get_color_mapping_list-HeatmapAnnotation-method | 0 | 0 | 0 | |
| get_color_mapping_param_list-HeatmapAnnotation-method | 0 | 0 | 0 | |
| grid.dendrogram | 0.01 | 0.00 | 0.01 | |
| heatmap_legend_size-HeatmapList-method | 0 | 0 | 0 | |
| ht_global_opt | 0 | 0 | 0 | |
| is_abs_unit | 0.02 | 0.00 | 0.02 | |
| make_column_cluster-Heatmap-method | 0 | 0 | 0 | |
| make_layout-Heatmap-method | 0 | 0 | 0 | |
| make_layout-HeatmapList-method | 0 | 0 | 0 | |
| make_layout-dispatch | 0 | 0 | 0 | |
| make_row_cluster-Heatmap-method | 0 | 0 | 0 | |
| map_to_colors-ColorMapping-method | 0.03 | 0.00 | 0.03 | |
| max_text_height | 0 | 0 | 0 | |
| max_text_width | 0.02 | 0.00 | 0.02 | |
| oncoPrint | 0 | 0 | 0 | |
| plotDataFrame | 3.41 | 0.00 | 3.41 | |
| prepare-Heatmap-method | 0 | 0 | 0 | |
| rowAnnotation | 0.02 | 0.00 | 0.02 | |
| row_anno_barplot | 0 | 0 | 0 | |
| row_anno_boxplot | 0 | 0 | 0 | |
| row_anno_density | 0 | 0 | 0 | |
| row_anno_histogram | 0 | 0 | 0 | |
| row_anno_link | 0 | 0 | 0 | |
| row_anno_points | 0 | 0 | 0 | |
| row_anno_text | 0 | 0 | 0 | |
| row_dend-Heatmap-method | 0.11 | 0.00 | 0.11 | |
| row_dend-HeatmapList-method | 0.31 | 0.00 | 0.31 | |
| row_dend-dispatch | 0 | 0 | 0 | |
| row_order-Heatmap-method | 0.11 | 0.00 | 0.11 | |
| row_order-HeatmapList-method | 0.31 | 0.00 | 0.31 | |
| row_order-dispatch | 0 | 0 | 0 | |
| selectArea | 0 | 0 | 0 | |
| set_component_height-Heatmap-method | 0 | 0 | 0 | |
| show-ColorMapping-method | 0 | 0 | 0 | |
| show-Heatmap-method | 1.06 | 0.00 | 1.06 | |
| show-HeatmapAnnotation-method | 0 | 0 | 0 | |
| show-HeatmapList-method | 0 | 0 | 0 | |
| show-SingleAnnotation-method | 0 | 0 | 0 | |
| show-dispatch | 0 | 0 | 0 | |
| unify_mat_list | 0 | 0 | 0 | |