tspair 1.30.0 Jeffrey T. Leek
 | Snapshot Date: 2016-10-12 17:20:15 -0700 (Wed, 12 Oct 2016) |  | URL: https://hedgehog.fhcrc.org/bioconductor/branches/RELEASE_3_3/madman/Rpacks/tspair |  | Last Changed Rev: 117079 / Revision: 122332 |  | Last Changed Date: 2016-05-03 14:20:18 -0700 (Tue, 03 May 2016) |  
  | zin2  | Linux (Ubuntu 14.04.2 LTS) / x86_64  | [ OK ] |  OK  |  OK  |  |   | 
| moscato2  | Windows Server 2008 R2 Enterprise SP1 (64-bit) / x64  |  OK  |  OK  |  OK  |  OK  |   | 
| oaxaca  | Mac OS X Mavericks (10.9.5) / x86_64  |  OK  |  OK  |  OK  |  OK  |   | 
##############################################################################
##############################################################################
###
### Running command:
###
###   /home/biocbuild/bbs-3.3-bioc/R/bin/R CMD INSTALL tspair
###
##############################################################################
##############################################################################
* installing to library ‘/home/biocbuild/bbs-3.3-bioc/R/library’
* installing *source* package ‘tspair’ ...
** libs
gcc -std=gnu99 -I/home/biocbuild/bbs-3.3-bioc/R/include -DNDEBUG  -I/usr/local/include    -fpic  -g -O2  -Wall -c tsp.c -o tsp.o
gcc -std=gnu99 -shared -L/home/biocbuild/bbs-3.3-bioc/R/lib -L/usr/local/lib -o tspair.so tsp.o -L/home/biocbuild/bbs-3.3-bioc/R/lib -lR
installing to /home/biocbuild/bbs-3.3-bioc/R/library/tspair/libs
** R
** data
** preparing package for lazy loading
** help
*** installing help indices
** building package indices
** installing vignettes
** testing if installed package can be loaded
* DONE (tspair)