| tspair 1.30.0 Jeffrey T. Leek
 
 | Snapshot Date: 2016-10-12 17:20:15 -0700 (Wed, 12 Oct 2016) |  | URL: https://hedgehog.fhcrc.org/bioconductor/branches/RELEASE_3_3/madman/Rpacks/tspair |  | Last Changed Rev: 117079 / Revision: 122332 |  | Last Changed Date: 2016-05-03 14:20:18 -0700 (Tue, 03 May 2016) | 
 | zin2 | Linux (Ubuntu 14.04.2 LTS) / x86_64 | OK | OK | OK |  |  | 
| moscato2 | Windows Server 2008 R2 Enterprise SP1 (64-bit) / x64 | OK | OK | OK | [ OK ] |  | 
| oaxaca | Mac OS X Mavericks (10.9.5) / x86_64 | OK | OK | OK | OK |  | 
##############################################################################
##############################################################################
###
### Running command:
###
###   cd tspair.buildbin-libdir/tspair && zip -r ../../tspair_1.30.0.zip . & cd ../..
###
##############################################################################
##############################################################################
  adding: data/ (256 bytes security) (stored 0%)
  adding: data/tspdata.rda (188 bytes security) (deflated 0%)
  adding: DESCRIPTION (188 bytes security) (deflated 47%)
  adding: doc/ (256 bytes security) (stored 0%)
  adding: doc/index.html (188 bytes security) (deflated 57%)
  adding: doc/tsp.pdf (188 bytes security) (deflated 8%)
  adding: doc/tsp.R (188 bytes security) (deflated 76%)
  adding: doc/tsp.Rnw (188 bytes security) (deflated 63%)
  adding: help/ (256 bytes security) (stored 0%)
  adding: help/aliases.rds (188 bytes security) (stored 0%)
  adding: help/AnIndex (188 bytes security) (deflated 54%)
  adding: help/paths.rds (188 bytes security) (stored 0%)
  adding: help/tspair.rdb (188 bytes security) (deflated 2%)
  adding: help/tspair.rdx (188 bytes security) (stored 0%)
  adding: html/ (256 bytes security) (stored 0%)
  adding: html/00Index.html (188 bytes security) (deflated 69%)
  adding: html/R.css (188 bytes security) (deflated 75%)
  adding: INDEX (188 bytes security) (deflated 41%)
  adding: libs/ (256 bytes security) (stored 0%)
  adding: libs/i386/ (256 bytes security) (stored 0%)
  adding: libs/i386/tspair.dll (188 bytes security) (deflated 61%)
  adding: libs/x64/ (256 bytes security) (stored 0%)
  adding: libs/x64/tspair.dll (188 bytes security) (deflated 60%)
  adding: MD5 (188 bytes security) (deflated 42%)
  adding: Meta/ (256 bytes security) (stored 0%)
  adding: Meta/data.rds (188 bytes security) (stored 0%)
  adding: Meta/hsearch.rds (188 bytes security) (stored 0%)
  adding: Meta/links.rds (188 bytes security) (stored 0%)
  adding: Meta/nsInfo.rds (188 bytes security) (stored 0%)
  adding: Meta/package.rds (188 bytes security) (stored 0%)
  adding: Meta/Rd.rds (188 bytes security) (stored 0%)
  adding: Meta/vignette.rds (188 bytes security) (stored 0%)
  adding: NAMESPACE (188 bytes security) (deflated 43%)
  adding: R/ (256 bytes security) (stored 0%)
  adding: R/tspair (188 bytes security) (deflated 41%)
  adding: R/tspair.rdb (188 bytes security) (deflated 2%)
  adding: R/tspair.rdx (188 bytes security) (stored 0%)