Back to the "Multiple platform build/check report" A  B  C  D  E  F  G  H  I  J  K  L  M  N  O  P  Q  R [S] T  U  V  W  X  Y  Z 

BioC 3.3: CHECK report for systemPipeR on morelia

This page was generated on 2016-04-21 13:25:45 -0700 (Thu, 21 Apr 2016).

Package 1143/1210HostnameOS / ArchINSTALLBUILDCHECKBUILD BIN
systemPipeR 1.5.9
Thomas Girke
Snapshot Date: 2016-04-20 17:20:35 -0700 (Wed, 20 Apr 2016)
URL: https://hedgehog.fhcrc.org/bioconductor/trunk/madman/Rpacks/systemPipeR
Last Changed Rev: 112930 / Revision: 116626
Last Changed Date: 2016-01-26 17:40:39 -0800 (Tue, 26 Jan 2016)
zin2 Linux (Ubuntu 14.04.2 LTS) / x86_64  OK  OK  OK UNNEEDED, same version exists in internal repository
moscato2 Windows Server 2008 R2 Enterprise SP1 (64-bit) / x64  OK  OK  OK  OK UNNEEDED, same version exists in internal repository
morelia Mac OS X Mavericks (10.9.5) / x86_64  OK  OK [ OK ] OK UNNEEDED, same version exists in internal repository

Summary

Package: systemPipeR
Version: 1.5.9
Command: /Library/Frameworks/R.framework/Versions/Current/Resources/bin/R CMD check --no-vignettes --timings systemPipeR_1.5.9.tar.gz
StartedAt: 2016-04-21 08:03:01 -0700 (Thu, 21 Apr 2016)
EndedAt: 2016-04-21 08:08:15 -0700 (Thu, 21 Apr 2016)
EllapsedTime: 313.9 seconds
RetCode: 0
Status:  OK 
CheckDir: systemPipeR.Rcheck
Warnings: 0

Command output

##############################################################################
##############################################################################
###
### Running command:
###
###   /Library/Frameworks/R.framework/Versions/Current/Resources/bin/R CMD check --no-vignettes --timings systemPipeR_1.5.9.tar.gz
###
##############################################################################
##############################################################################


* using log directory ‘/Users/biocbuild/bbs-3.3-bioc/meat/systemPipeR.Rcheck’
* using R version 3.3.0 beta (2016-04-06 r70435)
* using platform: x86_64-apple-darwin13.4.0 (64-bit)
* using session charset: UTF-8
* using option ‘--no-vignettes’
* checking for file ‘systemPipeR/DESCRIPTION’ ... OK
* checking extension type ... Package
* this is package ‘systemPipeR’ version ‘1.5.9’
* checking package namespace information ... OK
* checking package dependencies ... OK
* checking if this is a source package ... OK
* checking if there is a namespace ... OK
* checking for hidden files and directories ... NOTE
Found the following hidden files and directories:
  inst/extdata/.BatchJobs.R
These were most likely included in error. See section ‘Package
structure’ in the ‘Writing R Extensions’ manual.
* checking for portable file names ... OK
* checking for sufficient/correct file permissions ... OK
* checking whether package ‘systemPipeR’ can be installed ... [25s/25s] OK
* checking installed package size ... NOTE
  installed size is  5.3Mb
  sub-directories of 1Mb or more:
    doc       2.9Mb
    extdata   1.7Mb
* checking package directory ... OK
* checking ‘build’ directory ... OK
* checking DESCRIPTION meta-information ... OK
* checking top-level files ... OK
* checking for left-over files ... OK
* checking index information ... OK
* checking package subdirectories ... OK
* checking R files for non-ASCII characters ... OK
* checking R files for syntax errors ... OK
* checking whether the package can be loaded ... OK
* checking whether the package can be loaded with stated dependencies ... OK
* checking whether the package can be unloaded cleanly ... OK
* checking whether the namespace can be loaded with stated dependencies ... OK
* checking whether the namespace can be unloaded cleanly ... OK
* checking dependencies in R code ... NOTE
Namespaces in Imports field not imported from:
  ‘BiocGenerics’ ‘VariantAnnotation’
  All declared Imports should be used.
* checking S3 generic/method consistency ... OK
* checking replacement functions ... OK
* checking foreign function calls ... OK
* checking R code for possible problems ... NOTE
.AffyID2GeneID: no visible global function definition for ‘read.delim’
.readGOorg: no visible global function definition for ‘read.delim’
.readGOorg: no visible global function definition for ‘na.omit’
.resizeFeature: no visible global function definition for ‘DataFrame’
.sampleDFgene2GO: no visible global function definition for ‘na.omit’
.subsetReadsByMappingRegion: no visible global function definition for
  ‘IRanges’
.subsetReadsByMappingRegion: no visible global function definition for
  ‘seqlengths’
.subsetReadsByMappingRegion: no visible global function definition for
  ‘readGAlignments’
GOHyperGAll: no visible global function definition for ‘phyper’
GOHyperGAll_Simplify: no visible global function definition for
  ‘na.omit’
GOHyperGAll_Subset: no visible binding for global variable
  ‘test_sample’
clusterRun: no visible global function definition for ‘chunk’
combineVarReports: no visible global function definition for
  ‘read.delim’
countRangeset: no visible global function definition for ‘read.delim’
countRangeset: no visible global function definition for ‘import.bed’
countRangeset: no visible global function definition for
  ‘summarizeOverlaps’
countRangeset: no visible global function definition for ‘write.table’
featureCoverage: no visible global function definition for
  ‘readGAlignments’
featureCoverage: no visible global function definition for ‘qwidth’
featureCoverage: no visible global function definition for
  ‘subsetByOverlaps’
featureCoverage: no visible global function definition for ‘Rle’
featureCoverage: no visible global function definition for ‘na.omit’
featureCoverage: no visible global function definition for
  ‘write.table’
featuretypeCounts: no visible global function definition for
  ‘readGAlignments’
featuretypeCounts: no visible global function definition for
  ‘readGAlignmentPairs’
featuretypeCounts: no visible global function definition for
  ‘subsetByOverlaps’
featuretypeCounts: no visible global function definition for ‘qwidth’
featuretypeCounts: no visible global function definition for ‘last’
featuretypeCounts: no visible global function definition for ‘first’
filterDEGs: no visible binding for global variable ‘Comparisons’
filterDEGs: no visible binding for global variable ‘Counts’
filterDEGs: no visible binding for global variable ‘Type’
filterVars: no visible global function definition for ‘readVcf’
filterVars: no visible global function definition for ‘totalDepth<-’
filterVars: no visible global function definition for ‘refDepth<-’
filterVars: no visible global function definition for ‘altDepth<-’
filterVars: no visible global function definition for ‘asVCF’
filterVars: no visible global function definition for ‘writeVcf’
genFeatures: no visible global function definition for ‘DataFrame’
genFeatures: no visible global function definition for ‘seqlengths<-’
getQsubargs: no visible binding for global variable ‘tophatargs’
goBarplot: no visible binding for global variable ‘SampleMatch’
goBarplot: no visible binding for global variable ‘Sample’
olBarplot: no visible binding for global variable ‘Intersect_Sets’
olBarplot: no visible binding for global variable ‘Counts’
olBarplot: no visible binding for global variable ‘Level’
overLapper : <anonymous>: no visible global function definition for
  ‘combn’
plotfeatureCoverage: no visible global function definition for
  ‘aggregate’
plotfeatureCoverage: no visible binding for global variable ‘Coverage’
plotfeatureCoverage: no visible binding for global variable ‘Strand’
plotfeaturetypeCounts: no visible binding for global variable ‘Feature’
plotfeaturetypeCounts: no visible binding for global variable ‘Counts’
plotfeaturetypeCounts: no visible binding for global variable ‘Strand’
plotfeaturetypeCounts: no visible global function definition for
  ‘dev.off’
plotfeaturetypeCounts: no visible binding for global variable ‘Length’
predORF : .predORF: no visible global function definition for ‘na.omit’
predORF : .predORF: no visible global function definition for ‘IRanges’
readComp: no visible global function definition for ‘read.delim’
readComp: no visible global function definition for ‘combn’
runDiff: no visible global function definition for ‘read.delim’
runDiff: no visible global function definition for ‘write.table’
runDiff: no visible global function definition for ‘pdf’
runDiff: no visible global function definition for ‘dev.off’
run_edgeR: no visible global function definition for ‘model.matrix’
run_edgeR: no visible global function definition for ‘pdf’
run_edgeR: no visible global function definition for ‘dev.off’
scaleRanges : .scaleRanges: no visible global function definition for
  ‘IRanges’
scaleRanges: no visible global function definition for ‘DataFrame’
seeFastq : seeFastqSingle: no visible global function definition for
  ‘boxplot’
seeFastqPlot : fastqPlot: no visible binding for global variable
  ‘Cycle’
seeFastqPlot : fastqPlot: no visible binding for global variable ‘low’
seeFastqPlot : fastqPlot: no visible binding for global variable ‘mid’
seeFastqPlot : fastqPlot: no visible binding for global variable ‘top’
seeFastqPlot : fastqPlot: no visible binding for global variable
  ‘Frequency’
seeFastqPlot : fastqPlot: no visible binding for global variable ‘Base’
seeFastqPlot : fastqPlot: no visible binding for global variable
  ‘Quality’
seeFastqPlot : fastqPlot: no visible binding for global variable
  ‘RelDiv’
seeFastqPlot : fastqPlot: no visible binding for global variable
  ‘Method’
seeFastqPlot : fastqPlot: no visible binding for global variable
  ‘minQuality’
seeFastqPlot : fastqPlot: no visible binding for global variable
  ‘Percent’
seeFastqPlot : fastqPlot: no visible binding for global variable
  ‘Outliers’
systemArgs: no visible global function definition for ‘read.delim’
varSummary: no visible global function definition for ‘read.delim’
variantReport: no visible global function definition for ‘readVcf’
variantReport: no visible global function definition for
  ‘locateVariants’
variantReport: no visible global function definition for ‘AllVariants’
variantReport: no visible global function definition for
  ‘predictCoding’
variantReport: no visible global function definition for ‘ref’
variantReport: no visible global function definition for ‘alt’
variantReport: no visible global function definition for ‘write.table’
vennPlot: no visible global function definition for ‘symbols’
vennPlot: no visible global function definition for ‘text’
vennPlot : plotellipse: no visible global function definition for
  ‘plot’
vennPlot : ellipseVenn: no visible global function definition for
  ‘split.screen’
vennPlot : ellipseVenn: no visible global function definition for
  ‘screen’
vennPlot : ellipseVenn: no visible global function definition for
  ‘text’
vennPlot : ellipseVenn: no visible global function definition for
  ‘close.screen’
writeTargetsRef: no visible global function definition for ‘read.delim’
show,INTERSECTset: no visible binding for global variable ‘vennset’
Undefined global functions or variables:
  AllVariants Base Comparisons Counts Coverage Cycle DataFrame Feature
  Frequency IRanges Intersect_Sets Length Level Method Outliers Percent
  Quality RelDiv Rle Sample SampleMatch Strand Type aggregate alt
  altDepth<- asVCF boxplot chunk close.screen combn dev.off first
  import.bed last locateVariants low mid minQuality model.matrix
  na.omit pdf phyper plot predictCoding qwidth read.delim
  readGAlignmentPairs readGAlignments readVcf ref refDepth<- screen
  seqlengths seqlengths<- split.screen subsetByOverlaps
  summarizeOverlaps symbols test_sample text top tophatargs
  totalDepth<- vennset write.table writeVcf
Consider adding
  importFrom("grDevices", "dev.off", "pdf")
  importFrom("graphics", "boxplot", "close.screen", "plot", "screen",
             "split.screen", "symbols", "text")
  importFrom("stats", "aggregate", "model.matrix", "na.omit", "phyper")
  importFrom("utils", "combn", "read.delim", "write.table")
to your NAMESPACE file.
* checking Rd files ... OK
* checking Rd metadata ... OK
* checking Rd cross-references ... OK
* checking for missing documentation entries ... OK
* checking for code/documentation mismatches ... OK
* checking Rd \usage sections ... OK
* checking Rd contents ... OK
* checking for unstated dependencies in examples ... OK
* checking line endings in Makefiles ... OK
* checking for GNU extensions in Makefiles ... OK
* checking sizes of PDF files under ‘inst/doc’ ... OK
* checking installed files from ‘inst/doc’ ... OK
* checking files in ‘vignettes’ ... OK
* checking examples ... [37s/46s] OK
Examples with CPU or elapsed time > 5s
              user system elapsed
genFeatures 12.383  0.423  22.567
* checking for unstated dependencies in ‘tests’ ... OK
* checking tests ...
  Running ‘runTests.R’ [11s/11s]
 [12s/12s] OK
* checking for unstated dependencies in vignettes ... OK
* checking package vignettes in ‘inst/doc’ ... OK
* checking running R code from vignettes ... SKIPPED
* checking re-building of vignette outputs ... SKIPPED
* checking PDF version of manual ... OK
* DONE

Status: 4 NOTEs
See
  ‘/Users/biocbuild/bbs-3.3-bioc/meat/systemPipeR.Rcheck/00check.log’
for details.


systemPipeR.Rcheck/00install.out:

* installing *source* package ‘systemPipeR’ ...
** R
** inst
** preparing package for lazy loading
** help
*** installing help indices
** building package indices
** installing vignettes
** testing if installed package can be loaded
* DONE (systemPipeR)

systemPipeR.Rcheck/systemPipeR-Ex.timings:

nameusersystemelapsed
GOHyperGAll0.0020.0000.002
INTERSECTset-class0.0130.0060.018
SYSargs-class0.1040.0040.107
VENNset-class0.0110.0030.014
alignStats0.0220.0020.024
catDB-class0.0020.0010.002
catmap0.0020.0000.001
clusterRun0.0220.0020.023
countRangeset0.0700.0010.072
featureCoverage0.0130.0010.014
featuretypeCounts0.0130.0010.014
filterDEGs2.5580.0442.607
filterVars0.0120.0010.013
genFeatures12.383 0.42322.567
getQsubargs0.0210.0020.023
mergeBamByFactor0.0160.0010.018
moduleload0.0010.0000.001
olBarplot0.4520.0420.498
overLapper0.7320.0190.760
plotfeatureCoverage0.0140.0010.015
plotfeaturetypeCounts0.0090.0010.010
predORF0.3070.0020.331
preprocessReads0.0350.0030.037
qsubRun0.0230.0020.024
readComp0.0270.0020.030
returnRPKM0.0010.0010.001
runCommandline0.0180.0010.019
runDiff0.0520.0010.053
run_DESeq23.3280.0223.354
run_edgeR3.0420.1433.189
scaleRanges0.1750.0030.179
seeFastq0.0010.0000.001
symLink2bam0.0150.0010.016
sysargs0.0180.0020.019
systemArgs0.0170.0020.019
variantReport0.0170.0010.019
vennPlot0.4970.0230.523
writeTargetsRef0.0020.0000.001
writeTargetsout0.0150.0010.016