Back to the "Multiple platform build/check report" A  B  C  D  E  F  G  H  I  J  K  L [M] N  O  P  Q  R  S  T  U  V  W  X  Y  Z 

BioC 3.3: INSTALL report for missMethyl on morelia

This page was generated on 2016-04-21 13:25:33 -0700 (Thu, 21 Apr 2016).

Package 727/1210HostnameOS / ArchINSTALLBUILDCHECKBUILD BIN
missMethyl 1.5.5
Belinda Phipson , Jovana Maksimovic
Snapshot Date: 2016-04-20 17:20:35 -0700 (Wed, 20 Apr 2016)
URL: https://hedgehog.fhcrc.org/bioconductor/trunk/madman/Rpacks/missMethyl
Last Changed Rev: 116569 / Revision: 116626
Last Changed Date: 2016-04-19 14:11:46 -0700 (Tue, 19 Apr 2016)
zin2 Linux (Ubuntu 14.04.2 LTS) / x86_64  OK  OK  OK UNNEEDED, same version exists in internal repository
moscato2 Windows Server 2008 R2 Enterprise SP1 (64-bit) / x64  OK  OK  OK  OK UNNEEDED, same version exists in internal repository
morelia Mac OS X Mavericks (10.9.5) / x86_64 [ OK ] OK  OK  OK UNNEEDED, same version exists in internal repository

Summary

Package: missMethyl
Version: 1.5.5
Command: /Library/Frameworks/R.framework/Versions/Current/Resources/bin/R CMD INSTALL missMethyl
StartedAt: 2016-04-20 18:31:54 -0700 (Wed, 20 Apr 2016)
EndedAt: 2016-04-20 18:32:16 -0700 (Wed, 20 Apr 2016)
EllapsedTime: 22.3 seconds
RetCode: 0
Status:  OK 

Command output

##############################################################################
##############################################################################
###
### Running command:
###
###   /Library/Frameworks/R.framework/Versions/Current/Resources/bin/R CMD INSTALL missMethyl
###
##############################################################################
##############################################################################


* installing to library ‘/Library/Frameworks/R.framework/Versions/3.3/Resources/library’
* installing *source* package ‘missMethyl’ ...
** R
** inst
** preparing package for lazy loading
** help
*** installing help indices
** building package indices
** installing vignettes
** testing if installed package can be loaded
* DONE (missMethyl)