missMethyl 1.5.5 Belinda Phipson , Jovana Maksimovic
Snapshot Date: 2016-04-20 17:20:35 -0700 (Wed, 20 Apr 2016) | URL: https://hedgehog.fhcrc.org/bioconductor/trunk/madman/Rpacks/missMethyl | Last Changed Rev: 116569 / Revision: 116626 | Last Changed Date: 2016-04-19 14:11:46 -0700 (Tue, 19 Apr 2016) |
| zin2 | Linux (Ubuntu 14.04.2 LTS) / x86_64 | OK | OK | OK | | |
moscato2 | Windows Server 2008 R2 Enterprise SP1 (64-bit) / x64 | OK | OK | OK | OK | |
morelia | Mac OS X Mavericks (10.9.5) / x86_64 | OK | OK | OK | [ OK ] | |
##############################################################################
##############################################################################
###
### Running command:
###
### rm -rf missMethyl.buildbin-libdir && mkdir missMethyl.buildbin-libdir && /Users/biocbuild/BBS/utils/build-universal.sh missMethyl_1.5.5.tar.gz /Library/Frameworks/R.framework/Versions/Current/Resources/bin/R missMethyl.buildbin-libdir
###
##############################################################################
##############################################################################
>>>>>>>
>>>>>>> INSTALLATION WITH 'R CMD INSTALL --preclean --no-multiarch --library=missMethyl.buildbin-libdir missMethyl_1.5.5.tar.gz'
>>>>>>>
* installing *source* package ‘missMethyl’ ...
** R
** inst
** preparing package for lazy loading
** help
*** installing help indices
** building package indices
** installing vignettes
** testing if installed package can be loaded
* DONE (missMethyl)