ReactomePA 1.15.5 Guangchuang Yu
Snapshot Date: 2016-04-20 17:20:35 -0700 (Wed, 20 Apr 2016) | URL: https://hedgehog.fhcrc.org/bioconductor/trunk/madman/Rpacks/ReactomePA | Last Changed Rev: 116254 / Revision: 116626 | Last Changed Date: 2016-04-13 22:56:18 -0700 (Wed, 13 Apr 2016) |
| zin2 | Linux (Ubuntu 14.04.2 LTS) / x86_64 | OK | ERROR | skipped | | |
moscato2 | Windows Server 2008 R2 Enterprise SP1 (64-bit) / x64 | OK | ERROR | skipped | skipped | |
morelia | Mac OS X Mavericks (10.9.5) / x86_64 | [ OK ] | ERROR | skipped | skipped | |
##############################################################################
##############################################################################
###
### Running command:
###
### /Library/Frameworks/R.framework/Versions/Current/Resources/bin/R CMD INSTALL ReactomePA
###
##############################################################################
##############################################################################
* installing to library ‘/Library/Frameworks/R.framework/Versions/3.3/Resources/library’
* installing *source* package ‘ReactomePA’ ...
** R
** inst
** preparing package for lazy loading
** help
*** installing help indices
** building package indices
** installing vignettes
** testing if installed package can be loaded
* DONE (ReactomePA)