Back to the "Multiple platform build/check report" | A B C D E F G H I J K L M N O P Q [R] S T U V W X Y Z |
This page was generated on 2016-10-13 12:50:32 -0700 (Thu, 13 Oct 2016).
Package 951/1210 | Hostname | OS / Arch | INSTALL | BUILD | CHECK | BUILD BIN | |||||
ReactomePA 1.16.2 Guangchuang Yu
| zin2 | Linux (Ubuntu 14.04.2 LTS) / x86_64 | OK | OK | OK | ![]() | |||||
moscato2 | Windows Server 2008 R2 Enterprise SP1 (64-bit) / x64 | OK | [ OK ] | OK | OK | ![]() | |||||
oaxaca | Mac OS X Mavericks (10.9.5) / x86_64 | OK | OK | OK | OK | ![]() |
Package: ReactomePA |
Version: 1.16.2 |
Command: chmod a+r ReactomePA -R && E:\biocbld\bbs-3.3-bioc\R\bin\R.exe CMD build --keep-empty-dirs --no-resave-data ReactomePA |
StartedAt: 2016-10-12 21:21:25 -0700 (Wed, 12 Oct 2016) |
EndedAt: 2016-10-12 21:26:33 -0700 (Wed, 12 Oct 2016) |
EllapsedTime: 307.5 seconds |
RetCode: 0 |
Status: OK |
PackageFile: ReactomePA_1.16.2.tar.gz |
PackageFileSize: 488.9 KiB |
############################################################################## ############################################################################## ### ### Running command: ### ### chmod a+r ReactomePA -R && E:\biocbld\bbs-3.3-bioc\R\bin\R.exe CMD build --keep-empty-dirs --no-resave-data ReactomePA ### ############################################################################## ############################################################################## * checking for file 'ReactomePA/DESCRIPTION' ... OK * preparing 'ReactomePA': * checking DESCRIPTION meta-information ... OK * installing the package to build vignettes * creating vignettes ... OK * checking for LF line-endings in source and make files * checking for empty or unneeded directories * building 'ReactomePA_1.16.2.tar.gz'