zlibbioc 1.17.0 Bioconductor Package Maintainer
Snapshot Date: 2015-10-26 20:20:04 -0400 (Mon, 26 Oct 2015) | URL: https://hedgehog.fhcrc.org/bioconductor/trunk/madman/Rpacks/zlibbioc | Last Changed Rev: 109592 / Revision: 109948 | Last Changed Date: 2015-10-13 15:59:53 -0400 (Tue, 13 Oct 2015) |
| linux2.bioconductor.org | Linux (Ubuntu 14.04.2 LTS) / x86_64 | OK | OK | OK | | ![UNNEEDED, same version exists in internal repository UNNEEDED, same version exists in internal repository](../120px-Blue_Light_Icon.svg.png) |
windows2.bioconductor.org | Windows Server 2012 R2 Enterprise SP1 (64-bit) / x64 | [ OK ] | OK | OK | OK | ![UNNEEDED, same version exists in internal repository UNNEEDED, same version exists in internal repository](../120px-Blue_Light_Icon.svg.png) |
##############################################################################
##############################################################################
###
### Running command:
###
### C:\cygwin64\bin\curl.exe -O http://linux2.bioconductor.org/BBS/3.3/bioc/src/contrib/zlibbioc_1.17.0.tar.gz && c:\biocbld\bbs-3.3-bioc\R\bin\R.exe CMD INSTALL --merge-multiarch zlibbioc_1.17.0.tar.gz && rm zlibbioc_1.17.0.tar.gz
###
##############################################################################
##############################################################################
% Total % Received % Xferd Average Speed Time Time Time Current
Dload Upload Total Spent Left Speed
0 0 0 0 0 0 0 0 --:--:-- --:--:-- --:--:-- 0
100 165k 100 165k 0 0 27.2M 0 --:--:-- --:--:-- --:--:-- 80.7M
install for i386
* installing to library 'c:/biocbld/bbs-3.3-bioc/R/library'
* installing *source* package 'zlibbioc' ...
**********************************************
WARNING: this package has a configure script
It probably needs manual configuration
**********************************************
** libs
mkdir -p "c:/biocbld/bbs-3.3-bioc/R/library/zlibbioc/include" "c:/biocbld/bbs-3.3-bioc/R/library/zlibbioc/libs/i386"
make -C zlib-1.2.5 -fwin32/Makefile.gcc libzbioc.a zlib1bioc.dll
make[1]: Entering directory `/cygdrive/c/biocbld/bbs-3.3-bioc/tmpdir/Rtmp089U8q/R.INSTALL28c0705a6f40/zlibbioc/src/zlib-1.2.5'
gcc -m32 -O3 -Wall -DNO_VIZ -DZ_PREFIX -c -o adler32.o adler32.c
gcc -m32 -O3 -Wall -DNO_VIZ -DZ_PREFIX -c -o compress.o compress.c
gcc -m32 -O3 -Wall -DNO_VIZ -DZ_PREFIX -c -o crc32.o crc32.c
gcc -m32 -O3 -Wall -DNO_VIZ -DZ_PREFIX -c -o deflate.o deflate.c
gcc -m32 -O3 -Wall -DNO_VIZ -DZ_PREFIX -c -o gzclose.o gzclose.c
gcc -m32 -O3 -Wall -DNO_VIZ -DZ_PREFIX -c -o gzlib.o gzlib.c
gcc -m32 -O3 -Wall -DNO_VIZ -DZ_PREFIX -c -o gzread.o gzread.c
gcc -m32 -O3 -Wall -DNO_VIZ -DZ_PREFIX -c -o gzwrite.o gzwrite.c
gcc -m32 -O3 -Wall -DNO_VIZ -DZ_PREFIX -c -o infback.o infback.c
gcc -m32 -O3 -Wall -DNO_VIZ -DZ_PREFIX -c -o inffast.o inffast.c
gcc -m32 -O3 -Wall -DNO_VIZ -DZ_PREFIX -c -o inflate.o inflate.c
gcc -m32 -O3 -Wall -DNO_VIZ -DZ_PREFIX -c -o inftrees.o inftrees.c
gcc -m32 -O3 -Wall -DNO_VIZ -DZ_PREFIX -c -o trees.o trees.c
gcc -m32 -O3 -Wall -DNO_VIZ -DZ_PREFIX -c -o uncompr.o uncompr.c
gcc -m32 -O3 -Wall -DNO_VIZ -DZ_PREFIX -c -o zutil.o zutil.c
ar rcs libzbioc.a adler32.o compress.o crc32.o deflate.o gzclose.o gzlib.o gzread.o gzwrite.o infback.o inffast.o inflate.o inftrees.o trees.o uncompr.o zutil.o
windres --define GCC_WINDRES --target=pe-i386 -o zlibrc.o win32/zlib1.rc
gcc -m32 -shared -Wl,--out-implib,libzbiocdll.a \
-o zlib1bioc.dll win32/zlib.def adler32.o compress.o crc32.o deflate.o gzclose.o gzlib.o gzread.o gzwrite.o infback.o inffast.o inflate.o inftrees.o trees.o uncompr.o zutil.o zlibrc.o
Creating library file: libzbiocdll.a
strip zlib1bioc.dll
make[1]: Leaving directory `/cygdrive/c/biocbld/bbs-3.3-bioc/tmpdir/Rtmp089U8q/R.INSTALL28c0705a6f40/zlibbioc/src/zlib-1.2.5'
cp zlib-1.2.5/libzbioc.a zlib-1.2.5/zlib1bioc.dll \
"c:/biocbld/bbs-3.3-bioc/R/library/zlibbioc/libs/i386"
cp zlib-1.2.5/zconf.h zlib-1.2.5/zlib.h "c:/biocbld/bbs-3.3-bioc/R/library/zlibbioc/include"
gcc -m32 -I"c:/biocbld/BBS-3˜1.3-B/R/include" -DNDEBUG -I"d:/RCompile/r-compiling/local/local320/include" -O3 -Wall -std=gnu99 -mtune=core2 -c R_init_zlibbioc.c -o R_init_zlibbioc.o
gcc -m32 -shared -s -static-libgcc -o zlibbioc.dll tmp.def R_init_zlibbioc.o -Ld:/RCompile/r-compiling/local/local320/lib/i386 -Ld:/RCompile/r-compiling/local/local320/lib -Lc:/biocbld/BBS-3˜1.3-B/R/bin/i386 -lR
installing to c:/biocbld/bbs-3.3-bioc/R/library/zlibbioc/libs/i386
** R
** preparing package for lazy loading
** help
*** installing help indices
** building package indices
** installing vignettes
** testing if installed package can be loaded
install for x64
* installing to library 'c:/biocbld/bbs-3.3-bioc/R/library'
* installing *source* package 'zlibbioc' ...
**********************************************
WARNING: this package has a configure script
It probably needs manual configuration
**********************************************
** libs
mkdir -p "c:/biocbld/bbs-3.3-bioc/R/library/zlibbioc/include" "c:/biocbld/bbs-3.3-bioc/R/library/zlibbioc/libs/x64"
make -C zlib-1.2.5 -fwin32/Makefile.gcc libzbioc.a zlib1bioc.dll
make[1]: Entering directory `/cygdrive/c/biocbld/bbs-3.3-bioc/tmpdir/RtmpwLRYqr/R.INSTALL140832e44432/zlibbioc/src/zlib-1.2.5'
gcc -m64 -O3 -Wall -DNO_VIZ -DZ_PREFIX -c -o adler32.o adler32.c
gcc -m64 -O3 -Wall -DNO_VIZ -DZ_PREFIX -c -o compress.o compress.c
gcc -m64 -O3 -Wall -DNO_VIZ -DZ_PREFIX -c -o crc32.o crc32.c
gcc -m64 -O3 -Wall -DNO_VIZ -DZ_PREFIX -c -o deflate.o deflate.c
gcc -m64 -O3 -Wall -DNO_VIZ -DZ_PREFIX -c -o gzclose.o gzclose.c
gcc -m64 -O3 -Wall -DNO_VIZ -DZ_PREFIX -c -o gzlib.o gzlib.c
gcc -m64 -O3 -Wall -DNO_VIZ -DZ_PREFIX -c -o gzread.o gzread.c
gcc -m64 -O3 -Wall -DNO_VIZ -DZ_PREFIX -c -o gzwrite.o gzwrite.c
gcc -m64 -O3 -Wall -DNO_VIZ -DZ_PREFIX -c -o infback.o infback.c
gcc -m64 -O3 -Wall -DNO_VIZ -DZ_PREFIX -c -o inffast.o inffast.c
gcc -m64 -O3 -Wall -DNO_VIZ -DZ_PREFIX -c -o inflate.o inflate.c
gcc -m64 -O3 -Wall -DNO_VIZ -DZ_PREFIX -c -o inftrees.o inftrees.c
gcc -m64 -O3 -Wall -DNO_VIZ -DZ_PREFIX -c -o trees.o trees.c
gcc -m64 -O3 -Wall -DNO_VIZ -DZ_PREFIX -c -o uncompr.o uncompr.c
gcc -m64 -O3 -Wall -DNO_VIZ -DZ_PREFIX -c -o zutil.o zutil.c
ar rcs libzbioc.a adler32.o compress.o crc32.o deflate.o gzclose.o gzlib.o gzread.o gzwrite.o infback.o inffast.o inflate.o inftrees.o trees.o uncompr.o zutil.o
windres --define GCC_WINDRES --target=pe-x86-64 -o zlibrc.o win32/zlib1.rc
gcc -m64 -shared -Wl,--out-implib,libzbiocdll.a \
-o zlib1bioc.dll win32/zlib.def adler32.o compress.o crc32.o deflate.o gzclose.o gzlib.o gzread.o gzwrite.o infback.o inffast.o inflate.o inftrees.o trees.o uncompr.o zutil.o zlibrc.o
Creating library file: libzbiocdll.a
strip zlib1bioc.dll
make[1]: Leaving directory `/cygdrive/c/biocbld/bbs-3.3-bioc/tmpdir/RtmpwLRYqr/R.INSTALL140832e44432/zlibbioc/src/zlib-1.2.5'
cp zlib-1.2.5/libzbioc.a zlib-1.2.5/zlib1bioc.dll \
"c:/biocbld/bbs-3.3-bioc/R/library/zlibbioc/libs/x64"
cp zlib-1.2.5/zconf.h zlib-1.2.5/zlib.h "c:/biocbld/bbs-3.3-bioc/R/library/zlibbioc/include"
gcc -m64 -I"c:/biocbld/BBS-3˜1.3-B/R/include" -DNDEBUG -I"d:/RCompile/r-compiling/local/local320/include" -O2 -Wall -std=gnu99 -mtune=core2 -c R_init_zlibbioc.c -o R_init_zlibbioc.o
gcc -m64 -shared -s -static-libgcc -o zlibbioc.dll tmp.def R_init_zlibbioc.o -Ld:/RCompile/r-compiling/local/local320/lib/x64 -Ld:/RCompile/r-compiling/local/local320/lib -Lc:/biocbld/BBS-3˜1.3-B/R/bin/x64 -lR
installing to c:/biocbld/bbs-3.3-bioc/R/library/zlibbioc/libs/x64
** testing if installed package can be loaded
* DONE (zlibbioc)