zlibbioc 1.17.0 Bioconductor Package Maintainer
Snapshot Date: 2015-10-26 20:20:04 -0400 (Mon, 26 Oct 2015) | URL: https://hedgehog.fhcrc.org/bioconductor/trunk/madman/Rpacks/zlibbioc | Last Changed Rev: 109592 / Revision: 109948 | Last Changed Date: 2015-10-13 15:59:53 -0400 (Tue, 13 Oct 2015) |
| linux2.bioconductor.org | Linux (Ubuntu 14.04.2 LTS) / x86_64 | OK | OK | OK | | ![UNNEEDED, same version exists in internal repository UNNEEDED, same version exists in internal repository](../120px-Blue_Light_Icon.svg.png) |
windows2.bioconductor.org | Windows Server 2012 R2 Enterprise SP1 (64-bit) / x64 | OK | OK | OK | [ OK ] | ![UNNEEDED, same version exists in internal repository UNNEEDED, same version exists in internal repository](../120px-Blue_Light_Icon.svg.png) |
##############################################################################
##############################################################################
###
### Running command:
###
### cd zlibbioc.buildbin-libdir/zlibbioc && zip -r ../../zlibbioc_1.17.0.zip . & cd ../..
###
##############################################################################
##############################################################################
adding: DESCRIPTION (188 bytes security) (deflated 38%)
adding: doc/ (208 bytes security) (stored 0%)
adding: doc/index.html (188 bytes security) (deflated 57%)
adding: doc/UsingZlibbioc.pdf (188 bytes security) (deflated 6%)
adding: doc/UsingZlibbioc.Rnw (188 bytes security) (deflated 63%)
adding: help/ (208 bytes security) (stored 0%)
adding: help/aliases.rds (188 bytes security) (stored 0%)
adding: help/AnIndex (188 bytes security) (deflated 49%)
adding: help/paths.rds (188 bytes security) (stored 0%)
adding: help/zlibbioc.rdb (188 bytes security) (stored 0%)
adding: help/zlibbioc.rdx (188 bytes security) (stored 0%)
adding: html/ (208 bytes security) (stored 0%)
adding: html/00Index.html (188 bytes security) (deflated 56%)
adding: html/R.css (188 bytes security) (deflated 75%)
adding: include/ (236 bytes security) (stored 0%)
adding: include/zconf.h (176 bytes security) (deflated 71%)
adding: include/zlib.h (176 bytes security) (deflated 73%)
adding: INDEX (188 bytes security) (deflated 33%)
adding: libs/ (236 bytes security) (stored 0%)
adding: libs/i386/ (236 bytes security) (stored 0%)
adding: libs/i386/libzbioc.a (176 bytes security) (deflated 50%)
adding: libs/i386/zlib1bioc.dll (176 bytes security) (deflated 46%)
adding: libs/i386/zlibbioc.dll (176 bytes security) (deflated 59%)
adding: libs/x64/ (216 bytes security) (stored 0%)
adding: libs/x64/libzbioc.a (176 bytes security) (deflated 51%)
adding: libs/x64/zlib1bioc.dll (176 bytes security) (deflated 47%)
adding: libs/x64/zlibbioc.dll (176 bytes security) (deflated 58%)
adding: LICENSE (188 bytes security) (deflated 52%)
adding: MD5 (188 bytes security) (deflated 44%)
adding: Meta/ (208 bytes security) (stored 0%)
adding: Meta/hsearch.rds (188 bytes security) (stored 0%)
adding: Meta/links.rds (188 bytes security) (stored 0%)
adding: Meta/nsInfo.rds (188 bytes security) (stored 0%)
adding: Meta/package.rds (188 bytes security) (stored 0%)
adding: Meta/Rd.rds (188 bytes security) (stored 0%)
adding: Meta/vignette.rds (188 bytes security) (stored 0%)
adding: NAMESPACE (188 bytes security) (stored 0%)
adding: R/ (208 bytes security) (stored 0%)
adding: R/zlibbioc (188 bytes security) (deflated 41%)
adding: R/zlibbioc.rdb (188 bytes security) (deflated 8%)
adding: R/zlibbioc.rdx (188 bytes security) (stored 0%)