wateRmelon 1.11.0 Leo
Snapshot Date: 2015-10-21 20:20:05 -0400 (Wed, 21 Oct 2015) | URL: https://hedgehog.fhcrc.org/bioconductor/trunk/madman/Rpacks/wateRmelon | Last Changed Rev: 109592 / Revision: 109826 | Last Changed Date: 2015-10-13 15:59:53 -0400 (Tue, 13 Oct 2015) |
| linux2.bioconductor.org | Linux (Ubuntu 14.04.2 LTS) / x86_64 | OK | OK | WARNINGS | | ![UNNEEDED, same version exists in internal repository UNNEEDED, same version exists in internal repository](../120px-Blue_Light_Icon.svg.png) |
windows2.bioconductor.org | Windows Server 2012 R2 Enterprise SP1 (64-bit) / x64 | OK | OK | WARNINGS | OK | ![UNNEEDED, same version exists in internal repository UNNEEDED, same version exists in internal repository](../120px-Blue_Light_Icon.svg.png) |
morelia | Mac OS X Mavericks (10.9.5) / x86_64 | [ OK ] | OK | WARNINGS | OK | ![UNNEEDED, same version exists in internal repository UNNEEDED, same version exists in internal repository](../120px-Blue_Light_Icon.svg.png) |
##############################################################################
##############################################################################
###
### Running command:
###
### /Library/Frameworks/R.framework/Versions/Current/Resources/bin/R CMD INSTALL wateRmelon
###
##############################################################################
##############################################################################
* installing to library ‘/Library/Frameworks/R.framework/Versions/3.3/Resources/library’
* installing *source* package ‘wateRmelon’ ...
** R
** data
** inst
** preparing package for lazy loading
Warning in rgl.init(initValue, onlyNULL) :
RGL: GLX extension missing on server
Warning in fun(libname, pkgname) : Error in 'rgl_init'
Creating a generic function from function ‘as.methylumi’ in package ‘wateRmelon’
in method for ‘betaqn’ with signature ‘bn="exprmethy450"’: no definition for class “exprmethy450”
in method for ‘fuks’ with signature ‘data="exprmethy450"’: no definition for class “exprmethy450”
in method for ‘genki’ with signature ‘bn="exprmethy450"’: no definition for class “exprmethy450”
in method for ‘dmrse’ with signature ‘betas="exprmethy450"’: no definition for class “exprmethy450”
in method for ‘dmrse_row’ with signature ‘betas="exprmethy450"’: no definition for class “exprmethy450”
in method for ‘dmrse_col’ with signature ‘betas="exprmethy450"’: no definition for class “exprmethy450”
in method for ‘seabi’ with signature ‘bn="exprmethy450"’: no definition for class “exprmethy450”
** help
*** installing help indices
** building package indices
** installing vignettes
‘wateRmelon.Rnw’
** testing if installed package can be loaded
Warning in rgl.init(initValue, onlyNULL) :
RGL: GLX extension missing on server
Warning in fun(libname, pkgname) : Error in 'rgl_init'
* DONE (wateRmelon)