wateRmelon 1.11.0 Leo
Snapshot Date: 2015-10-26 20:20:04 -0400 (Mon, 26 Oct 2015) | URL: https://hedgehog.fhcrc.org/bioconductor/trunk/madman/Rpacks/wateRmelon | Last Changed Rev: 109592 / Revision: 109948 | Last Changed Date: 2015-10-13 15:59:53 -0400 (Tue, 13 Oct 2015) |
| linux2.bioconductor.org | Linux (Ubuntu 14.04.2 LTS) / x86_64 | OK | OK | WARNINGS | | ![UNNEEDED, same version exists in internal repository UNNEEDED, same version exists in internal repository](../120px-Blue_Light_Icon.svg.png) |
windows2.bioconductor.org | Windows Server 2012 R2 Enterprise SP1 (64-bit) / x64 | [ OK ] | OK | WARNINGS | OK | ![UNNEEDED, same version exists in internal repository UNNEEDED, same version exists in internal repository](../120px-Blue_Light_Icon.svg.png) |
##############################################################################
##############################################################################
###
### Running command:
###
### C:\cygwin64\bin\curl.exe -O http://linux2.bioconductor.org/BBS/3.3/bioc/src/contrib/wateRmelon_1.11.0.tar.gz && c:\biocbld\bbs-3.3-bioc\R\bin\R.exe CMD INSTALL --merge-multiarch wateRmelon_1.11.0.tar.gz && rm wateRmelon_1.11.0.tar.gz
###
##############################################################################
##############################################################################
% Total % Received % Xferd Average Speed Time Time Time Current
Dload Upload Total Spent Left Speed
0 0 0 0 0 0 0 0 --:--:-- --:--:-- --:--:-- 0
100 1021k 100 1021k 0 0 72.0M 0 --:--:-- --:--:-- --:--:-- 99.7M
install for i386
* installing to library 'c:/biocbld/bbs-3.3-bioc/R/library'
* installing *source* package 'wateRmelon' ...
** R
** data
** inst
** preparing package for lazy loading
Creating a generic function from function 'as.methylumi' in package 'wateRmelon'
in method for 'betaqn' with signature 'bn="exprmethy450"': no definition for class "exprmethy450"
in method for 'fuks' with signature 'data="exprmethy450"': no definition for class "exprmethy450"
in method for 'genki' with signature 'bn="exprmethy450"': no definition for class "exprmethy450"
in method for 'dmrse' with signature 'betas="exprmethy450"': no definition for class "exprmethy450"
in method for 'dmrse_row' with signature 'betas="exprmethy450"': no definition for class "exprmethy450"
in method for 'dmrse_col' with signature 'betas="exprmethy450"': no definition for class "exprmethy450"
in method for 'seabi' with signature 'bn="exprmethy450"': no definition for class "exprmethy450"
** help
*** installing help indices
** building package indices
** installing vignettes
'wateRmelon.Rnw'
** testing if installed package can be loaded
install for x64
* installing to library 'c:/biocbld/bbs-3.3-bioc/R/library'
* installing *source* package 'wateRmelon' ...
** testing if installed package can be loaded
* DONE (wateRmelon)