pcaMethods 1.61.0 Henning Redestig
Snapshot Date: 2015-10-21 20:20:05 -0400 (Wed, 21 Oct 2015) | URL: https://hedgehog.fhcrc.org/bioconductor/trunk/madman/Rpacks/pcaMethods | Last Changed Rev: 109592 / Revision: 109826 | Last Changed Date: 2015-10-13 15:59:53 -0400 (Tue, 13 Oct 2015) |
| linux2.bioconductor.org | Linux (Ubuntu 14.04.2 LTS) / x86_64 | OK | OK | OK | | ![UNNEEDED, same version exists in internal repository UNNEEDED, same version exists in internal repository](../120px-Blue_Light_Icon.svg.png) |
windows2.bioconductor.org | Windows Server 2012 R2 Enterprise SP1 (64-bit) / x64 | OK | OK | OK | OK | ![UNNEEDED, same version exists in internal repository UNNEEDED, same version exists in internal repository](../120px-Blue_Light_Icon.svg.png) |
morelia | Mac OS X Mavericks (10.9.5) / x86_64 | [ OK ] | OK | OK | OK | ![UNNEEDED, same version exists in internal repository UNNEEDED, same version exists in internal repository](../120px-Blue_Light_Icon.svg.png) |
##############################################################################
##############################################################################
###
### Running command:
###
### /Library/Frameworks/R.framework/Versions/Current/Resources/bin/R CMD INSTALL pcaMethods
###
##############################################################################
##############################################################################
* installing to library ‘/Library/Frameworks/R.framework/Versions/3.3/Resources/library’
* installing *source* package ‘pcaMethods’ ...
** libs
clang++ -I/Library/Frameworks/R.framework/Resources/include -DNDEBUG -I/usr/local/include -I/usr/local/include/freetype2 -I/opt/X11/include -I"/Library/Frameworks/R.framework/Versions/3.3/Resources/library/Rcpp/include" -fPIC -Wall -mtune=core2 -g -O2 -c RcppExports.cpp -o RcppExports.o
clang++ -I/Library/Frameworks/R.framework/Resources/include -DNDEBUG -I/usr/local/include -I/usr/local/include/freetype2 -I/opt/X11/include -I"/Library/Frameworks/R.framework/Versions/3.3/Resources/library/Rcpp/include" -fPIC -Wall -mtune=core2 -g -O2 -c nipals.cpp -o nipals.o
clang++ -dynamiclib -Wl,-headerpad_max_install_names -undefined dynamic_lookup -single_module -multiply_defined suppress -L/Library/Frameworks/R.framework/Resources/lib -L/usr/local/lib -o pcaMethods.so RcppExports.o nipals.o -F/Library/Frameworks/R.framework/.. -framework R -Wl,-framework -Wl,CoreFoundation
installing to /Library/Frameworks/R.framework/Versions/3.3/Resources/library/pcaMethods/libs
** R
** data
** inst
** preparing package for lazy loading
Creating a new generic function for ‘loadings’ in package ‘pcaMethods’
Creating a generic function for ‘print’ from package ‘base’ in package ‘pcaMethods’
Creating a generic function for ‘biplot’ from package ‘stats’ in package ‘pcaMethods’
Creating a generic function for ‘summary’ from package ‘base’ in package ‘pcaMethods’
Creating a generic function for ‘predict’ from package ‘stats’ in package ‘pcaMethods’
Creating a generic function for ‘resid’ from package ‘stats’ in package ‘pcaMethods’
Creating a generic function for ‘fitted’ from package ‘stats’ in package ‘pcaMethods’
Creating a generic function for ‘plot’ from package ‘graphics’ in package ‘pcaMethods’
** help
*** installing help indices
** building package indices
** installing vignettes
‘missingValues.Rnw’
‘outliers.Rnw’
‘pcaMethods.Rnw’
** testing if installed package can be loaded
* DONE (pcaMethods)