Back to the "Multiple platform build/check report" A  B  C  D  E  F  G  H  I  J  K  L  M  N  O [P] Q  R  S  T  U  V  W  X  Y  Z 

BioC 3.3: CHECK report for pcaMethods on morelia

This page was generated on 2015-10-22 17:52:11 -0400 (Thu, 22 Oct 2015).

Package 759/1104HostnameOS / ArchINSTALLBUILDCHECKBUILD BIN
pcaMethods 1.61.0
Henning Redestig
Snapshot Date: 2015-10-21 20:20:05 -0400 (Wed, 21 Oct 2015)
URL: https://hedgehog.fhcrc.org/bioconductor/trunk/madman/Rpacks/pcaMethods
Last Changed Rev: 109592 / Revision: 109826
Last Changed Date: 2015-10-13 15:59:53 -0400 (Tue, 13 Oct 2015)
linux2.bioconductor.org Linux (Ubuntu 14.04.2 LTS) / x86_64  OK  OK  OK UNNEEDED, same version exists in internal repository
windows2.bioconductor.org Windows Server 2012 R2 Enterprise SP1 (64-bit) / x64  OK  OK  OK  OK UNNEEDED, same version exists in internal repository
morelia Mac OS X Mavericks (10.9.5) / x86_64  OK  OK [ OK ] OK UNNEEDED, same version exists in internal repository

Summary

Package: pcaMethods
Version: 1.61.0
Command: /Library/Frameworks/R.framework/Versions/Current/Resources/bin/R CMD check --no-vignettes --timings pcaMethods_1.61.0.tar.gz
StartedAt: 2015-10-22 09:26:38 -0400 (Thu, 22 Oct 2015)
EndedAt: 2015-10-22 09:28:05 -0400 (Thu, 22 Oct 2015)
EllapsedTime: 86.8 seconds
RetCode: 0
Status:  OK 
CheckDir: pcaMethods.Rcheck
Warnings: 0

Command output

##############################################################################
##############################################################################
###
### Running command:
###
###   /Library/Frameworks/R.framework/Versions/Current/Resources/bin/R CMD check --no-vignettes --timings pcaMethods_1.61.0.tar.gz
###
##############################################################################
##############################################################################


* using log directory ‘/Users/biocbuild/bbs-3.3-bioc/meat/pcaMethods.Rcheck’
* using R Under development (unstable) (2015-10-08 r69496)
* using platform: x86_64-apple-darwin13.4.0 (64-bit)
* using session charset: UTF-8
* using option ‘--no-vignettes’
* checking for file ‘pcaMethods/DESCRIPTION’ ... OK
* this is package ‘pcaMethods’ version ‘1.61.0’
* checking package namespace information ... OK
* checking package dependencies ... OK
* checking if this is a source package ... OK
* checking if there is a namespace ... OK
* checking for hidden files and directories ... OK
* checking for portable file names ... OK
* checking for sufficient/correct file permissions ... OK
* checking whether package ‘pcaMethods’ can be installed ... [8s/8s] OK
* checking installed package size ... OK
* checking package directory ... OK
* checking ‘build’ directory ... OK
* checking DESCRIPTION meta-information ... OK
* checking top-level files ... OK
* checking for left-over files ... OK
* checking index information ... OK
* checking package subdirectories ... OK
* checking R files for non-ASCII characters ... OK
* checking R files for syntax errors ... OK
* checking whether the package can be loaded ... OK
* checking whether the package can be loaded with stated dependencies ... OK
* checking whether the package can be unloaded cleanly ... OK
* checking whether the namespace can be loaded with stated dependencies ... OK
* checking whether the namespace can be unloaded cleanly ... OK
* checking dependencies in R code ... NOTE
'library' or 'require' call to ‘matrixStats’ in package code.
  Please use :: or requireNamespace() instead.
  See section 'Suggested packages' in the 'Writing R Extensions' manual.
* checking S3 generic/method consistency ... OK
* checking replacement functions ... OK
* checking foreign function calls ... OK
* checking R code for possible problems ... OK
* checking Rd files ... OK
* checking Rd metadata ... OK
* checking Rd cross-references ... OK
* checking for missing documentation entries ... OK
* checking for code/documentation mismatches ... OK
* checking Rd \usage sections ... OK
* checking Rd contents ... OK
* checking for unstated dependencies in examples ... OK
* checking contents of ‘data’ directory ... OK
* checking data for non-ASCII characters ... OK
* checking data for ASCII and uncompressed saves ... OK
* checking line endings in C/C++/Fortran sources/headers ... OK
* checking compiled code ... OK
* checking sizes of PDF files under ‘inst/doc’ ... OK
* checking installed files from ‘inst/doc’ ... OK
* checking files in ‘vignettes’ ... OK
* checking examples ... [41s/41s] OK
Examples with CPU or elapsed time > 5s
            user system elapsed
robustSvd 18.127  0.559  18.698
kEstimate 10.357  0.033  10.393
robustPca  7.056  0.236   7.303
* checking for unstated dependencies in vignettes ... OK
* checking package vignettes in ‘inst/doc’ ... OK
* checking running R code from vignettes ... SKIPPED
* checking re-building of vignette outputs ... SKIPPED
* checking PDF version of manual ... OK
* DONE

Status: 1 NOTE
See
  ‘/Users/biocbuild/bbs-3.3-bioc/meat/pcaMethods.Rcheck/00check.log’
for details.


pcaMethods.Rcheck/00install.out:

* installing *source* package ‘pcaMethods’ ...
** libs
clang++ -I/Library/Frameworks/R.framework/Resources/include -DNDEBUG  -I/usr/local/include -I/usr/local/include/freetype2 -I/opt/X11/include -I"/Library/Frameworks/R.framework/Versions/3.3/Resources/library/Rcpp/include"   -fPIC  -Wall -mtune=core2 -g -O2  -c RcppExports.cpp -o RcppExports.o
clang++ -I/Library/Frameworks/R.framework/Resources/include -DNDEBUG  -I/usr/local/include -I/usr/local/include/freetype2 -I/opt/X11/include -I"/Library/Frameworks/R.framework/Versions/3.3/Resources/library/Rcpp/include"   -fPIC  -Wall -mtune=core2 -g -O2  -c nipals.cpp -o nipals.o
clang++ -dynamiclib -Wl,-headerpad_max_install_names -undefined dynamic_lookup -single_module -multiply_defined suppress -L/Library/Frameworks/R.framework/Resources/lib -L/usr/local/lib -o pcaMethods.so RcppExports.o nipals.o -F/Library/Frameworks/R.framework/.. -framework R -Wl,-framework -Wl,CoreFoundation
installing to /Users/biocbuild/bbs-3.3-bioc/meat/pcaMethods.Rcheck/pcaMethods/libs
** R
** data
** inst
** preparing package for lazy loading
Creating a new generic function for ‘loadings’ in package ‘pcaMethods’
Creating a generic function for ‘print’ from package ‘base’ in package ‘pcaMethods’
Creating a generic function for ‘biplot’ from package ‘stats’ in package ‘pcaMethods’
Creating a generic function for ‘summary’ from package ‘base’ in package ‘pcaMethods’
Creating a generic function for ‘predict’ from package ‘stats’ in package ‘pcaMethods’
Creating a generic function for ‘resid’ from package ‘stats’ in package ‘pcaMethods’
Creating a generic function for ‘fitted’ from package ‘stats’ in package ‘pcaMethods’
Creating a generic function for ‘plot’ from package ‘graphics’ in package ‘pcaMethods’
** help
*** installing help indices
** building package indices
** installing vignettes
** testing if installed package can be loaded
* DONE (pcaMethods)

pcaMethods.Rcheck/pcaMethods-Ex.timings:

nameusersystemelapsed
DModX-pcaRes-method0.0760.0020.087
Q20.1360.0090.144
R2VX-pcaRes-method0.0050.0000.005
RnipalsPca0.1700.0050.176
biplot-methods0.0080.0010.008
bpca0.7270.0160.742
cvseg0.0070.0000.008
fitted-methods0.0050.0000.006
kEstimate10.357 0.03310.393
kEstimateFast0.1160.0010.118
leverage-pcaRes-method0.0100.0000.011
llsImpute0.2220.0020.225
nipalsPca0.0130.0000.014
nlpca1.5950.0101.605
nni0.1650.0010.167
pca0.0500.0010.052
plot.pcaRes0.2050.0030.207
plotPcs0.0130.0000.014
ppca0.0820.0040.086
predict-methods0.0080.0000.008
prep0.0010.0000.001
rediduals-methods0.0070.0000.008
robustPca7.0560.2367.303
robustSvd18.127 0.55918.698
slplot-pcaRes-method0.0190.0010.023
svdImpute0.1250.0020.128
svdPca0.0220.0000.022
wasna-pcaRes-method0.0140.0010.016