Back to the "Multiple platform build/check report" A  B  C  D  E  F  G  H  I  J  K  L  M  N  O [P] Q  R  S  T  U  V  W  X  Y  Z 

BioC 3.3: CHECK report for pRoloc on morelia

This page was generated on 2015-10-22 17:53:31 -0400 (Thu, 22 Oct 2015).

Package 801/1104HostnameOS / ArchINSTALLBUILDCHECKBUILD BIN
pRoloc 1.11.0
Laurent Gatto
Snapshot Date: 2015-10-21 20:20:05 -0400 (Wed, 21 Oct 2015)
URL: https://hedgehog.fhcrc.org/bioconductor/trunk/madman/Rpacks/pRoloc
Last Changed Rev: 109592 / Revision: 109826
Last Changed Date: 2015-10-13 15:59:53 -0400 (Tue, 13 Oct 2015)
linux2.bioconductor.org Linux (Ubuntu 14.04.2 LTS) / x86_64  OK  OK  OK UNNEEDED, same version exists in internal repository
windows2.bioconductor.org Windows Server 2012 R2 Enterprise SP1 (64-bit) / x64  OK  OK  OK  OK UNNEEDED, same version exists in internal repository
morelia Mac OS X Mavericks (10.9.5) / x86_64  OK  OK [ OK ] OK UNNEEDED, same version exists in internal repository

Summary

Package: pRoloc
Version: 1.11.0
Command: /Library/Frameworks/R.framework/Versions/Current/Resources/bin/R CMD check --no-vignettes --timings pRoloc_1.11.0.tar.gz
StartedAt: 2015-10-22 09:47:46 -0400 (Thu, 22 Oct 2015)
EndedAt: 2015-10-22 09:53:34 -0400 (Thu, 22 Oct 2015)
EllapsedTime: 347.9 seconds
RetCode: 0
Status:  OK 
CheckDir: pRoloc.Rcheck
Warnings: 0

Command output

##############################################################################
##############################################################################
###
### Running command:
###
###   /Library/Frameworks/R.framework/Versions/Current/Resources/bin/R CMD check --no-vignettes --timings pRoloc_1.11.0.tar.gz
###
##############################################################################
##############################################################################


* using log directory ‘/Users/biocbuild/bbs-3.3-bioc/meat/pRoloc.Rcheck’
* using R Under development (unstable) (2015-10-08 r69496)
* using platform: x86_64-apple-darwin13.4.0 (64-bit)
* using session charset: UTF-8
* using option ‘--no-vignettes’
* checking for file ‘pRoloc/DESCRIPTION’ ... OK
* checking extension type ... Package
* this is package ‘pRoloc’ version ‘1.11.0’
* checking package namespace information ... OK
* checking package dependencies ... OK
* checking if this is a source package ... OK
* checking if there is a namespace ... OK
* checking for hidden files and directories ... OK
* checking for portable file names ... OK
* checking for sufficient/correct file permissions ... OK
* checking whether package ‘pRoloc’ can be installed ... [27s/28s] OK
* checking installed package size ... OK
* checking package directory ... OK
* checking ‘build’ directory ... OK
* checking DESCRIPTION meta-information ... OK
* checking top-level files ... OK
* checking for left-over files ... OK
* checking index information ... OK
* checking package subdirectories ... OK
* checking R files for non-ASCII characters ... OK
* checking R files for syntax errors ... OK
* checking whether the package can be loaded ... OK
* checking whether the package can be loaded with stated dependencies ... OK
* checking whether the package can be unloaded cleanly ... OK
* checking whether the namespace can be loaded with stated dependencies ... OK
* checking whether the namespace can be unloaded cleanly ... OK
* checking dependencies in R code ... NOTE
Unexported objects imported by ':::' calls:
  ‘MLInterfaces:::.macroF1’ ‘MLInterfaces:::.precision’
  ‘MLInterfaces:::.recall’ ‘MLInterfaces:::es2df’
  See the note in ?`:::` about the use of this operator.
* checking S3 generic/method consistency ... OK
* checking replacement functions ... OK
* checking foreign function calls ... OK
* checking R code for possible problems ... NOTE
Found the following possibly unsafe calls:
File ‘pRoloc/R/annotation.R’:
  unlockBinding("params", .pRolocEnv)
* checking Rd files ... OK
* checking Rd metadata ... OK
* checking Rd cross-references ... OK
* checking for missing documentation entries ... OK
* checking for code/documentation mismatches ... OK
* checking Rd \usage sections ... OK
* checking Rd contents ... OK
* checking for unstated dependencies in examples ... OK
* checking contents of ‘data’ directory ... OK
* checking data for non-ASCII characters ... NOTE
  Error in .requirePackage(package) : 
    unable to find required package 'pRoloc2'
  Calls: <Anonymous> ... .findInheritedMethods -> getClass -> getClassDef -> .requirePackage
  Execution halted
* checking data for ASCII and uncompressed saves ... OK
* checking line endings in C/C++/Fortran sources/headers ... OK
* checking line endings in Makefiles ... OK
* checking compilation flags in Makevars ... OK
* checking for GNU extensions in Makefiles ... OK
* checking for portable use of $(BLAS_LIBS) and $(LAPACK_LIBS) ... OK
* checking compiled code ... OK
* checking sizes of PDF files under ‘inst/doc’ ... OK
* checking installed files from ‘inst/doc’ ... OK
* checking files in ‘vignettes’ ... NOTE
The following directory looks like a leftover from 'knitr':
  ‘figure’
Please remove from your package.
* checking examples ... [73s/80s] OK
Examples with CPU or elapsed time > 5s
                         user system elapsed
perTurboClassification 14.775  0.056  14.842
SpatProtVis-class       8.409  0.153   8.586
nnetClassification      6.810  0.035   6.860
rfClassification        5.744  0.194   5.938
* checking for unstated dependencies in ‘tests’ ... OK
* checking tests ...
  Running ‘testthat.R’ [60s/52s]
 [60s/52s] OK
* checking for unstated dependencies in vignettes ... OK
* checking package vignettes in ‘inst/doc’ ... OK
* checking running R code from vignettes ... SKIPPED
* checking re-building of vignette outputs ... SKIPPED
* checking PDF version of manual ... OK
* DONE

Status: 4 NOTEs
See
  ‘/Users/biocbuild/bbs-3.3-bioc/meat/pRoloc.Rcheck/00check.log’
for details.


pRoloc.Rcheck/00install.out:

* installing *source* package ‘pRoloc’ ...
** libs
clang++ -I/Library/Frameworks/R.framework/Resources/include -DNDEBUG  -I/usr/local/include -I/usr/local/include/freetype2 -I/opt/X11/include -I"/Library/Frameworks/R.framework/Versions/3.3/Resources/library/Rcpp/include" -I"/Library/Frameworks/R.framework/Versions/3.3/Resources/library/RcppArmadillo/include"   -fPIC  -Wall -mtune=core2 -g -O2  -c pRoloc.cpp -o pRoloc.o
clang++ -dynamiclib -Wl,-headerpad_max_install_names -undefined dynamic_lookup -single_module -multiply_defined suppress -L/Library/Frameworks/R.framework/Resources/lib -L/usr/local/lib -o pRoloc.so pRoloc.o -L/Library/Frameworks/R.framework/Resources/lib -lRlapack -L/Library/Frameworks/R.framework/Resources/lib -lRblas -L/usr/local/lib/gcc/x86_64-apple-darwin13.0.0/4.8.2 -lgfortran -lquadmath -lm -F/Library/Frameworks/R.framework/.. -framework R -Wl,-framework -Wl,CoreFoundation
installing to /Users/biocbuild/bbs-3.3-bioc/meat/pRoloc.Rcheck/pRoloc/libs
** R
** data
** inst
** preparing package for lazy loading
Warning in rgl.init(initValue, onlyNULL) :
  RGL: GLX extension missing on server
Warning in fun(libname, pkgname) : Error in 'rgl_init'
** help
*** installing help indices
** building package indices
** installing vignettes
** testing if installed package can be loaded
Warning in rgl.init(initValue, onlyNULL) :
  RGL: GLX extension missing on server
Warning in fun(libname, pkgname) : Error in 'rgl_init'
* DONE (pRoloc)

pRoloc.Rcheck/pRoloc-Ex.timings:

nameusersystemelapsed
AnnotationParams-class0.2310.0103.291
GenRegRes-class0.0040.0000.004
SpatProtVis-class8.4090.1538.586
addMarkers0.0950.0040.100
checkFeatureNamesOverlap0.6990.0170.733
checkFvarOverlap0.0270.0020.029
chi2-methods0.0060.0000.006
empPvalues0.1250.0000.126
exprsToRatios-methods0.1750.0170.192
filterBinMSnSet0.3150.0010.316
filterZeroCols0.1110.0070.118
getGOFromFeatures0.0580.0041.615
getMarkerClasses0.0310.0020.032
getMarkers0.0320.0020.034
getPredictions0.2510.0070.258
getStockcol0.0790.0060.085
goIdToTerm2.3580.1392.498
highlightOnPlot0.1230.0120.137
knnClassification1.2050.0111.218
knntlClassification000
ksvmClassification4.8370.1044.946
makeGoSet0.4230.0102.313
makeNaData1.5230.0101.534
markerMSnSet0.3240.0070.332
markers0.0430.0050.048
minClassScore0.0480.0050.054
minMarkers0.0420.0050.047
move2Ds1.5080.0401.578
nbClassification4.0720.0204.096
nndist-methods0.2430.0120.279
nnetClassification6.8100.0356.860
pRolocmarkers0.0140.0020.015
perTurboClassification14.775 0.05614.842
phenoDisco000
plot2D1.7380.0761.819
plot2Ds0.3510.0490.403
plotDist0.1060.0120.119
plsdaClassification000
rfClassification5.7440.1945.938
sampleMSnSet0.0740.0070.081
showGOEvidenceCodes0.0000.0000.001
svmClassification4.9620.0334.999
testMSnSet0.5130.0080.522
testMarkers0.0270.0070.034
thetas0.0060.0020.008