pRoloc 1.11.0 Laurent Gatto
Snapshot Date: 2015-10-26 20:20:04 -0400 (Mon, 26 Oct 2015) | URL: https://hedgehog.fhcrc.org/bioconductor/trunk/madman/Rpacks/pRoloc | Last Changed Rev: 109592 / Revision: 109948 | Last Changed Date: 2015-10-13 15:59:53 -0400 (Tue, 13 Oct 2015) |
| linux2.bioconductor.org | Linux (Ubuntu 14.04.2 LTS) / x86_64 | OK | OK | OK | | ![UNNEEDED, same version exists in internal repository UNNEEDED, same version exists in internal repository](../120px-Blue_Light_Icon.svg.png) |
windows2.bioconductor.org | Windows Server 2012 R2 Enterprise SP1 (64-bit) / x64 | OK | OK | OK | [ OK ] | ![UNNEEDED, same version exists in internal repository UNNEEDED, same version exists in internal repository](../120px-Blue_Light_Icon.svg.png) |
##############################################################################
##############################################################################
###
### Running command:
###
### cd pRoloc.buildbin-libdir/pRoloc && zip -r ../../pRoloc_1.11.0.zip . & cd ../..
###
##############################################################################
##############################################################################
adding: CITATION (188 bytes security) (deflated 72%)
adding: data/ (208 bytes security) (stored 0%)
adding: data/andy2011params.rda (188 bytes security) (deflated 0%)
adding: data/dunkley2006params.rda (188 bytes security) (stored 0%)
adding: DESCRIPTION (188 bytes security) (deflated 54%)
adding: doc/ (208 bytes security) (stored 0%)
adding: doc/HUPO_2011_poster.pdf (188 bytes security) (deflated 9%)
adding: doc/HUPO_2011_poster.Rnw (188 bytes security) (deflated 37%)
adding: doc/HUPO_2014_poster.pdf (188 bytes security) (deflated 5%)
adding: doc/HUPO_2014_poster.Rnw (188 bytes security) (deflated 34%)
adding: doc/index.html (188 bytes security) (deflated 75%)
adding: doc/pRoloc-ml.pdf (188 bytes security) (deflated 23%)
adding: doc/pRoloc-ml.Rnw (188 bytes security) (deflated 64%)
adding: doc/pRoloc-transfer-learning.pdf (188 bytes security) (deflated 11%)
adding: doc/pRoloc-transfer-learning.Rnw (188 bytes security) (deflated 64%)
adding: doc/pRoloc-tutorial.pdf (188 bytes security) (deflated 13%)
adding: doc/pRoloc-tutorial.Rnw (188 bytes security) (deflated 68%)
adding: extdata/ (208 bytes security) (stored 0%)
adding: extdata/attrList.rds (188 bytes security) (deflated 0%)
adding: extdata/dunkley2006pdunittest1.rda (188 bytes security) (deflated 2%)
adding: extdata/dunkley2006pdunittest2.rda (188 bytes security) (deflated 2%)
adding: extdata/dunkley2006pdunittest_20140408.rda (188 bytes security) (deflated 2%)
adding: extdata/filterList.rds (188 bytes security) (deflated 0%)
adding: extdata/marker_atha.rds (188 bytes security) (stored 0%)
adding: extdata/marker_dmel.rds (188 bytes security) (stored 0%)
adding: extdata/marker_ggal.rds (188 bytes security) (stored 0%)
adding: extdata/marker_hsap.rds (188 bytes security) (stored 0%)
adding: extdata/marker_mmus.rds (188 bytes security) (stored 0%)
adding: extdata/marker_scer_sgd.rds (188 bytes security) (stored 0%)
adding: extdata/marker_scer_uniprot.rds (188 bytes security) (stored 0%)
adding: extdata/martTab.rds (188 bytes security) (stored 0%)
adding: extdata/params.rda (188 bytes security) (stored 0%)
adding: extdata/params2.rda (188 bytes security) (stored 0%)
adding: extdata/pdres.rda (188 bytes security) (deflated 0%)
adding: help/ (208 bytes security) (stored 0%)
adding: help/aliases.rds (188 bytes security) (stored 0%)
adding: help/AnIndex (188 bytes security) (deflated 79%)
adding: help/paths.rds (188 bytes security) (stored 0%)
adding: help/pRoloc.rdb (188 bytes security) (deflated 2%)
adding: help/pRoloc.rdx (188 bytes security) (stored 0%)
adding: html/ (208 bytes security) (stored 0%)
adding: html/00Index.html (188 bytes security) (deflated 87%)
adding: html/R.css (188 bytes security) (deflated 75%)
adding: INDEX (188 bytes security) (deflated 65%)
adding: libs/ (208 bytes security) (stored 0%)
adding: libs/i386/ (208 bytes security) (stored 0%)
adding: libs/i386/pRoloc.dll (188 bytes security) (deflated 65%)
adding: libs/x64/ (208 bytes security) (stored 0%)
adding: libs/x64/pRoloc.dll (188 bytes security) (deflated 70%)
adding: MD5 (188 bytes security) (deflated 48%)
adding: Meta/ (208 bytes security) (stored 0%)
adding: Meta/data.rds (188 bytes security) (stored 0%)
adding: Meta/hsearch.rds (188 bytes security) (stored 0%)
adding: Meta/links.rds (188 bytes security) (stored 0%)
adding: Meta/nsInfo.rds (188 bytes security) (stored 0%)
adding: Meta/package.rds (188 bytes security) (stored 0%)
adding: Meta/Rd.rds (188 bytes security) (stored 0%)
adding: Meta/vignette.rds (188 bytes security) (stored 0%)
adding: NAMESPACE (188 bytes security) (deflated 66%)
adding: NEWS (188 bytes security) (deflated 69%)
adding: R/ (208 bytes security) (stored 0%)
adding: R/pRoloc (188 bytes security) (deflated 41%)
adding: R/pRoloc.rdb (188 bytes security) (deflated 29%)
adding: R/pRoloc.rdx (188 bytes security) (stored 0%)
adding: scripts/ (208 bytes security) (stored 0%)
adding: scripts/biomart.R (188 bytes security) (deflated 66%)
adding: scripts/test_pd.R (188 bytes security) (deflated 73%)