Back to the "Multiple platform build/check report" A  B  C  D  E  F  G  H  I  J  K [L] M  N  O  P  Q  R  S  T  U  V  W  X  Y  Z 

BioC 3.3: CHECK report for limma on morelia

This page was generated on 2015-10-22 17:51:48 -0400 (Thu, 22 Oct 2015).

Package 564/1104HostnameOS / ArchINSTALLBUILDCHECKBUILD BIN
limma 3.27.0
Gordon Smyth
Snapshot Date: 2015-10-21 20:20:05 -0400 (Wed, 21 Oct 2015)
URL: https://hedgehog.fhcrc.org/bioconductor/trunk/madman/Rpacks/limma
Last Changed Rev: 109592 / Revision: 109826
Last Changed Date: 2015-10-13 15:59:53 -0400 (Tue, 13 Oct 2015)
linux2.bioconductor.org Linux (Ubuntu 14.04.2 LTS) / x86_64  OK  OK  OK UNNEEDED, same version exists in internal repository
windows2.bioconductor.org Windows Server 2012 R2 Enterprise SP1 (64-bit) / x64  OK  OK  OK  OK UNNEEDED, same version exists in internal repository
morelia Mac OS X Mavericks (10.9.5) / x86_64  OK  OK [ OK ] OK UNNEEDED, same version exists in internal repository

Summary

Package: limma
Version: 3.27.0
Command: /Library/Frameworks/R.framework/Versions/Current/Resources/bin/R CMD check --no-vignettes --timings limma_3.27.0.tar.gz
StartedAt: 2015-10-22 07:41:55 -0400 (Thu, 22 Oct 2015)
EndedAt: 2015-10-22 07:44:06 -0400 (Thu, 22 Oct 2015)
EllapsedTime: 131.0 seconds
RetCode: 0
Status:  OK 
CheckDir: limma.Rcheck
Warnings: 0

Command output

##############################################################################
##############################################################################
###
### Running command:
###
###   /Library/Frameworks/R.framework/Versions/Current/Resources/bin/R CMD check --no-vignettes --timings limma_3.27.0.tar.gz
###
##############################################################################
##############################################################################


* using log directory ‘/Users/biocbuild/bbs-3.3-bioc/meat/limma.Rcheck’
* using R Under development (unstable) (2015-10-08 r69496)
* using platform: x86_64-apple-darwin13.4.0 (64-bit)
* using session charset: UTF-8
* using option ‘--no-vignettes’
* checking for file ‘limma/DESCRIPTION’ ... OK
* this is package ‘limma’ version ‘3.27.0’
* checking package namespace information ... OK
* checking package dependencies ... OK
* checking if this is a source package ... OK
* checking if there is a namespace ... OK
* checking for hidden files and directories ... OK
* checking for portable file names ... OK
* checking for sufficient/correct file permissions ... OK
* checking whether package ‘limma’ can be installed ... [6s/7s] OK
* checking installed package size ... OK
* checking package directory ... OK
* checking ‘build’ directory ... OK
* checking DESCRIPTION meta-information ... OK
* checking top-level files ... OK
* checking for left-over files ... OK
* checking index information ... OK
* checking package subdirectories ... OK
* checking R files for non-ASCII characters ... OK
* checking R files for syntax errors ... OK
* checking whether the package can be loaded ... OK
* checking whether the package can be loaded with stated dependencies ... OK
* checking whether the package can be unloaded cleanly ... OK
* checking whether the namespace can be loaded with stated dependencies ... OK
* checking whether the namespace can be unloaded cleanly ... OK
* checking dependencies in R code ... NOTE
'library' or 'require' call to ‘GO.db’ in package code.
  Please use :: or requireNamespace() instead.
  See section 'Suggested packages' in the 'Writing R Extensions' manual.
* checking S3 generic/method consistency ... OK
* checking replacement functions ... OK
* checking foreign function calls ... OK
* checking R code for possible problems ... OK
* checking Rd files ... OK
* checking Rd metadata ... OK
* checking Rd cross-references ... OK
* checking for missing documentation entries ... OK
* checking for code/documentation mismatches ... OK
* checking Rd \usage sections ... OK
* checking Rd contents ... OK
* checking for unstated dependencies in examples ... OK
* checking line endings in C/C++/Fortran sources/headers ... OK
* checking compiled code ... OK
* checking sizes of PDF files under ‘inst/doc’ ... OK
* checking installed files from ‘inst/doc’ ... OK
* checking files in ‘vignettes’ ... OK
* checking examples ... [5s/5s] OK
* checking for unstated dependencies in ‘tests’ ... OK
* checking tests ...
  Running ‘limma-Tests.R’ [4s/4s]
  Comparing ‘limma-Tests.Rout’ to ‘limma-Tests.Rout.save’ ...1324a1325
> GO:0051130 positive regulation of cell...  BP 4  1    2 0.553950615 0.023749721
1329d1329
< GO:0031252              cell leading edge  CC 2  2    0 0.030909091 1.000000000
1333a1334
> GO:0051130 positive regulation of cell...  BP  4  1    2 0.5539506 0.023749721
1337a1339
> GO:0010629 negative regulation of gene...  BP  5  0    2 1.0000000 0.038228009
1339,1341c1341
< GO:0043230        extracellular organelle  CC 14  1    3 0.9502416 0.055161144
< GO:0065010 extracellular membrane-boun...  CC 14  1    3 0.9502416 0.055161144
< GO:0070062          extracellular exosome  CC 14  1    3 0.9502416 0.055161144
---
> GO:0048519 negative regulation of biol...  BP 14  2    3 0.7685153 0.055161144
 [4s/4s] OK
* checking for unstated dependencies in vignettes ... OK
* checking package vignettes in ‘inst/doc’ ... OK
* checking running R code from vignettes ... SKIPPED
* checking re-building of vignette outputs ... SKIPPED
* checking PDF version of manual ... OK
* DONE

Status: 1 NOTE
See
  ‘/Users/biocbuild/bbs-3.3-bioc/meat/limma.Rcheck/00check.log’
for details.


limma.Rcheck/00install.out:

* installing *source* package ‘limma’ ...
** libs
clang -I/Library/Frameworks/R.framework/Resources/include -DNDEBUG  -I/usr/local/include -I/usr/local/include/freetype2 -I/opt/X11/include    -fPIC  -Wall -mtune=core2 -g -O2  -c normexp.c -o normexp.o
clang -I/Library/Frameworks/R.framework/Resources/include -DNDEBUG  -I/usr/local/include -I/usr/local/include/freetype2 -I/opt/X11/include    -fPIC  -Wall -mtune=core2 -g -O2  -c weighted_lowess.c -o weighted_lowess.o
clang -dynamiclib -Wl,-headerpad_max_install_names -undefined dynamic_lookup -single_module -multiply_defined suppress -L/Library/Frameworks/R.framework/Resources/lib -L/usr/local/lib -o limma.so normexp.o weighted_lowess.o -F/Library/Frameworks/R.framework/.. -framework R -Wl,-framework -Wl,CoreFoundation
installing to /Users/biocbuild/bbs-3.3-bioc/meat/limma.Rcheck/limma/libs
** R
** inst
** preparing package for lazy loading
** help
*** installing help indices
** building package indices
** installing vignettes
** testing if installed package can be loaded
* DONE (limma)

limma.Rcheck/limma-Ex.timings:

nameusersystemelapsed
LargeDataObject000
PrintLayout0.0010.0000.001
TestResults0.0000.0000.001
alias2Symbol2.7440.0672.934
arrayWeights0.0010.0000.000
arrayWeightsQuick0.0010.0000.001
asMatrixWeights0.0010.0000.000
auROC0.0010.0000.001
avearrays0.0010.0000.001
avereps0.0010.0000.001
backgroundcorrect0.0050.0000.005
barcodeplot0.0230.0030.025
beadCountWeights0.0000.0000.001
blockDiag0.0000.0000.001
camera0.0210.0010.021
cbind0.0040.0000.004
changelog0.0010.0000.001
channel2M0.0010.0010.001
classifytests0.0010.0000.002
contrastAsCoef0.0050.0000.005
contrasts.fit0.0140.0010.014
controlStatus0.0080.0000.008
diffSplice000
dim0.0030.0000.002
dupcor0.0010.0000.001
ebayes0.0130.0010.014
fitGammaIntercept0.0010.0000.000
fitfdist0.0000.0010.001
genas0.0950.0040.099
geneSetTest0.0010.0000.001
getSpacing0.0010.0000.002
getlayout0.0000.0000.001
goana0.0010.0010.002
heatdiagram0.0010.0000.001
helpMethods0.0010.0000.001
ids2indices0.0010.0010.001
imageplot0.0420.0020.045
intraspotCorrelation0.0010.0000.001
isfullrank0.0000.0000.001
isnumeric0.0010.0000.001
kooperberg0.0000.0010.001
limmaUsersGuide0.0010.0000.001
lm.series000
lmFit0.3830.0150.401
lmscFit0.0000.0000.001
loessfit0.0040.0000.006
ma3x30.0010.0000.001
makeContrasts0.0010.0000.002
makeunique0.0010.0000.000
mdplot0.0020.0000.003
merge0.0040.0010.005
mergeScansRG0.0010.0000.000
modelMatrix0.0020.0000.002
modifyWeights0.0000.0000.001
nec0.0010.0000.001
normalizeMedianAbsValues0.0010.0000.001
normalizeRobustSpline0.0170.0010.019
normalizeVSN0.3440.0090.352
normalizebetweenarrays0.0020.0000.002
normalizeprintorder0.0000.0000.001
normexpfit0.0010.0000.001
normexpfitcontrol000
normexpfitdetectionp0.0000.0000.001
normexpsignal0.0000.0000.001
plotDensities000
plotExons0.0010.0000.000
plotMD0.0270.0020.030
plotMDS0.0090.0010.010
plotRLDF0.1610.0040.165
plotSplice0.0010.0000.001
plotWithHighlights0.0060.0010.007
plotma0.0190.0020.022
poolvar0.0010.0000.001
predFCm0.0120.0010.012
printorder0.0080.0050.013
printtipWeights0.0020.0000.001
propTrueNull0.0030.0000.003
propexpr0.0010.0000.000
protectMetachar0.0010.0000.001
qqt0.0030.0000.003
qualwt0.0010.0000.001
rankSumTestwithCorrelation0.0090.0000.009
read.idat0.0010.0000.001
read.ilmn0.0010.0000.001
read.maimages0.0010.0000.001
readImaGeneHeader0.0010.0000.000
readgal0.0010.0010.001
removeBatchEffect0.0050.0000.006
removeext0.0010.0010.001
roast0.0360.0010.036
romer0.1480.0010.149
selectmodel0.0080.0000.009
squeezeVar0.0010.0000.001
strsplit20.0000.0010.001
subsetting0.0030.0000.003
targetsA2C0.0040.0000.004
topGO0.0010.0000.000
topRomer0.0010.0000.000
topSplice0.0010.0000.000
toptable0.0010.0000.000
tricubeMovingAverage0.0020.0000.002
trigammainverse0.0000.0000.001
trimWhiteSpace0.0010.0010.000
uniquegenelist0.0010.0000.001
unwrapdups0.0000.0000.001
venn0.0150.0010.016
volcanoplot0.0010.0000.001
weightedLowess0.0060.0000.006
weightedmedian000
zscore0.0010.0000.001