Back to the "Multiple platform build/check report" A  B  C  D  E  F  G  H  I  J  K [L] M  N  O  P  Q  R  S  T  U  V  W  X  Y  Z 

BioC 3.3: CHECK report for limma on linux2.bioconductor.org

This page was generated on 2015-10-27 12:11:22 -0400 (Tue, 27 Oct 2015).

Package 564/1104HostnameOS / ArchINSTALLBUILDCHECKBUILD BIN
limma 3.27.0
Gordon Smyth
Snapshot Date: 2015-10-26 20:20:04 -0400 (Mon, 26 Oct 2015)
URL: https://hedgehog.fhcrc.org/bioconductor/trunk/madman/Rpacks/limma
Last Changed Rev: 109592 / Revision: 109948
Last Changed Date: 2015-10-13 15:59:53 -0400 (Tue, 13 Oct 2015)
linux2.bioconductor.org Linux (Ubuntu 14.04.2 LTS) / x86_64  OK  OK [ OK ]UNNEEDED, same version exists in internal repository
windows2.bioconductor.org Windows Server 2012 R2 Enterprise SP1 (64-bit) / x64  OK  OK  OK  OK UNNEEDED, same version exists in internal repository

Summary

Package: limma
Version: 3.27.0
Command: /home/biocbuild/bbs-3.3-bioc/R/bin/R CMD check --no-vignettes --timings limma_3.27.0.tar.gz
StartedAt: 2015-10-27 05:14:33 -0400 (Tue, 27 Oct 2015)
EndedAt: 2015-10-27 05:16:02 -0400 (Tue, 27 Oct 2015)
EllapsedTime: 89.8 seconds
RetCode: 0
Status:  OK 
CheckDir: limma.Rcheck
Warnings: 0

Command output

##############################################################################
##############################################################################
###
### Running command:
###
###   /home/biocbuild/bbs-3.3-bioc/R/bin/R CMD check --no-vignettes --timings limma_3.27.0.tar.gz
###
##############################################################################
##############################################################################


* using log directory ‘/home/biocbuild/bbs-3.3-bioc/meat/limma.Rcheck’
* using R Under development (unstable) (2015-09-09 r69333)
* using platform: x86_64-pc-linux-gnu (64-bit)
* using session charset: UTF-8
* using option ‘--no-vignettes’
* checking for file ‘limma/DESCRIPTION’ ... OK
* this is package ‘limma’ version ‘3.27.0’
* checking package namespace information ... OK
* checking package dependencies ... OK
* checking if this is a source package ... OK
* checking if there is a namespace ... OK
* checking for hidden files and directories ... OK
* checking for portable file names ... OK
* checking for sufficient/correct file permissions ... OK
* checking whether package ‘limma’ can be installed ... [3s/3s] OK
* checking installed package size ... OK
* checking package directory ... OK
* checking ‘build’ directory ... OK
* checking DESCRIPTION meta-information ... OK
* checking top-level files ... OK
* checking for left-over files ... OK
* checking index information ... OK
* checking package subdirectories ... OK
* checking R files for non-ASCII characters ... OK
* checking R files for syntax errors ... OK
* checking whether the package can be loaded ... OK
* checking whether the package can be loaded with stated dependencies ... OK
* checking whether the package can be unloaded cleanly ... OK
* checking whether the namespace can be loaded with stated dependencies ... OK
* checking whether the namespace can be unloaded cleanly ... OK
* checking dependencies in R code ... NOTE
'library' or 'require' call to ‘GO.db’ in package code.
  Please use :: or requireNamespace() instead.
  See section 'Suggested packages' in the 'Writing R Extensions' manual.
* checking S3 generic/method consistency ... OK
* checking replacement functions ... OK
* checking foreign function calls ... OK
* checking R code for possible problems ... OK
* checking Rd files ... OK
* checking Rd metadata ... OK
* checking Rd cross-references ... OK
* checking for missing documentation entries ... OK
* checking for code/documentation mismatches ... OK
* checking Rd \usage sections ... OK
* checking Rd contents ... OK
* checking for unstated dependencies in examples ... OK
* checking line endings in C/C++/Fortran sources/headers ... OK
* checking compiled code ... OK
* checking installed files from ‘inst/doc’ ... OK
* checking files in ‘vignettes’ ... OK
* checking examples ... [7s/7s] OK
* checking for unstated dependencies in ‘tests’ ... OK
* checking tests ...
  Running ‘limma-Tests.R’ [4s/4s]
  Comparing ‘limma-Tests.Rout’ to ‘limma-Tests.Rout.save’ ...1324a1325
> GO:0051130 positive regulation of cell...  BP 4  1    2 0.553950615 0.023749721
1329d1329
< GO:0031252              cell leading edge  CC 2  2    0 0.030909091 1.000000000
1333a1334
> GO:0051130 positive regulation of cell...  BP  4  1    2 0.5539506 0.023749721
1337a1339
> GO:0010629 negative regulation of gene...  BP  5  0    2 1.0000000 0.038228009
1339,1341c1341
< GO:0043230        extracellular organelle  CC 14  1    3 0.9502416 0.055161144
< GO:0065010 extracellular membrane-boun...  CC 14  1    3 0.9502416 0.055161144
< GO:0070062          extracellular exosome  CC 14  1    3 0.9502416 0.055161144
---
> GO:0048519 negative regulation of biol...  BP 14  2    3 0.7685153 0.055161144
 [4s/4s] OK
* checking for unstated dependencies in vignettes ... OK
* checking package vignettes in ‘inst/doc’ ... OK
* checking running R code from vignettes ... SKIPPED
* checking re-building of vignette outputs ... SKIPPED
* checking PDF version of manual ... OK
* DONE

Status: 1 NOTE
See
  ‘/home/biocbuild/bbs-3.3-bioc/meat/limma.Rcheck/00check.log’
for details.


limma.Rcheck/00install.out:

* installing *source* package ‘limma’ ...
** libs
gcc -std=gnu99 -I/home/biocbuild/bbs-3.3-bioc/R/include -DNDEBUG  -I/usr/local/include    -fpic  -g -O2  -c normexp.c -o normexp.o
gcc -std=gnu99 -I/home/biocbuild/bbs-3.3-bioc/R/include -DNDEBUG  -I/usr/local/include    -fpic  -g -O2  -c weighted_lowess.c -o weighted_lowess.o
gcc -std=gnu99 -shared -L/home/biocbuild/bbs-3.3-bioc/R/lib -L/usr/local/lib -o limma.so normexp.o weighted_lowess.o -L/home/biocbuild/bbs-3.3-bioc/R/lib -lR
installing to /home/biocbuild/bbs-3.3-bioc/meat/limma.Rcheck/limma/libs
** R
** inst
** preparing package for lazy loading
** help
*** installing help indices
** building package indices
** installing vignettes
** testing if installed package can be loaded
* DONE (limma)

limma.Rcheck/limma-Ex.timings:

nameusersystemelapsed
LargeDataObject0.0010.0000.001
PrintLayout0.0020.0000.001
TestResults0.0010.0000.000
alias2Symbol4.0960.0474.164
arrayWeights0.0010.0000.001
arrayWeightsQuick0.0010.0000.000
asMatrixWeights0.0010.0000.001
auROC0.0020.0000.001
avearrays0.0020.0000.001
avereps0.0010.0000.001
backgroundcorrect0.0080.0000.007
barcodeplot0.0310.0030.035
beadCountWeights0.0010.0000.001
blockDiag0.0010.0000.001
camera0.0340.0010.034
cbind0.0050.0000.006
changelog0.0020.0000.002
channel2M0.0020.0000.002
classifytests0.0030.0000.002
contrastAsCoef0.0070.0000.007
contrasts.fit0.0180.0000.017
controlStatus0.0070.0000.007
diffSplice0.0000.0000.001
dim0.0020.0000.002
dupcor0.0010.0000.000
ebayes0.0140.0000.013
fitGammaIntercept0.0010.0000.001
fitfdist0.0010.0000.002
genas0.1030.0000.103
geneSetTest0.0010.0000.001
getSpacing0.0020.0000.001
getlayout000
goana0.0010.0000.002
heatdiagram0.0000.0000.001
helpMethods0.0010.0000.001
ids2indices0.0010.0000.001
imageplot0.0560.0000.055
intraspotCorrelation0.0010.0000.000
isfullrank0.0010.0000.001
isnumeric0.0020.0000.002
kooperberg0.0010.0000.001
limmaUsersGuide0.0020.0000.001
lm.series000
lmFit0.4490.0150.465
lmscFit0.0010.0000.001
loessfit0.0080.0000.008
ma3x30.0020.0000.002
makeContrasts0.0010.0040.002
makeunique0.0000.0000.002
mdplot0.0040.0000.004
merge0.0060.0000.006
mergeScansRG0.0010.0000.000
modelMatrix0.0030.0000.002
modifyWeights0.0010.0000.001
nec0.0010.0000.002
normalizeMedianAbsValues0.0010.0000.001
normalizeRobustSpline0.0260.0000.027
normalizeVSN0.5160.0080.526
normalizebetweenarrays0.0030.0000.003
normalizeprintorder0.0000.0000.001
normexpfit0.0020.0000.002
normexpfitcontrol0.0010.0000.001
normexpfitdetectionp0.0010.0000.000
normexpsignal000
plotDensities0.0010.0000.001
plotExons0.0010.0000.001
plotMD0.0280.0000.028
plotMDS0.0280.0000.028
plotRLDF0.2370.0040.242
plotSplice0.0000.0000.001
plotWithHighlights0.0090.0000.010
plotma0.0290.0000.029
poolvar0.0000.0000.001
predFCm0.1950.0000.195
printorder0.0060.0040.009
printtipWeights0.0010.0000.001
propTrueNull0.0030.0000.002
propexpr0.0010.0000.000
protectMetachar0.0010.0000.001
qqt0.0030.0000.002
qualwt0.0010.0000.000
rankSumTestwithCorrelation0.0080.0000.007
read.idat0.0010.0000.001
read.ilmn0.0010.0000.001
read.maimages0.0010.0000.001
readImaGeneHeader0.0010.0000.000
readgal0.0010.0000.001
removeBatchEffect0.0040.0000.004
removeext0.0010.0000.000
roast0.0340.0000.034
romer0.0290.0000.030
selectmodel0.0130.0000.013
squeezeVar0.0010.0000.001
strsplit20.0010.0000.001
subsetting0.0040.0000.005
targetsA2C0.0060.0000.006
topGO0.0010.0000.000
topRomer0.0010.0000.000
topSplice0.0000.0000.001
toptable0.0000.0000.001
tricubeMovingAverage0.0030.0000.003
trigammainverse0.0010.0000.001
trimWhiteSpace0.0010.0000.001
uniquegenelist0.0010.0000.001
unwrapdups0.0000.0000.001
venn0.0280.0000.027
volcanoplot0.0000.0000.001
weightedLowess0.0120.0000.011
weightedmedian0.0010.0000.001
zscore0.0020.0000.002