customProDB 1.11.0 xiaojing wang
Snapshot Date: 2015-10-26 20:20:04 -0400 (Mon, 26 Oct 2015) | URL: https://hedgehog.fhcrc.org/bioconductor/trunk/madman/Rpacks/customProDB | Last Changed Rev: 109592 / Revision: 109948 | Last Changed Date: 2015-10-13 15:59:53 -0400 (Tue, 13 Oct 2015) |
| linux2.bioconductor.org | Linux (Ubuntu 14.04.2 LTS) / x86_64 | OK | OK | OK | | ![UNNEEDED, same version exists in internal repository UNNEEDED, same version exists in internal repository](../120px-Blue_Light_Icon.svg.png) |
windows2.bioconductor.org | Windows Server 2012 R2 Enterprise SP1 (64-bit) / x64 | OK | OK | [ OK ] | OK | ![UNNEEDED, same version exists in internal repository UNNEEDED, same version exists in internal repository](../120px-Blue_Light_Icon.svg.png) |
##############################################################################
##############################################################################
###
### Running command:
###
### rm -rf customProDB.buildbin-libdir customProDB.Rcheck && mkdir customProDB.buildbin-libdir customProDB.Rcheck && c:\biocbld\bbs-3.3-bioc\R\bin\R.exe CMD INSTALL --build --merge-multiarch --library=customProDB.buildbin-libdir customProDB_1.11.0.tar.gz >customProDB.Rcheck\00install.out 2>&1 && cp customProDB.Rcheck\00install.out customProDB-install.out && c:\biocbld\bbs-3.3-bioc\R\bin\R.exe CMD check --library=customProDB.buildbin-libdir --install="check:customProDB-install.out" --force-multiarch --no-vignettes --timings customProDB_1.11.0.tar.gz
###
##############################################################################
##############################################################################
* using log directory 'c:/biocbld/bbs-3.3-bioc/meat/customProDB.Rcheck'
* using R Under development (unstable) (2015-09-22 r69418)
* using platform: x86_64-w64-mingw32 (64-bit)
* using session charset: ISO8859-1
* using option '--no-vignettes'
* checking for file 'customProDB/DESCRIPTION' ... OK
* checking extension type ... Package
* this is package 'customProDB' version '1.11.0'
* checking package namespace information ... OK
* checking package dependencies ... OK
* checking if this is a source package ... OK
* checking if there is a namespace ... OK
* checking for hidden files and directories ... OK
* checking for portable file names ... OK
* checking whether package 'customProDB' can be installed ... OK
* checking installed package size ... OK
* checking package directory ... OK
* checking 'build' directory ... OK
* checking DESCRIPTION meta-information ... NOTE
Malformed Title field: should not end in a period.
Malformed Description field: should contain one or more complete sentences.
Packages listed in more than one of Depends, Imports, Suggests, Enhances:
'IRanges' 'biomaRt' 'AnnotationDbi'
A package should be listed in only one of these fields.
* checking top-level files ... OK
* checking for left-over files ... OK
* checking index information ... OK
* checking package subdirectories ... OK
* checking R files for non-ASCII characters ... OK
* checking R files for syntax errors ... OK
* loading checks for arch 'i386'
** checking whether the package can be loaded ... OK
** checking whether the package can be loaded with stated dependencies ... OK
** checking whether the package can be unloaded cleanly ... OK
** checking whether the namespace can be loaded with stated dependencies ... OK
** checking whether the namespace can be unloaded cleanly ... OK
* loading checks for arch 'x64'
** checking whether the package can be loaded ... OK
** checking whether the package can be loaded with stated dependencies ... OK
** checking whether the package can be unloaded cleanly ... OK
** checking whether the namespace can be loaded with stated dependencies ... OK
** checking whether the namespace can be unloaded cleanly ... OK
* checking dependencies in R code ... NOTE
Unexported objects imported by ':::' calls:
'biomaRt:::martBM' 'biomaRt:::martDataset' 'biomaRt:::martHost'
See the note in ?`:::` about the use of this operator.
* checking S3 generic/method consistency ... OK
* checking replacement functions ... OK
* checking foreign function calls ... OK
* checking R code for possible problems ... NOTE
.parseBMMartParams: no visible global function definition for
'isSingleString'
Bed2Range: no visible binding for global variable 'V5'
InputVcf: no visible global function definition for 'DataFrame'
InputVcf: no visible binding for global variable 'DataFrame'
InputVcf : <anonymous>: no visible global function definition for
'DataFrame'
OutputNovelJun: no visible binding for global variable 'jun_type'
OutputVarproseq: no visible binding for global variable 'genename'
OutputVarproseq: no visible binding for global variable 'txname'
OutputVarproseq: no visible binding for global variable 'proname'
OutputVarproseq: no visible binding for global variable 'aaref'
OutputVarproseq: no visible binding for global variable 'aapos'
OutputVarproseq: no visible binding for global variable 'aavar'
OutputVarproseq: no visible binding for global variable 'rsid'
OutputVarproseq_single: no visible binding for global variable
'genename'
OutputVarproseq_single: no visible binding for global variable 'txname'
OutputVarproseq_single: no visible binding for global variable
'proname'
OutputVarproseq_single: no visible binding for global variable 'aaref'
OutputVarproseq_single: no visible binding for global variable 'aapos'
OutputVarproseq_single: no visible binding for global variable 'aavar'
OutputVarproseq_single: no visible binding for global variable 'rsid'
Outputaberrant: no visible binding for global variable 'pro_name'
Positionincoding: no visible binding for global variable 'cds_start'
Positionincoding: no visible binding for global variable 'cds_end'
PrepareAnnotationEnsembl: no visible binding for global variable
'ensembl_gene_id'
PrepareAnnotationEnsembl: no visible binding for global variable
'pro_name'
PrepareAnnotationEnsembl: no visible global function definition for
'saveDb'
PrepareAnnotationEnsembl: no visible binding for global variable
'chrom'
PrepareAnnotationEnsembl: no visible binding for global variable 'name'
PrepareAnnotationEnsembl: no visible binding for global variable
'alleleCount'
PrepareAnnotationEnsembl: no visible binding for global variable
'alleles'
PrepareAnnotationRefseq: no visible global function definition for
'saveDb'
PrepareAnnotationRefseq: no visible binding for global variable
'mrnaAcc'
PrepareAnnotationRefseq: no visible binding for global variable 'name'
PrepareAnnotationRefseq: no visible binding for global variable
'protAcc'
PrepareAnnotationRefseq: no visible binding for global variable
'transcript'
PrepareAnnotationRefseq: no visible binding for global variable 'chrom'
PrepareAnnotationRefseq: no visible binding for global variable
'alleleCount'
PrepareAnnotationRefseq: no visible binding for global variable
'alleles'
SharedJunc: no visible binding for global variable 'allsample'
Varlocation: no visible binding for global variable 'pro_name'
joinDataFrameWithName2Val: no visible global function definition for
'isSingleString'
setDataFrameColClass: no visible global function definition for
'isTRUEorFALSE'
Undefined global functions or variables:
DataFrame V5 aapos aaref aavar alleleCount alleles allsample cds_end
cds_start chrom ensembl_gene_id genename isSingleString isTRUEorFALSE
jun_type mrnaAcc name pro_name proname protAcc rsid saveDb transcript
txname
* checking Rd files ... OK
* checking Rd metadata ... OK
* checking Rd cross-references ... OK
* checking for missing documentation entries ... OK
* checking for code/documentation mismatches ... OK
* checking Rd \usage sections ... OK
* checking Rd contents ... OK
* checking for unstated dependencies in examples ... OK
* checking installed files from 'inst/doc' ... OK
* checking files in 'vignettes' ... OK
* checking examples ...
** running examples for arch 'i386' ... [138s] OK
Examples with CPU or elapsed time > 5s
user system elapsed
PrepareAnnotationRefseq 22.56 0.89 105.02
PrepareAnnotationEnsembl 1.81 0.39 15.06
** running examples for arch 'x64' ... [139s] OK
Examples with CPU or elapsed time > 5s
user system elapsed
PrepareAnnotationRefseq 21.84 0.52 103.64
PrepareAnnotationEnsembl 2.22 0.31 14.55
* checking for unstated dependencies in vignettes ... OK
* checking package vignettes in 'inst/doc' ... OK
* checking running R code from vignettes ... SKIPPED
* checking re-building of vignette outputs ... SKIPPED
* checking PDF version of manual ... OK
* DONE
Status: 3 NOTEs
See
'c:/biocbld/bbs-3.3-bioc/meat/customProDB.Rcheck/00check.log'
for details.
install for i386
* installing *source* package 'customProDB' ...
** R
** inst
** preparing package for lazy loading
** help
*** installing help indices
** building package indices
** installing vignettes
** testing if installed package can be loaded
install for x64
* installing *source* package 'customProDB' ...
** testing if installed package can be loaded
* MD5 sums
packaged installation of 'customProDB' as customProDB_1.11.0.zip
* DONE (customProDB)