| customProDB 1.11.0 xiaojing wang
 
 | Snapshot Date: 2015-10-26 20:20:04 -0400 (Mon, 26 Oct 2015) |  | URL: https://hedgehog.fhcrc.org/bioconductor/trunk/madman/Rpacks/customProDB |  | Last Changed Rev: 109592 / Revision: 109948 |  | Last Changed Date: 2015-10-13 15:59:53 -0400 (Tue, 13 Oct 2015) | 
 | linux2.bioconductor.org | Linux (Ubuntu 14.04.2 LTS) / x86_64 | OK | OK | OK |  |  | 
| windows2.bioconductor.org | Windows Server 2012 R2 Enterprise SP1 (64-bit) / x64 | OK | OK | OK | [ OK ] |  | 
##############################################################################
##############################################################################
###
### Running command:
###
###   cd customProDB.buildbin-libdir/customProDB && zip -r ../../customProDB_1.11.0.zip . & cd ../..
###
##############################################################################
##############################################################################
  adding: CITATION (188 bytes security) (deflated 54%)
  adding: DESCRIPTION (188 bytes security) (deflated 44%)
  adding: doc/ (208 bytes security) (stored 0%)
  adding: doc/customProDB.pdf (188 bytes security) (deflated 12%)
  adding: doc/customProDB.R (188 bytes security) (deflated 79%)
  adding: doc/customProDB.Rnw (188 bytes security) (deflated 67%)
  adding: doc/index.html (188 bytes security) (deflated 59%)
  adding: extdata/ (208 bytes security) (stored 0%)
  adding: extdata/bams/ (208 bytes security) (stored 0%)
  adding: extdata/bams/test1_sort.bam (188 bytes security) (deflated 0%)
  adding: extdata/bams/test1_sort.bam.bai (188 bytes security) (deflated 100%)
  adding: extdata/bams/test2_sort.bam (188 bytes security) (deflated 0%)
  adding: extdata/bams/test2_sort.bam.bai (188 bytes security) (deflated 100%)
  adding: extdata/bams/test3_sort.bam (188 bytes security) (deflated 0%)
  adding: extdata/bams/test3_sort.bam.bai (188 bytes security) (deflated 100%)
  adding: extdata/beds/ (208 bytes security) (stored 0%)
  adding: extdata/beds/junctions1.bed (188 bytes security) (deflated 73%)
  adding: extdata/beds/junctions2.bed (188 bytes security) (deflated 72%)
  adding: extdata/beds/junctions3.bed (188 bytes security) (deflated 72%)
  adding: extdata/refseq/ (208 bytes security) (stored 0%)
  adding: extdata/refseq/cosmic.RData (188 bytes security) (deflated 0%)
  adding: extdata/refseq/dbsnpinCoding.RData (188 bytes security) (stored 0%)
  adding: extdata/refseq/exon_anno.RData (188 bytes security) (stored 0%)
  adding: extdata/refseq/ids.RData (188 bytes security) (stored 0%)
  adding: extdata/refseq/procodingseq.RData (188 bytes security) (stored 0%)
  adding: extdata/refseq/proseq.RData (188 bytes security) (stored 0%)
  adding: extdata/refseq/splicemax.RData (188 bytes security) (stored 0%)
  adding: extdata/refseq/txdb.sqlite (188 bytes security) (deflated 74%)
  adding: extdata/refseq_coding_seq.fasta (188 bytes security) (deflated 68%)
  adding: extdata/refseq_pro_seq.fasta (188 bytes security) (deflated 41%)
  adding: extdata/test_mul.vcf (188 bytes security) (deflated 71%)
  adding: extdata/tmp/ (208 bytes security) (stored 0%)
  adding: extdata/tmp/test_indel.fasta (188 bytes security) (deflated 45%)
  adding: extdata/tmp/test_junc.fasta (188 bytes security) (deflated 53%)
  adding: extdata/tmp/test_rpkm.fasta (188 bytes security) (deflated 75%)
  adding: extdata/tmp/test_snv.fasta (188 bytes security) (deflated 38%)
  adding: extdata/tmp/test_snv.tab (188 bytes security) (deflated 57%)
  adding: extdata/vcfs/ (208 bytes security) (stored 0%)
  adding: extdata/vcfs/test1.vcf (188 bytes security) (deflated 71%)
  adding: extdata/vcfs/test2.vcf (188 bytes security) (deflated 71%)
  adding: extdata/vcfs/test3.vcf (188 bytes security) (deflated 71%)
  adding: help/ (208 bytes security) (stored 0%)
  adding: help/aliases.rds (188 bytes security) (stored 0%)
  adding: help/AnIndex (188 bytes security) (deflated 60%)
  adding: help/customProDB.rdb (188 bytes security) (deflated 2%)
  adding: help/customProDB.rdx (188 bytes security) (stored 0%)
  adding: help/paths.rds (188 bytes security) (stored 0%)
  adding: html/ (208 bytes security) (stored 0%)
  adding: html/00Index.html (188 bytes security) (deflated 69%)
  adding: html/R.css (188 bytes security) (deflated 75%)
  adding: INDEX (188 bytes security) (deflated 68%)
  adding: MD5 (188 bytes security) (deflated 50%)
  adding: Meta/ (208 bytes security) (stored 0%)
  adding: Meta/hsearch.rds (188 bytes security) (stored 0%)
  adding: Meta/links.rds (188 bytes security) (stored 0%)
  adding: Meta/nsInfo.rds (188 bytes security) (stored 0%)
  adding: Meta/package.rds (188 bytes security) (stored 0%)
  adding: Meta/Rd.rds (188 bytes security) (stored 0%)
  adding: Meta/vignette.rds (188 bytes security) (stored 0%)
  adding: NAMESPACE (188 bytes security) (deflated 53%)
  adding: NEWS (188 bytes security) (deflated 61%)
  adding: R/ (208 bytes security) (stored 0%)
  adding: R/customProDB (188 bytes security) (deflated 41%)
  adding: R/customProDB.rdb (188 bytes security) (deflated 2%)
  adding: R/customProDB.rdx (188 bytes security) (stored 0%)