Back to the "Multiple platform build/check report"[A] B  C  D  E  F  G  H  I  J  K  L  M  N  O  P  Q  R  S  T  U  V  W  X  Y  Z 

BioC 3.3: CHECK report for annotate on morelia

This page was generated on 2015-10-22 17:51:44 -0400 (Thu, 22 Oct 2015).

Package 43/1104HostnameOS / ArchINSTALLBUILDCHECKBUILD BIN
annotate 1.49.0
Bioconductor Package Maintainer
Snapshot Date: 2015-10-21 20:20:05 -0400 (Wed, 21 Oct 2015)
URL: https://hedgehog.fhcrc.org/bioconductor/trunk/madman/Rpacks/annotate
Last Changed Rev: 109592 / Revision: 109826
Last Changed Date: 2015-10-13 15:59:53 -0400 (Tue, 13 Oct 2015)
linux2.bioconductor.org Linux (Ubuntu 14.04.2 LTS) / x86_64  OK  OK  OK UNNEEDED, same version exists in internal repository
windows2.bioconductor.org Windows Server 2012 R2 Enterprise SP1 (64-bit) / x64  OK  OK  OK  OK UNNEEDED, same version exists in internal repository
morelia Mac OS X Mavericks (10.9.5) / x86_64  OK  OK [ OK ] OK UNNEEDED, same version exists in internal repository

Summary

Package: annotate
Version: 1.49.0
Command: /Library/Frameworks/R.framework/Versions/Current/Resources/bin/R CMD check --no-vignettes --timings annotate_1.49.0.tar.gz
StartedAt: 2015-10-22 03:22:59 -0400 (Thu, 22 Oct 2015)
EndedAt: 2015-10-22 03:25:40 -0400 (Thu, 22 Oct 2015)
EllapsedTime: 161.0 seconds
RetCode: 0
Status:  OK 
CheckDir: annotate.Rcheck
Warnings: 0

Command output

##############################################################################
##############################################################################
###
### Running command:
###
###   /Library/Frameworks/R.framework/Versions/Current/Resources/bin/R CMD check --no-vignettes --timings annotate_1.49.0.tar.gz
###
##############################################################################
##############################################################################


* using log directory ‘/Users/biocbuild/bbs-3.3-bioc/meat/annotate.Rcheck’
* using R Under development (unstable) (2015-10-08 r69496)
* using platform: x86_64-apple-darwin13.4.0 (64-bit)
* using session charset: UTF-8
* using option ‘--no-vignettes’
* checking for file ‘annotate/DESCRIPTION’ ... OK
* this is package ‘annotate’ version ‘1.49.0’
* checking package namespace information ... OK
* checking package dependencies ... OK
* checking if this is a source package ... OK
* checking if there is a namespace ... OK
* checking for hidden files and directories ... OK
* checking for portable file names ... OK
* checking for sufficient/correct file permissions ... OK
* checking whether package ‘annotate’ can be installed ... [7s/7s] OK
* checking installed package size ... OK
* checking package directory ... OK
* checking ‘build’ directory ... OK
* checking DESCRIPTION meta-information ... OK
* checking top-level files ... OK
* checking for left-over files ... OK
* checking index information ... OK
* checking package subdirectories ... OK
* checking R files for non-ASCII characters ... OK
* checking R files for syntax errors ... OK
* checking whether the package can be loaded ... OK
* checking whether the package can be loaded with stated dependencies ... OK
* checking whether the package can be unloaded cleanly ... OK
* checking whether the namespace can be loaded with stated dependencies ... OK
* checking whether the namespace can be unloaded cleanly ... OK
* checking dependencies in R code ... NOTE
'library' or 'require' call to ‘Biostrings’ in package code.
  Please use :: or requireNamespace() instead.
  See section 'Suggested packages' in the 'Writing R Extensions' manual.
Unexported object imported by a ':::' call: ‘AnnotationDbi:::makeFlatBimapUsingSelect’
  See the note in ?`:::` about the use of this operator.
* checking S3 generic/method consistency ... OK
* checking replacement functions ... OK
* checking foreign function calls ... OK
* checking R code for possible problems ... NOTE
.blastSequencesToDNAMultipleAlignment: no visible global function
  definition for ‘IRanges’
.blastSequencesToDataFrame: no visible global function definition for
  ‘xmlToDataFrame’
getGOChildren: no visible binding for global variable ‘GOMFCHILDREN’
getGOChildren: no visible binding for global variable ‘GOBPCHILDREN’
getGOChildren: no visible binding for global variable ‘GOCCCHILDREN’
getGOOntology: no visible binding for global variable ‘GOTERM’
getGOParents: no visible binding for global variable ‘GOMFPARENTS’
getGOParents: no visible binding for global variable ‘GOBPPARENTS’
getGOParents: no visible binding for global variable ‘GOCCPARENTS’
getGOTerm: no visible binding for global variable ‘GOTERM’
Undefined global functions or variables:
  GOBPCHILDREN GOBPPARENTS GOCCCHILDREN GOCCPARENTS GOMFCHILDREN
  GOMFPARENTS GOTERM IRanges xmlToDataFrame
* checking Rd files ... OK
* checking Rd metadata ... OK
* checking Rd cross-references ... OK
* checking for missing documentation entries ... OK
* checking for code/documentation mismatches ... OK
* checking Rd \usage sections ... OK
* checking Rd contents ... OK
* checking for unstated dependencies in examples ... OK
* checking contents of ‘data’ directory ... OK
* checking data for non-ASCII characters ... OK
* checking data for ASCII and uncompressed saves ... OK
* checking sizes of PDF files under ‘inst/doc’ ... OK
* checking installed files from ‘inst/doc’ ... OK
* checking files in ‘vignettes’ ... OK
* checking examples ... [26s/79s] OK
Examples with CPU or elapsed time > 5s
                user system elapsed
chrCats        8.821  0.272   9.528
blastSequences 0.108  0.007  34.779
* checking for unstated dependencies in ‘tests’ ... OK
* checking tests ...
  Running ‘annotate_unit_tests.R’ [5s/5s]
 [5s/5s] OK
* checking for unstated dependencies in vignettes ... OK
* checking package vignettes in ‘inst/doc’ ... OK
* checking running R code from vignettes ... SKIPPED
* checking re-building of vignette outputs ... SKIPPED
* checking PDF version of manual ... OK
* DONE

Status: 2 NOTEs
See
  ‘/Users/biocbuild/bbs-3.3-bioc/meat/annotate.Rcheck/00check.log’
for details.


annotate.Rcheck/00install.out:

* installing *source* package ‘annotate’ ...
** R
** data
** inst
** preparing package for lazy loading
** help
*** installing help indices
** building package indices
** installing vignettes
** testing if installed package can be loaded
* DONE (annotate)

annotate.Rcheck/annotate-Ex.timings:

nameusersystemelapsed
ACCNUMStats1.5220.0191.541
GO2heatmap0.1160.0060.121
GOmnplot0.0760.0030.103
HTMLPage-class0.0010.0000.000
LL2homology0.0010.0000.001
PMIDAmat0.2120.0040.386
PWAmat2.8250.0602.885
UniGeneQuery0.0030.0000.003
accessionToUID0.3630.0152.473
annPkgName0.0020.0000.001
aqListGOIDs0.3340.0380.549
blastSequences 0.108 0.00734.779
buildChromLocation1.5550.0621.616
buildPubMedAbst0.0200.0010.377
chrCats8.8210.2729.528
chromLocation-class1.4360.0211.456
compatibleVersions0.0270.0010.029
dropECode0.0310.0010.032
entrezGeneByID0.0010.0000.001
entrezGeneQuery0.0000.0010.001
filterGOByOntology0.0680.0084.096
findNeighbors0.0160.0030.194
genbank0.1030.0061.156
getAnnMap0.0320.0090.337
getEvidence0.0340.0010.063
getGOTerm0.1360.0091.496
getOntology0.0330.0010.035
getPMInfo0.3760.0140.728
getSYMBOL0.0930.0100.602
getSeq4Acc0.0020.0000.182
hasGOannote0.0220.0010.174
hgByChroms0.0130.0040.017
hgCLengths0.0010.0010.001
hgu95Achroloc0.0500.0070.057
hgu95Achrom0.0420.0090.051
hgu95All0.0470.0080.056
hgu95Asym0.0500.0090.058
homoData-class0.0020.0000.003
htmlpage0.0200.0010.036
isValidkey0.0010.0000.000
makeAnchor0.0000.0000.001
organism1.5050.0131.518
p2LL0.0000.0000.001
pm.abstGrep0.6110.0101.799
pm.getabst0.6260.0071.850
pm.titles0.6250.0082.268
pmAbst2HTML0.0280.0010.772
pmid2MIAME000
pmidQuery0.0010.0000.001
pubMedAbst-class0.0190.0000.751
pubmed0.0100.0010.760
readGEOAnn000
serializeEnv0.0020.0000.002
setRepository0.0020.0000.002
updateSymbolsToValidKeys0.0000.0000.001
usedChromGenes0.0610.0060.067