Back to the "Multiple platform build/check report"[A] B  C  D  E  F  G  H  I  J  K  L  M  N  O  P  Q  R  S  T  U  V  W  X  Y  Z 

BioC 3.3: CHECK report for annotate on linux2.bioconductor.org

This page was generated on 2015-10-27 12:11:20 -0400 (Tue, 27 Oct 2015).

Package 43/1104HostnameOS / ArchINSTALLBUILDCHECKBUILD BIN
annotate 1.49.0
Bioconductor Package Maintainer
Snapshot Date: 2015-10-26 20:20:04 -0400 (Mon, 26 Oct 2015)
URL: https://hedgehog.fhcrc.org/bioconductor/trunk/madman/Rpacks/annotate
Last Changed Rev: 109592 / Revision: 109948
Last Changed Date: 2015-10-13 15:59:53 -0400 (Tue, 13 Oct 2015)
linux2.bioconductor.org Linux (Ubuntu 14.04.2 LTS) / x86_64  OK  OK [ OK ]UNNEEDED, same version exists in internal repository
windows2.bioconductor.org Windows Server 2012 R2 Enterprise SP1 (64-bit) / x64  OK  OK  OK  OK UNNEEDED, same version exists in internal repository

Summary

Package: annotate
Version: 1.49.0
Command: /home/biocbuild/bbs-3.3-bioc/R/bin/R CMD check --no-vignettes --timings annotate_1.49.0.tar.gz
StartedAt: 2015-10-27 01:41:10 -0400 (Tue, 27 Oct 2015)
EndedAt: 2015-10-27 01:43:12 -0400 (Tue, 27 Oct 2015)
EllapsedTime: 122.0 seconds
RetCode: 0
Status:  OK 
CheckDir: annotate.Rcheck
Warnings: 0

Command output

##############################################################################
##############################################################################
###
### Running command:
###
###   /home/biocbuild/bbs-3.3-bioc/R/bin/R CMD check --no-vignettes --timings annotate_1.49.0.tar.gz
###
##############################################################################
##############################################################################


* using log directory ‘/home/biocbuild/bbs-3.3-bioc/meat/annotate.Rcheck’
* using R Under development (unstable) (2015-09-09 r69333)
* using platform: x86_64-pc-linux-gnu (64-bit)
* using session charset: UTF-8
* using option ‘--no-vignettes’
* checking for file ‘annotate/DESCRIPTION’ ... OK
* this is package ‘annotate’ version ‘1.49.0’
* checking package namespace information ... OK
* checking package dependencies ... OK
* checking if this is a source package ... OK
* checking if there is a namespace ... OK
* checking for hidden files and directories ... OK
* checking for portable file names ... OK
* checking for sufficient/correct file permissions ... OK
* checking whether package ‘annotate’ can be installed ... [6s/6s] OK
* checking installed package size ... OK
* checking package directory ... OK
* checking ‘build’ directory ... OK
* checking DESCRIPTION meta-information ... OK
* checking top-level files ... OK
* checking for left-over files ... OK
* checking index information ... OK
* checking package subdirectories ... OK
* checking R files for non-ASCII characters ... OK
* checking R files for syntax errors ... OK
* checking whether the package can be loaded ... OK
* checking whether the package can be loaded with stated dependencies ... OK
* checking whether the package can be unloaded cleanly ... OK
* checking whether the namespace can be loaded with stated dependencies ... OK
* checking whether the namespace can be unloaded cleanly ... OK
* checking dependencies in R code ... NOTE
'library' or 'require' call to ‘Biostrings’ in package code.
  Please use :: or requireNamespace() instead.
  See section 'Suggested packages' in the 'Writing R Extensions' manual.
Unexported object imported by a ':::' call: ‘AnnotationDbi:::makeFlatBimapUsingSelect’
  See the note in ?`:::` about the use of this operator.
* checking S3 generic/method consistency ... OK
* checking replacement functions ... OK
* checking foreign function calls ... OK
* checking R code for possible problems ... NOTE
.blastSequencesToDNAMultipleAlignment: no visible global function
  definition for ‘IRanges’
.blastSequencesToDataFrame: no visible global function definition for
  ‘xmlToDataFrame’
getGOChildren: no visible binding for global variable ‘GOMFCHILDREN’
getGOChildren: no visible binding for global variable ‘GOBPCHILDREN’
getGOChildren: no visible binding for global variable ‘GOCCCHILDREN’
getGOOntology: no visible binding for global variable ‘GOTERM’
getGOParents: no visible binding for global variable ‘GOMFPARENTS’
getGOParents: no visible binding for global variable ‘GOBPPARENTS’
getGOParents: no visible binding for global variable ‘GOCCPARENTS’
getGOTerm: no visible binding for global variable ‘GOTERM’
Undefined global functions or variables:
  GOBPCHILDREN GOBPPARENTS GOCCCHILDREN GOCCPARENTS GOMFCHILDREN
  GOMFPARENTS GOTERM IRanges xmlToDataFrame
* checking Rd files ... OK
* checking Rd metadata ... OK
* checking Rd cross-references ... OK
* checking for missing documentation entries ... OK
* checking for code/documentation mismatches ... OK
* checking Rd \usage sections ... OK
* checking Rd contents ... OK
* checking for unstated dependencies in examples ... OK
* checking contents of ‘data’ directory ... OK
* checking data for non-ASCII characters ... OK
* checking data for ASCII and uncompressed saves ... OK
* checking installed files from ‘inst/doc’ ... OK
* checking files in ‘vignettes’ ... OK
* checking examples ... [28s/44s] OK
Examples with CPU or elapsed time > 5s
                 user system elapsed
chrCats        12.396  0.020  12.444
blastSequences  0.072  0.008  12.242
* checking for unstated dependencies in ‘tests’ ... OK
* checking tests ...
  Running ‘annotate_unit_tests.R’ [6s/6s]
 [6s/6s] OK
* checking for unstated dependencies in vignettes ... OK
* checking package vignettes in ‘inst/doc’ ... OK
* checking running R code from vignettes ... SKIPPED
* checking re-building of vignette outputs ... SKIPPED
* checking PDF version of manual ... OK
* DONE

Status: 2 NOTEs
See
  ‘/home/biocbuild/bbs-3.3-bioc/meat/annotate.Rcheck/00check.log’
for details.


annotate.Rcheck/00install.out:

* installing *source* package ‘annotate’ ...
** R
** data
** inst
** preparing package for lazy loading
** help
*** installing help indices
** building package indices
** installing vignettes
** testing if installed package can be loaded
* DONE (annotate)

annotate.Rcheck/annotate-Ex.timings:

nameusersystemelapsed
ACCNUMStats1.3070.0081.316
GO2heatmap0.1250.0000.125
GOmnplot0.0660.0000.065
HTMLPage-class0.0000.0000.001
LL2homology0.0010.0000.000
PMIDAmat0.2340.0010.238
PWAmat3.0010.0433.045
UniGeneQuery0.0030.0000.002
accessionToUID0.2560.0000.613
annPkgName0.0020.0000.001
aqListGOIDs0.4630.0120.499
blastSequences 0.072 0.00812.242
buildChromLocation0.8840.0120.896
buildPubMedAbst0.0330.0000.225
chrCats12.396 0.02012.444
chromLocation-class1.3560.0001.367
compatibleVersions0.0250.0000.025
dropECode0.0320.0000.032
entrezGeneByID0.0000.0000.001
entrezGeneQuery0.0010.0000.001
filterGOByOntology0.0750.0000.078
findNeighbors0.0210.0040.036
genbank0.0960.0040.339
getAnnMap0.0510.0000.090
getEvidence0.0440.0000.044
getGOTerm0.2640.0000.273
getOntology0.0450.0040.050
getPMInfo0.6430.0000.751
getSYMBOL0.1430.0080.155
getSeq4Acc0.0030.0000.048
hasGOannote0.0350.0000.035
hgByChroms0.0190.0000.019
hgCLengths0.0020.0000.002
hgu95Achroloc0.0850.0000.084
hgu95Achrom0.0780.0000.078
hgu95All0.0790.0040.083
hgu95Asym0.0780.0000.078
homoData-class0.0040.0000.004
htmlpage0.0520.0000.053
isValidkey0.0010.0000.001
makeAnchor0.0010.0000.002
organism1.1570.0001.157
p2LL0.0000.0000.001
pm.abstGrep0.7100.0041.210
pm.getabst0.7310.0001.355
pm.titles1.0070.0001.590
pmAbst2HTML0.0440.0000.195
pmid2MIAME0.0000.0000.001
pmidQuery0.0010.0000.001
pubMedAbst-class0.0300.0000.157
pubmed0.0140.0000.153
readGEOAnn0.0010.0000.001
serializeEnv0.0020.0000.002
setRepository0.0030.0000.003
updateSymbolsToValidKeys0.0010.0000.001
usedChromGenes0.1150.0000.115