Back to the "Multiple platform build/check report" A [B] C  D  E  F  G  H  I  J  K  L  M  N  O  P  Q  R  S  T  U  V  W  X  Y  Z 

BioC 3.3: CHECK report for BioNet on morelia

This page was generated on 2015-10-22 17:52:47 -0400 (Thu, 22 Oct 2015).

Package 107/1104HostnameOS / ArchINSTALLBUILDCHECKBUILD BIN
BioNet 1.31.0
Marcus Dittrich
Snapshot Date: 2015-10-21 20:20:05 -0400 (Wed, 21 Oct 2015)
URL: https://hedgehog.fhcrc.org/bioconductor/trunk/madman/Rpacks/BioNet
Last Changed Rev: 109592 / Revision: 109826
Last Changed Date: 2015-10-13 15:59:53 -0400 (Tue, 13 Oct 2015)
linux2.bioconductor.org Linux (Ubuntu 14.04.2 LTS) / x86_64  OK  OK  OK UNNEEDED, same version exists in internal repository
windows2.bioconductor.org Windows Server 2012 R2 Enterprise SP1 (64-bit) / x64  OK  OK  OK  OK UNNEEDED, same version exists in internal repository
morelia Mac OS X Mavericks (10.9.5) / x86_64  OK  OK [ OK ] OK UNNEEDED, same version exists in internal repository

Summary

Package: BioNet
Version: 1.31.0
Command: /Library/Frameworks/R.framework/Versions/Current/Resources/bin/R CMD check --no-vignettes --timings BioNet_1.31.0.tar.gz
StartedAt: 2015-10-22 03:52:38 -0400 (Thu, 22 Oct 2015)
EndedAt: 2015-10-22 03:54:53 -0400 (Thu, 22 Oct 2015)
EllapsedTime: 135.2 seconds
RetCode: 0
Status:  OK 
CheckDir: BioNet.Rcheck
Warnings: 0

Command output

##############################################################################
##############################################################################
###
### Running command:
###
###   /Library/Frameworks/R.framework/Versions/Current/Resources/bin/R CMD check --no-vignettes --timings BioNet_1.31.0.tar.gz
###
##############################################################################
##############################################################################


* using log directory ‘/Users/biocbuild/bbs-3.3-bioc/meat/BioNet.Rcheck’
* using R Under development (unstable) (2015-10-08 r69496)
* using platform: x86_64-apple-darwin13.4.0 (64-bit)
* using session charset: UTF-8
* using option ‘--no-vignettes’
* checking for file ‘BioNet/DESCRIPTION’ ... OK
* checking extension type ... Package
* this is package ‘BioNet’ version ‘1.31.0’
* checking package namespace information ... OK
* checking package dependencies ... OK
* checking if this is a source package ... OK
* checking if there is a namespace ... OK
* checking for hidden files and directories ... OK
* checking for portable file names ... OK
* checking for sufficient/correct file permissions ... OK
* checking whether package ‘BioNet’ can be installed ... [6s/6s] OK
* checking installed package size ... OK
* checking package directory ... OK
* checking ‘build’ directory ... OK
* checking DESCRIPTION meta-information ... OK
* checking top-level files ... OK
* checking for left-over files ... OK
* checking index information ... OK
* checking package subdirectories ... OK
* checking R files for non-ASCII characters ... OK
* checking R files for syntax errors ... OK
* checking whether the package can be loaded ... OK
* checking whether the package can be loaded with stated dependencies ... OK
* checking whether the package can be unloaded cleanly ... OK
* checking whether the namespace can be loaded with stated dependencies ... OK
* checking whether the namespace can be unloaded cleanly ... OK
* checking dependencies in R code ... NOTE
Packages in Depends field not imported from:
  ‘RBGL’ ‘graph’
  These packages need to be imported from (in the NAMESPACE file)
  for when this namespace is loaded but not attached.
* checking S3 generic/method consistency ... OK
* checking replacement functions ... OK
* checking foreign function calls ... OK
* checking R code for possible problems ... NOTE
.affyID2ppiID: no visible global function definition for ‘nodeData’
.saveGraph.net: no visible global function definition for ‘nodes’
.saveGraph.net: no visible global function definition for ‘isDirected’
.saveGraph.net: no visible global function definition for ‘eWV’
.saveGraph.net: no visible global function definition for ‘edgeMatrix’
.saveGraph.tab: no visible global function definition for ‘edgeNames’
.saveGraph.tgf: no visible global function definition for ‘nodes’
.saveGraph.tgf: no visible global function definition for ‘eWV’
.saveGraph.tgf: no visible global function definition for ‘edgeMatrix’
.subNetwork0: no visible global function definition for ‘subGraph’
.subNetwork0: no visible global function definition for ‘nodes’
.subNetwork1: no visible global function definition for ‘adj’
.subNetwork1: no visible global function definition for ‘subGraph’
.subNetwork1: no visible global function definition for ‘nodes’
consensusScores : <anonymous>: no visible global function definition
  for ‘nodes’
consensusScores: no visible global function definition for ‘numNodes’
consensusScores: no visible global function definition for ‘nodes’
consensusScores: no visible global function definition for ‘numEdges’
getCompScores: no visible global function definition for ‘connComp’
getEdgeList: no visible global function definition for ‘edgeMatrix’
getEdgeList: no visible global function definition for ‘nodes’
largestComp: no visible global function definition for ‘connectedComp’
largestComp: no visible global function definition for ‘subGraph’
largestScoreComp: no visible global function definition for ‘nodes’
largestScoreComp: no visible global function definition for ‘subGraph’
loadNetwork.tab: no visible global function definition for ‘addEdge’
makeNetwork: no visible global function definition for ‘addEdge’
permutateNodes: no visible global function definition for ‘nodes<-’
permutateNodes: no visible global function definition for ‘nodes’
plot3dModule: no visible global function definition for ‘rgl.open’
plot3dModule: no visible global function definition for ‘par3d’
plot3dModule: no visible global function definition for ‘rgl.texts’
plot3dModule: no visible global function definition for ‘rgl.bg’
readHeinzTree: no visible global function definition for ‘edgeNames’
readHeinzTree: no visible global function definition for ‘removeEdge’
resamplingPvalues: no visible global function definition for
  ‘rowttests’
rmSelfLoops: no visible global function definition for ‘edgeNames’
rmSelfLoops: no visible global function definition for ‘numEdges’
rmSelfLoops: no visible global function definition for ‘removeEdge’
save3dModule: no visible global function definition for ‘rgl.bg’
save3dModule: no visible global function definition for
  ‘rgl.postscript’
scoreNodes: no visible global function definition for ‘nodes’
sortedEdgeList: no visible global function definition for ‘isDirected’
Undefined global functions or variables:
  addEdge adj connComp connectedComp eWV edgeMatrix edgeNames
  isDirected nodeData nodes nodes<- numEdges numNodes par3d removeEdge
  rgl.bg rgl.open rgl.postscript rgl.texts rowttests subGraph
* checking Rd files ... OK
* checking Rd metadata ... OK
* checking Rd cross-references ... OK
* checking for missing documentation entries ... OK
* checking for code/documentation mismatches ... OK
* checking Rd \usage sections ... OK
* checking Rd contents ... OK
* checking for unstated dependencies in examples ... OK
* checking contents of ‘data’ directory ... OK
* checking data for non-ASCII characters ... OK
* checking data for ASCII and uncompressed saves ... OK
* checking sizes of PDF files under ‘inst/doc’ ... OK
* checking installed files from ‘inst/doc’ ... OK
* checking files in ‘vignettes’ ... OK
* checking examples ... [69s/69s] OK
Examples with CPU or elapsed time > 5s
                 user system elapsed
runFastHeinz   25.339  0.258  25.604
permutateNodes  4.924  0.399   5.323
* checking for unstated dependencies in vignettes ... OK
* checking package vignettes in ‘inst/doc’ ... OK
* checking running R code from vignettes ... SKIPPED
* checking re-building of vignette outputs ... SKIPPED
* checking PDF version of manual ... OK
* DONE

Status: 2 NOTEs
See
  ‘/Users/biocbuild/bbs-3.3-bioc/meat/BioNet.Rcheck/00check.log’
for details.


BioNet.Rcheck/00install.out:

* installing *source* package ‘BioNet’ ...
** R
** data
** inst
** preparing package for lazy loading
** help
*** installing help indices
** building package indices
** installing vignettes
** testing if installed package can be loaded
* DONE (BioNet)

BioNet.Rcheck/BioNet-Ex.timings:

nameusersystemelapsed
aggrPvals0.4770.0520.530
bumOptim0.2030.0030.206
compareNetworks0.7510.0230.883
consensusScores0.3910.0020.393
fbum0.0000.0000.001
fbumLL0.2640.0000.264
fdrThreshold0.2020.0020.204
fitBumModel1.2080.0121.222
getCompScores1.4840.0231.532
getEdgeList0.6240.0120.635
hist.bum0.4520.0040.457
largestComp1.0150.0211.037
largestScoreComp4.3080.3854.694
loadNetwork.sif0.0000.0000.001
makeNetwork0.010.000.01
mapByVar0.0010.0000.001
permutateNodes4.9240.3995.323
piUpper0.2870.0010.288
plot.bum0.9170.0010.918
plot3dModule1.8050.0941.899
plotLLSurface0.3650.0120.377
plotModule1.6150.0781.693
print.bum0.2340.0060.240
pvaluesExample0.0050.0000.005
readHeinzGraph0.2110.0020.212
readHeinzTree0.2250.0020.227
resamplingPvalues3.2720.1153.387
rmSelfLoops0.0030.0000.004
runFastHeinz25.339 0.25825.604
save3dModule1.2110.1071.319
saveNetwork1.0150.0291.044
scanFDR0.2940.0060.301
scoreFunction0.2650.0360.314
scoreNodes1.8260.0941.921
scoreOffset0.2050.0030.208
sortedEdgeList2.6000.0252.625
subNetwork0.0260.0010.027
summary.bum0.2910.0080.300
writeHeinz1.5420.1081.652
writeHeinzEdges2.7210.1772.899
writeHeinzNodes1.4750.0891.563