Back to the "Multiple platform build/check report" A [B] C  D  E  F  G  H  I  J  K  L  M  N  O  P  Q  R  S  T  U  V  W  X  Y  Z 

BioC 3.3: CHECK report for BioNet on linux2.bioconductor.org

This page was generated on 2015-10-27 12:11:51 -0400 (Tue, 27 Oct 2015).

Package 107/1104HostnameOS / ArchINSTALLBUILDCHECKBUILD BIN
BioNet 1.31.0
Marcus Dittrich
Snapshot Date: 2015-10-26 20:20:04 -0400 (Mon, 26 Oct 2015)
URL: https://hedgehog.fhcrc.org/bioconductor/trunk/madman/Rpacks/BioNet
Last Changed Rev: 109592 / Revision: 109948
Last Changed Date: 2015-10-13 15:59:53 -0400 (Tue, 13 Oct 2015)
linux2.bioconductor.org Linux (Ubuntu 14.04.2 LTS) / x86_64  OK  OK [ OK ]UNNEEDED, same version exists in internal repository
windows2.bioconductor.org Windows Server 2012 R2 Enterprise SP1 (64-bit) / x64  OK  OK  OK  OK UNNEEDED, same version exists in internal repository

Summary

Package: BioNet
Version: 1.31.0
Command: /home/biocbuild/bbs-3.3-bioc/R/bin/R CMD check --no-vignettes --timings BioNet_1.31.0.tar.gz
StartedAt: 2015-10-27 02:04:21 -0400 (Tue, 27 Oct 2015)
EndedAt: 2015-10-27 02:06:46 -0400 (Tue, 27 Oct 2015)
EllapsedTime: 145.0 seconds
RetCode: 0
Status:  OK 
CheckDir: BioNet.Rcheck
Warnings: 0

Command output

##############################################################################
##############################################################################
###
### Running command:
###
###   /home/biocbuild/bbs-3.3-bioc/R/bin/R CMD check --no-vignettes --timings BioNet_1.31.0.tar.gz
###
##############################################################################
##############################################################################


* using log directory ‘/home/biocbuild/bbs-3.3-bioc/meat/BioNet.Rcheck’
* using R Under development (unstable) (2015-09-09 r69333)
* using platform: x86_64-pc-linux-gnu (64-bit)
* using session charset: UTF-8
* using option ‘--no-vignettes’
* checking for file ‘BioNet/DESCRIPTION’ ... OK
* checking extension type ... Package
* this is package ‘BioNet’ version ‘1.31.0’
* checking package namespace information ... OK
* checking package dependencies ... OK
* checking if this is a source package ... OK
* checking if there is a namespace ... OK
* checking for hidden files and directories ... OK
* checking for portable file names ... OK
* checking for sufficient/correct file permissions ... OK
* checking whether package ‘BioNet’ can be installed ... [7s/7s] OK
* checking installed package size ... OK
* checking package directory ... OK
* checking ‘build’ directory ... OK
* checking DESCRIPTION meta-information ... OK
* checking top-level files ... OK
* checking for left-over files ... OK
* checking index information ... OK
* checking package subdirectories ... OK
* checking R files for non-ASCII characters ... OK
* checking R files for syntax errors ... OK
* checking whether the package can be loaded ... OK
* checking whether the package can be loaded with stated dependencies ... OK
* checking whether the package can be unloaded cleanly ... OK
* checking whether the namespace can be loaded with stated dependencies ... OK
* checking whether the namespace can be unloaded cleanly ... OK
* checking dependencies in R code ... NOTE
Packages in Depends field not imported from:
  ‘RBGL’ ‘graph’
  These packages need to be imported from (in the NAMESPACE file)
  for when this namespace is loaded but not attached.
* checking S3 generic/method consistency ... OK
* checking replacement functions ... OK
* checking foreign function calls ... OK
* checking R code for possible problems ... NOTE
.affyID2ppiID: no visible global function definition for ‘nodeData’
.saveGraph.net: no visible global function definition for ‘nodes’
.saveGraph.net: no visible global function definition for ‘isDirected’
.saveGraph.net: no visible global function definition for ‘eWV’
.saveGraph.net: no visible global function definition for ‘edgeMatrix’
.saveGraph.tab: no visible global function definition for ‘edgeNames’
.saveGraph.tgf: no visible global function definition for ‘nodes’
.saveGraph.tgf: no visible global function definition for ‘eWV’
.saveGraph.tgf: no visible global function definition for ‘edgeMatrix’
.subNetwork0: no visible global function definition for ‘subGraph’
.subNetwork0: no visible global function definition for ‘nodes’
.subNetwork1: no visible global function definition for ‘adj’
.subNetwork1: no visible global function definition for ‘subGraph’
.subNetwork1: no visible global function definition for ‘nodes’
consensusScores : <anonymous>: no visible global function definition
  for ‘nodes’
consensusScores: no visible global function definition for ‘numNodes’
consensusScores: no visible global function definition for ‘nodes’
consensusScores: no visible global function definition for ‘numEdges’
getCompScores: no visible global function definition for ‘connComp’
getEdgeList: no visible global function definition for ‘edgeMatrix’
getEdgeList: no visible global function definition for ‘nodes’
largestComp: no visible global function definition for ‘connectedComp’
largestComp: no visible global function definition for ‘subGraph’
largestScoreComp: no visible global function definition for ‘nodes’
largestScoreComp: no visible global function definition for ‘subGraph’
loadNetwork.tab: no visible global function definition for ‘addEdge’
makeNetwork: no visible global function definition for ‘addEdge’
permutateNodes: no visible global function definition for ‘nodes<-’
permutateNodes: no visible global function definition for ‘nodes’
plot3dModule: no visible global function definition for ‘rgl.open’
plot3dModule: no visible global function definition for ‘par3d’
plot3dModule: no visible global function definition for ‘rgl.texts’
plot3dModule: no visible global function definition for ‘rgl.bg’
readHeinzTree: no visible global function definition for ‘edgeNames’
readHeinzTree: no visible global function definition for ‘removeEdge’
resamplingPvalues: no visible global function definition for
  ‘rowttests’
rmSelfLoops: no visible global function definition for ‘edgeNames’
rmSelfLoops: no visible global function definition for ‘numEdges’
rmSelfLoops: no visible global function definition for ‘removeEdge’
save3dModule: no visible global function definition for ‘rgl.bg’
save3dModule: no visible global function definition for
  ‘rgl.postscript’
scoreNodes: no visible global function definition for ‘nodes’
sortedEdgeList: no visible global function definition for ‘isDirected’
Undefined global functions or variables:
  addEdge adj connComp connectedComp eWV edgeMatrix edgeNames
  isDirected nodeData nodes nodes<- numEdges numNodes par3d removeEdge
  rgl.bg rgl.open rgl.postscript rgl.texts rowttests subGraph
* checking Rd files ... OK
* checking Rd metadata ... OK
* checking Rd cross-references ... OK
* checking for missing documentation entries ... OK
* checking for code/documentation mismatches ... OK
* checking Rd \usage sections ... OK
* checking Rd contents ... OK
* checking for unstated dependencies in examples ... OK
* checking contents of ‘data’ directory ... OK
* checking data for non-ASCII characters ... OK
* checking data for ASCII and uncompressed saves ... OK
* checking installed files from ‘inst/doc’ ... OK
* checking files in ‘vignettes’ ... OK
* checking examples ... [79s/79s] OK
Examples with CPU or elapsed time > 5s
                   user system elapsed
runFastHeinz     23.804  0.016  23.829
largestScoreComp  7.046  0.028   7.085
permutateNodes    6.320  0.011   6.345
* checking for unstated dependencies in vignettes ... OK
* checking package vignettes in ‘inst/doc’ ... OK
* checking running R code from vignettes ... SKIPPED
* checking re-building of vignette outputs ... SKIPPED
* checking PDF version of manual ... OK
* DONE

Status: 2 NOTEs
See
  ‘/home/biocbuild/bbs-3.3-bioc/meat/BioNet.Rcheck/00check.log’
for details.


BioNet.Rcheck/00install.out:

* installing *source* package ‘BioNet’ ...
** R
** data
** inst
** preparing package for lazy loading
** help
*** installing help indices
** building package indices
** installing vignettes
** testing if installed package can be loaded
* DONE (BioNet)

BioNet.Rcheck/BioNet-Ex.timings:

nameusersystemelapsed
aggrPvals0.4000.0240.424
bumOptim0.4650.0000.465
compareNetworks0.7960.0000.800
consensusScores0.2380.0040.242
fbum000
fbumLL0.6000.0160.617
fdrThreshold0.4640.0000.465
fitBumModel1.060.001.06
getCompScores1.4450.0081.454
getEdgeList0.5700.0080.579
hist.bum0.5490.0000.550
largestComp1.6800.0001.681
largestScoreComp7.0460.0287.085
loadNetwork.sif0.0010.0000.001
makeNetwork0.0070.0000.007
mapByVar0.0000.0000.001
permutateNodes6.3200.0116.345
piUpper0.7780.0000.777
plot.bum1.3420.0041.347
plot3dModule2.3390.0042.343
plotLLSurface0.5090.0000.510
plotModule1.9720.0001.973
print.bum0.5280.0000.528
pvaluesExample0.0060.0000.006
readHeinzGraph0.2150.0000.216
readHeinzTree0.2270.0000.226
resamplingPvalues3.6920.0443.740
rmSelfLoops0.0030.0040.004
runFastHeinz23.804 0.01623.829
save3dModule1.9310.0001.931
saveNetwork1.3830.0041.394
scanFDR0.6730.0000.675
scoreFunction0.7690.0160.787
scoreNodes2.1160.0042.120
scoreOffset0.5180.0000.518
sortedEdgeList4.3450.0004.345
subNetwork0.0400.0000.041
summary.bum0.6370.0000.637
writeHeinz1.2090.0001.209
writeHeinzEdges3.7470.0003.747
writeHeinzNodes2.3180.0042.323