Back to Multiple platform build/check report for BioC 3.23:   simplified   long
ABCDEFGHIJKLMNOPQ[R]STUVWXYZ

This page was generated on 2025-11-19 10:13 -0500 (Wed, 19 Nov 2025).

HostnameOSArch (*)R versionInstalled pkgs
nebbiolo1Linux (Ubuntu 24.04.3 LTS)x86_64R Under development (unstable) (2025-10-20 r88955) -- "Unsuffered Consequences" 4827
lconwaymacOS 12.7.6 Montereyx86_64R Under development (unstable) (2025-10-21 r88958) -- "Unsuffered Consequences" 4600
kjohnson3macOS 13.7.7 Venturaarm64R Under development (unstable) (2025-11-04 r88984) -- "Unsuffered Consequences" 4564
Click on any hostname to see more info about the system (e.g. compilers)      (*) as reported by 'uname -p', except on Windows and Mac OS X

Package 1848/2325HostnameOS / ArchINSTALLBUILDCHECKBUILD BIN
rWikiPathways 1.31.0  (landing page)
Egon Willighagen
Snapshot Date: 2025-11-18 13:40 -0500 (Tue, 18 Nov 2025)
git_url: https://git.bioconductor.org/packages/rWikiPathways
git_branch: devel
git_last_commit: edca798
git_last_commit_date: 2025-10-29 10:44:32 -0500 (Wed, 29 Oct 2025)
nebbiolo1Linux (Ubuntu 24.04.3 LTS) / x86_64  OK    OK    OK  UNNEEDED, same version is already published
lconwaymacOS 12.7.6 Monterey / x86_64  OK    OK    OK    OK  UNNEEDED, same version is already published
kjohnson3macOS 13.7.7 Ventura / arm64  OK    OK    OK    OK  UNNEEDED, same version is already published


CHECK results for rWikiPathways on lconway

To the developers/maintainers of the rWikiPathways package:
- Allow up to 24 hours (and sometimes 48 hours) for your latest push to git@git.bioconductor.org:packages/rWikiPathways.git to reflect on this report. See Troubleshooting Build Report for more information.
- Use the following Renviron settings to reproduce errors and warnings.
- If 'R CMD check' started to fail recently on the Linux builder(s) over a missing dependency, add the missing dependency to 'Suggests:' in your DESCRIPTION file. See Renviron.bioc for more information.

raw results


Summary

Package: rWikiPathways
Version: 1.31.0
Command: /Library/Frameworks/R.framework/Resources/bin/R CMD check --install=check:rWikiPathways.install-out.txt --library=/Library/Frameworks/R.framework/Resources/library --no-vignettes --timings rWikiPathways_1.31.0.tar.gz
StartedAt: 2025-11-18 23:44:42 -0500 (Tue, 18 Nov 2025)
EndedAt: 2025-11-18 23:47:07 -0500 (Tue, 18 Nov 2025)
EllapsedTime: 145.7 seconds
RetCode: 0
Status:   OK  
CheckDir: rWikiPathways.Rcheck
Warnings: 0

Command output

##############################################################################
##############################################################################
###
### Running command:
###
###   /Library/Frameworks/R.framework/Resources/bin/R CMD check --install=check:rWikiPathways.install-out.txt --library=/Library/Frameworks/R.framework/Resources/library --no-vignettes --timings rWikiPathways_1.31.0.tar.gz
###
##############################################################################
##############################################################################


* using log directory ‘/Users/biocbuild/bbs-3.23-bioc/meat/rWikiPathways.Rcheck’
* using R Under development (unstable) (2025-10-21 r88958)
* using platform: x86_64-apple-darwin20
* R was compiled by
    Apple clang version 14.0.0 (clang-1400.0.29.202)
    GNU Fortran (GCC) 14.2.0
* running under: macOS Ventura 13.7.8
* using session charset: UTF-8
* using option ‘--no-vignettes’
* checking for file ‘rWikiPathways/DESCRIPTION’ ... OK
* checking extension type ... Package
* this is package ‘rWikiPathways’ version ‘1.31.0’
* package encoding: UTF-8
* checking package namespace information ... OK
* checking package dependencies ... OK
* checking if this is a source package ... OK
* checking if there is a namespace ... OK
* checking for hidden files and directories ... OK
* checking for portable file names ... NOTE
Found the following non-portable file path:
  rWikiPathways/docs/articles/rWikiPathways-and-BridgeDbR_files/accessible-code-block-0.0.1/empty-anchor.js

Tarballs are only required to store paths of up to 100 bytes and cannot
store those of more than 256 bytes, with restrictions including to 100
bytes for the final component.
See section ‘Package structure’ in the ‘Writing R Extensions’ manual.
* checking for sufficient/correct file permissions ... OK
* checking whether package ‘rWikiPathways’ can be installed ... OK
* checking installed package size ... OK
* checking package directory ... OK
* checking ‘build’ directory ... OK
* checking DESCRIPTION meta-information ... NOTE
License stub is invalid DCF.
* checking top-level files ... OK
* checking for left-over files ... OK
* checking index information ... OK
* checking package subdirectories ... OK
* checking code files for non-ASCII characters ... OK
* checking R files for syntax errors ... OK
* checking whether the package can be loaded ... OK
* checking whether the package can be loaded with stated dependencies ... OK
* checking whether the package can be unloaded cleanly ... OK
* checking whether the namespace can be loaded with stated dependencies ... OK
* checking whether the namespace can be unloaded cleanly ... OK
* checking dependencies in R code ... OK
* checking S3 generic/method consistency ... OK
* checking replacement functions ... OK
* checking foreign function calls ... OK
* checking R code for possible problems ... NOTE
findPathwaysByLiterature: no visible binding for global variable ‘refs’
findPathwaysByLiterature: no visible binding for global variable
  ‘citations’
findPathwaysByOrcid: no visible binding for global variable ‘orcids’
findPathwaysByText: no visible binding for global variable ‘citedIn’
getOntologyTerms: no visible binding for global variable ‘terms’
getPathwaysByCommunity: no visible binding for global variable
  ‘pathways’
getPathwaysByCommunity: no visible binding for global variable
  ‘community-tag’
getPathwaysByOntologyTerm: no visible binding for global variable
  ‘pathways’
getPathwaysByParentOntologyTerm: no visible binding for global variable
  ‘terms’
getPathwaysByParentOntologyTerm: no visible binding for global variable
  ‘terms_parent’
getRecentChanges: no visible binding for global variable ‘revision’
getRecentChanges: no visible binding for global variable ‘revision_ymd’
getRecentChanges: no visible binding for global variable ‘authors’
getRecentChanges: no visible binding for global variable ‘description’
getRecentChanges: no visible binding for global variable ‘citedIn’
listCommunities: no visible binding for global variable ‘pathways’
listPathways: no visible binding for global variable ‘species’
readPathwayGMT: no visible binding for global variable ‘pathway’
Undefined global functions or variables:
  authors citations citedIn community-tag description orcids pathway
  pathways refs revision revision_ymd species terms terms_parent
Consider adding
  importFrom("stats", "terms")
to your NAMESPACE file.
* checking Rd files ... OK
* checking Rd metadata ... OK
* checking Rd cross-references ... OK
* checking for missing documentation entries ... OK
* checking for code/documentation mismatches ... OK
* checking Rd \usage sections ... OK
* checking Rd contents ... OK
* checking for unstated dependencies in examples ... OK
* checking files in ‘vignettes’ ... OK
* checking examples ... OK
Examples with CPU (user + system) or elapsed time > 5s
                              user system elapsed
findPathwaysByLiterature     9.543  0.134  10.076
findPathwayUrlsByLiterature  7.290  0.116   7.704
findPathwayIdsByLiterature   7.016  0.110   7.583
findPathwayNamesByLiterature 6.978  0.124   7.396
* checking for unstated dependencies in ‘tests’ ... OK
* checking tests ...
  Running ‘testthat.R’
 OK
* checking for unstated dependencies in vignettes ... OK
* checking package vignettes ... OK
* checking running R code from vignettes ... SKIPPED
* checking re-building of vignette outputs ... SKIPPED
* checking PDF version of manual ... OK
* DONE

Status: 3 NOTEs
See
  ‘/Users/biocbuild/bbs-3.23-bioc/meat/rWikiPathways.Rcheck/00check.log’
for details.


Installation output

rWikiPathways.Rcheck/00install.out

##############################################################################
##############################################################################
###
### Running command:
###
###   /Library/Frameworks/R.framework/Resources/bin/R CMD INSTALL rWikiPathways
###
##############################################################################
##############################################################################


* installing to library ‘/Library/Frameworks/R.framework/Versions/4.6-x86_64/Resources/library’
* installing *source* package ‘rWikiPathways’ ...
** this is package ‘rWikiPathways’ version ‘1.31.0’
** using staged installation
** R
** inst
** byte-compile and prepare package for lazy loading
** help
*** installing help indices
** building package indices
** installing vignettes
** testing if installed package can be loaded from temporary location
** testing if installed package can be loaded from final location
** testing if installed package keeps a record of temporary installation path
* DONE (rWikiPathways)

Tests output

rWikiPathways.Rcheck/tests/testthat.Rout


R Under development (unstable) (2025-10-21 r88958) -- "Unsuffered Consequences"
Copyright (C) 2025 The R Foundation for Statistical Computing
Platform: x86_64-apple-darwin20

R is free software and comes with ABSOLUTELY NO WARRANTY.
You are welcome to redistribute it under certain conditions.
Type 'license()' or 'licence()' for distribution details.

R is a collaborative project with many contributors.
Type 'contributors()' for more information and
'citation()' on how to cite R or R packages in publications.

Type 'demo()' for some demos, 'help()' for on-line help, or
'help.start()' for an HTML browser interface to help.
Type 'q()' to quit R.

> library(testthat)
> library(rWikiPathways)
> 
> test_check("rWikiPathways")
[ FAIL 0 | WARN 1 | SKIP 0 | PASS 26 ]

[ FAIL 0 | WARN 1 | SKIP 0 | PASS 26 ]
> 
> proc.time()
   user  system elapsed 
 23.320   0.721  26.233 

Example timings

rWikiPathways.Rcheck/rWikiPathways-Ex.timings

nameusersystemelapsed
downloadPathwayArchive000
findPathwayIDsByOrcid0.4030.0210.784
findPathwayIdsByLiterature7.0160.1107.583
findPathwayIdsByText2.4850.0292.680
findPathwayIdsByXref1.3220.0491.712
findPathwayNamesByLiterature6.9780.1247.396
findPathwayNamesByOrcid0.3770.0110.465
findPathwayNamesByText2.4160.0302.552
findPathwayNamesByXref1.2800.0301.405
findPathwayUrlsByLiterature7.2900.1167.704
findPathwayUrlsByOrcid0.3780.0090.485
findPathwayUrlsByText2.3300.0262.454
findPathwayUrlsByXref1.0440.0241.159
findPathwaysByLiterature 9.543 0.13410.076
findPathwaysByOrcid0.4310.0140.517
findPathwaysByText2.9570.0543.203
findPathwaysByXref1.2320.0321.373
getCounts0.0160.0020.076
getCurationStatus0.0160.0030.076
getOntologyTermIds1.3340.0161.470
getOntologyTermNames1.1350.0111.228
getOntologyTerms1.2270.0131.329
getPathway0.0440.0060.117
getPathwayHistory000
getPathwayIdsByCommunity0.1950.0060.293
getPathwayIdsByOntologyTerm0.1550.0050.249
getPathwayIdsByParentOntologyTerm1.2140.0111.305
getPathwayInfo0.3360.0080.474
getPathwayNamesByCommunity0.2210.0060.306
getPathwayUrlsByCommunity0.2180.0060.295
getPathwaysByCommunity0.2040.0050.280
getPathwaysByOntologyTerm0.2650.0070.590
getPathwaysByParentOntologyTerm1.1370.0391.265
getRecentChanges0.6180.0760.776
getRecentChangesIds0.2950.0150.399
getRecentChangesNames0.3130.0320.411
getXrefList0.3500.0450.468
listCommunities0.2130.0070.294
listOrganisms0.0130.0020.094
listPathwayIds0.2450.0070.344
listPathwayNames0.2000.0080.293
listPathwayUrls0.2210.0070.314
listPathways0.2210.0140.303
readGMT000
readGMTnames000
readPathwayGMT000
writeGMT000